BEGIN:VCALENDAR
VERSION:2.0
PRODID:-//Up-Beat First Aid &amp; Safety Training Ltd. - ECPv6.15.20//NONSGML v1.0//EN
CALSCALE:GREGORIAN
METHOD:PUBLISH
X-ORIGINAL-URL:https://up-beatfirstaid.ca
X-WR-CALDESC:Events for Up-Beat First Aid &amp; Safety Training Ltd.
REFRESH-INTERVAL;VALUE=DURATION:PT1H
X-Robots-Tag:noindex
X-PUBLISHED-TTL:PT1H
BEGIN:VTIMEZONE
TZID:America/Dawson_Creek
BEGIN:STANDARD
TZOFFSETFROM:-0700
TZOFFSETTO:-0700
TZNAME:MST
DTSTART:20190101T000000
END:STANDARD
END:VTIMEZONE
BEGIN:VEVENT
DTSTART;TZID=America/Dawson_Creek:20200710T080000
DTEND;TZID=America/Dawson_Creek:20200710T160000
DTSTAMP:20260425T093341
CREATED:20200703T052934Z
LAST-MODIFIED:20200703T055014Z
UID:1835-1594368000-1594396800@up-beatfirstaid.ca
SUMMARY:Transportation Endorsement Chetwynd
DESCRIPTION:
URL:https://up-beatfirstaid.ca/event/transportation-endorsement/
LOCATION:Up-Beat First Aid Chetwynd\, 4717 – 51 St\, Chetwynd\, British Columbia\, V0C 1J0\, Canada
CATEGORIES:Transportation Endorsement (TE)
ORGANIZER;CN="Up-Beat First Aid & Safety Training":MAILTO:up-beat@live.ca
END:VEVENT
BEGIN:VEVENT
DTSTART;TZID=America/Dawson_Creek:20200710T163000
DTEND;TZID=America/Dawson_Creek:20200710T213000
DTSTAMP:20260425T093341
CREATED:20200705T054026Z
LAST-MODIFIED:20200705T054026Z
UID:1912-1594398600-1594416600@up-beatfirstaid.ca
SUMMARY:Red Cross SFA Blended Practical Skills
DESCRIPTION:
URL:https://up-beatfirstaid.ca/event/red-cross-sfa-blended-practical-skills/
LOCATION:British Columbia\, Canada
CATEGORIES:Blended SFA & CPR C
ORGANIZER;CN="Up-Beat First Aid & Safety Training":MAILTO:up-beat@live.ca
END:VEVENT
END:VCALENDAR