BEGIN:VCALENDAR
VERSION:2.0
PRODID:-//Up-Beat First Aid &amp; Safety Training Ltd. - ECPv6.15.20//NONSGML v1.0//EN
CALSCALE:GREGORIAN
METHOD:PUBLISH
X-ORIGINAL-URL:https://up-beatfirstaid.ca
X-WR-CALDESC:Events for Up-Beat First Aid &amp; Safety Training Ltd.
REFRESH-INTERVAL;VALUE=DURATION:PT1H
X-Robots-Tag:noindex
X-PUBLISHED-TTL:PT1H
BEGIN:VTIMEZONE
TZID:America/Dawson_Creek
BEGIN:STANDARD
TZOFFSETFROM:-0700
TZOFFSETTO:-0700
TZNAME:MST
DTSTART:20190101T000000
END:STANDARD
END:VTIMEZONE
BEGIN:VEVENT
DTSTART;TZID=America/Dawson_Creek:20200716T080000
DTEND;TZID=America/Dawson_Creek:20200716T170000
DTSTAMP:20260425T093341
CREATED:20200713T174419Z
LAST-MODIFIED:20200713T174419Z
UID:1960-1594886400-1594918800@up-beatfirstaid.ca
SUMMARY:Workplace Standard 1st Aid Day 2 Chetwynd
DESCRIPTION:
URL:https://up-beatfirstaid.ca/event/workplace-standard-1st-aid-day-2-chetwynd/
LOCATION:Up-Beat First Aid Chetwynd\, 4717 – 51 St\, Chetwynd\, British Columbia\, V0C 1J0\, Canada
CATEGORIES:Standard First Aid
ORGANIZER;CN="Up-Beat First Aid & Safety Training":MAILTO:up-beat@live.ca
END:VEVENT
BEGIN:VEVENT
DTSTART;TZID=America/Dawson_Creek:20200716T083000
DTEND;TZID=America/Dawson_Creek:20200716T160000
DTSTAMP:20260425T093341
CREATED:20200614T211908Z
LAST-MODIFIED:20200703T051321Z
UID:1802-1594888200-1594915200@up-beatfirstaid.ca
SUMMARY:H2S Alive Dawson Creek
DESCRIPTION:
URL:https://up-beatfirstaid.ca/event/h2s-alive-dawson-creek-4/
LOCATION:British Columbia\, Canada
CATEGORIES:H2S Alive
ORGANIZER;CN="Up-Beat First Aid & Safety Training":MAILTO:up-beat@live.ca
END:VEVENT
BEGIN:VEVENT
DTSTART;TZID=America/Dawson_Creek:20200716T163000
DTEND;TZID=America/Dawson_Creek:20200716T213000
DTSTAMP:20260425T093341
CREATED:20200712T050412Z
LAST-MODIFIED:20200712T050412Z
UID:1954-1594917000-1594935000@up-beatfirstaid.ca
SUMMARY:Blended SFA/EFA Practical Skills Dawson Creek
DESCRIPTION:
URL:https://up-beatfirstaid.ca/event/blended-sfa-efa-practical-skills-dawson-creek/
LOCATION:British Columbia\, Canada
CATEGORIES:Blended SFA & CPR C
ORGANIZER;CN="Up-Beat First Aid & Safety Training":MAILTO:up-beat@live.ca
END:VEVENT
END:VCALENDAR