BEGIN:VCALENDAR
VERSION:2.0
PRODID:-//Up-Beat First Aid &amp; Safety Training Ltd. - ECPv6.15.20//NONSGML v1.0//EN
CALSCALE:GREGORIAN
METHOD:PUBLISH
X-WR-CALNAME:Up-Beat First Aid &amp; Safety Training Ltd.
X-ORIGINAL-URL:https://up-beatfirstaid.ca
X-WR-CALDESC:Events for Up-Beat First Aid &amp; Safety Training Ltd.
REFRESH-INTERVAL;VALUE=DURATION:PT1H
X-Robots-Tag:noindex
X-PUBLISHED-TTL:PT1H
BEGIN:VTIMEZONE
TZID:America/Dawson_Creek
BEGIN:STANDARD
TZOFFSETFROM:-0700
TZOFFSETTO:-0700
TZNAME:MST
DTSTART:20190101T000000
END:STANDARD
END:VTIMEZONE
BEGIN:VEVENT
DTSTART;TZID=America/Dawson_Creek:20200914T090000
DTEND;TZID=America/Dawson_Creek:20200918T170000
DTSTAMP:20260424T170251
CREATED:20200812T051918Z
LAST-MODIFIED:20200812T051918Z
UID:2015-1600074000-1600448400@up-beatfirstaid.ca
SUMMARY:EMR Dawson Creek
DESCRIPTION:
URL:https://up-beatfirstaid.ca/event/emr-dawson-creek/
LOCATION:Up-Beat First Aid Dawson Creek NEW\, 11000 8th Street\, Dawson Creek\, British Columbia\, V1G 4K6\, Canada
CATEGORIES:Emergency Medical Responder
ORGANIZER;CN="Up-Beat First Aid & Safety Training":MAILTO:up-beat@live.ca
END:VEVENT
BEGIN:VEVENT
DTSTART;TZID=America/Dawson_Creek:20200917T090000
DTEND;TZID=America/Dawson_Creek:20200917T170000
DTSTAMP:20260424T170251
CREATED:20200812T052648Z
LAST-MODIFIED:20200916T215540Z
UID:2026-1600333200-1600362000@up-beatfirstaid.ca
SUMMARY:H2S Dawson Creek
DESCRIPTION:
URL:https://up-beatfirstaid.ca/event/h2s-dawson-creek-2/
LOCATION:Up-Beat First Aid Dawson Creek NEW\, 11000 8th Street\, Dawson Creek\, British Columbia\, V1G 4K6\, Canada
CATEGORIES:H2S Alive
ORGANIZER;CN="Up-Beat First Aid & Safety Training":MAILTO:up-beat@live.ca
END:VEVENT
BEGIN:VEVENT
DTSTART;TZID=America/Dawson_Creek:20200917T163000
DTEND;TZID=America/Dawson_Creek:20200917T213000
DTSTAMP:20260424T170251
CREATED:20200812T155849Z
LAST-MODIFIED:20200812T155849Z
UID:2104-1600360200-1600378200@up-beatfirstaid.ca
SUMMARY:Blended Red Cross SFA/EFA Dawson Creek
DESCRIPTION:
URL:https://up-beatfirstaid.ca/event/blended-red-cross-sfa-efa-dawson-creek/
LOCATION:British Columbia\, Canada
CATEGORIES:Blended SFA & CPR C
ORGANIZER;CN="Up-Beat First Aid & Safety Training":MAILTO:up-beat@live.ca
END:VEVENT
END:VCALENDAR