BEGIN:VCALENDAR
VERSION:2.0
PRODID:-//Up-Beat First Aid &amp; Safety Training Ltd. - ECPv6.15.20//NONSGML v1.0//EN
CALSCALE:GREGORIAN
METHOD:PUBLISH
X-ORIGINAL-URL:https://up-beatfirstaid.ca
X-WR-CALDESC:Events for Up-Beat First Aid &amp; Safety Training Ltd.
REFRESH-INTERVAL;VALUE=DURATION:PT1H
X-Robots-Tag:noindex
X-PUBLISHED-TTL:PT1H
BEGIN:VTIMEZONE
TZID:America/Dawson_Creek
BEGIN:STANDARD
TZOFFSETFROM:-0700
TZOFFSETTO:-0700
TZNAME:MST
DTSTART:20210101T000000
END:STANDARD
END:VTIMEZONE
BEGIN:VEVENT
DTSTART;TZID=America/Dawson_Creek:20220124T083000
DTEND;TZID=America/Dawson_Creek:20220128T170000
DTSTAMP:20260422T014456
CREATED:20211118T200345Z
LAST-MODIFIED:20211118T200345Z
UID:3885-1643013000-1643389200@up-beatfirstaid.ca
SUMMARY:OFA 3 - Dawson Creek
DESCRIPTION:
URL:https://up-beatfirstaid.ca/event/ofa-3-dawson-creek-9/
LOCATION:Up-Beat First Aid Dawson Creek NEW\, 11000 8th Street\, Dawson Creek\, British Columbia\, V1G 4K6\, Canada
CATEGORIES:OFA3
ORGANIZER;CN="Up-Beat First Aid & Safety Training":MAILTO:up-beat@live.ca
END:VEVENT
BEGIN:VEVENT
DTSTART;TZID=America/Dawson_Creek:20220125T093000
DTEND;TZID=America/Dawson_Creek:20220125T170000
DTSTAMP:20260422T014456
CREATED:20211119T202400Z
LAST-MODIFIED:20220124T212134Z
UID:3927-1643103000-1643130000@up-beatfirstaid.ca
SUMMARY:Workplace Emergency First Aid - OFA 1 Equivalent - Dawson Creek
DESCRIPTION:
URL:https://up-beatfirstaid.ca/event/workplace-emergency-first-aid-ofa-1-equivalent-dawson-creek-18/
LOCATION:Up-Beat First Aid Dawson Creek NEW\, 11000 8th Street\, Dawson Creek\, British Columbia\, V1G 4K6\, Canada
CATEGORIES:Emergency First Aid (EFA),OFA1,Workplace Emergency 1st Aid
ORGANIZER;CN="Up-Beat First Aid & Safety Training":MAILTO:up-beat@live.ca
END:VEVENT
BEGIN:VEVENT
DTSTART;TZID=America/Dawson_Creek:20220125T093000
DTEND;TZID=America/Dawson_Creek:20220126T043000
DTSTAMP:20260422T014456
CREATED:20211119T203058Z
LAST-MODIFIED:20220124T212223Z
UID:3942-1643103000-1643171400@up-beatfirstaid.ca
SUMMARY:Standard First Aid & CPR C
DESCRIPTION:
URL:https://up-beatfirstaid.ca/event/standard-first-aid-cpr-c-8/
LOCATION:Up-Beat First Aid Dawson Creek NEW\, 11000 8th Street\, Dawson Creek\, British Columbia\, V1G 4K6\, Canada
CATEGORIES:Standard First Aid
ORGANIZER;CN="Up-Beat First Aid & Safety Training":MAILTO:up-beat@live.ca
END:VEVENT
END:VCALENDAR