BEGIN:VCALENDAR
VERSION:2.0
PRODID:-//Up-Beat First Aid &amp; Safety Training Ltd. - ECPv6.15.20//NONSGML v1.0//EN
CALSCALE:GREGORIAN
METHOD:PUBLISH
X-ORIGINAL-URL:https://up-beatfirstaid.ca
X-WR-CALDESC:Events for Up-Beat First Aid &amp; Safety Training Ltd.
REFRESH-INTERVAL;VALUE=DURATION:PT1H
X-Robots-Tag:noindex
X-PUBLISHED-TTL:PT1H
BEGIN:VTIMEZONE
TZID:America/Dawson_Creek
BEGIN:STANDARD
TZOFFSETFROM:-0700
TZOFFSETTO:-0700
TZNAME:MST
DTSTART:20210101T000000
END:STANDARD
END:VTIMEZONE
BEGIN:VEVENT
DTSTART;TZID=America/Dawson_Creek:20220926T083000
DTEND;TZID=America/Dawson_Creek:20220930T170000
DTSTAMP:20260421T122301
CREATED:20220712T180352Z
LAST-MODIFIED:20220712T180352Z
UID:6663-1664181000-1664557200@up-beatfirstaid.ca
SUMMARY:Occupational First Aid Level 3 - Dawson Creek
DESCRIPTION:This course is two weeks long\, running on Sept. 19- 30\, Monday – Friday \nTo register please call 250-795-2776
URL:https://up-beatfirstaid.ca/event/occupational-first-aid-level-3-dawson-creek-2/
LOCATION:Up-Beat First Aid Dawson Creek NEW\, 11000 8th Street\, Dawson Creek\, British Columbia\, V1G 4K6\, Canada
CATEGORIES:OFA3
ORGANIZER;CN="Up-Beat First Aid & Safety Training":MAILTO:up-beat@live.ca
END:VEVENT
BEGIN:VEVENT
DTSTART;TZID=America/Dawson_Creek:20220927T083000
DTEND;TZID=America/Dawson_Creek:20220927T170000
DTSTAMP:20260421T122301
CREATED:20220712T170226Z
LAST-MODIFIED:20220926T161406Z
UID:6631-1664267400-1664298000@up-beatfirstaid.ca
SUMMARY:Level 1 First Aid - Dawson Creek
DESCRIPTION:WorkPlace Emergency First Aid – OFA 1 Equivalent
URL:https://up-beatfirstaid.ca/event/level-1-first-aid-dawson-creek-33/
LOCATION:Up-Beat First Aid Dawson Creek NEW\, 11000 8th Street\, Dawson Creek\, British Columbia\, V1G 4K6\, Canada
CATEGORIES:Emergency First Aid (EFA),OFA1
ORGANIZER;CN="Up-Beat First Aid & Safety Training":MAILTO:up-beat@live.ca
END:VEVENT
BEGIN:VEVENT
DTSTART;TZID=America/Dawson_Creek:20220927T083000
DTEND;TZID=America/Dawson_Creek:20220928T170000
DTSTAMP:20260421T122301
CREATED:20220712T172549Z
LAST-MODIFIED:20220919T211044Z
UID:6643-1664267400-1664384400@up-beatfirstaid.ca
SUMMARY:Standard First Aid-Dawson Creek
DESCRIPTION:
URL:https://up-beatfirstaid.ca/event/standard-first-aid-dawson-creek-30/
LOCATION:Up-Beat First Aid Dawson Creek NEW\, 11000 8th Street\, Dawson Creek\, British Columbia\, V1G 4K6\, Canada
CATEGORIES:CPR C,Standard First Aid
ORGANIZER;CN="Up-Beat First Aid & Safety Training":MAILTO:up-beat@live.ca
END:VEVENT
END:VCALENDAR