BEGIN:VCALENDAR
VERSION:2.0
PRODID:-//Up-Beat First Aid &amp; Safety Training Ltd. - ECPv6.15.20//NONSGML v1.0//EN
CALSCALE:GREGORIAN
METHOD:PUBLISH
X-ORIGINAL-URL:https://up-beatfirstaid.ca
X-WR-CALDESC:Events for Up-Beat First Aid &amp; Safety Training Ltd.
REFRESH-INTERVAL;VALUE=DURATION:PT1H
X-Robots-Tag:noindex
X-PUBLISHED-TTL:PT1H
BEGIN:VTIMEZONE
TZID:America/Dawson_Creek
BEGIN:STANDARD
TZOFFSETFROM:-0700
TZOFFSETTO:-0700
TZNAME:MST
DTSTART:20230101T000000
END:STANDARD
END:VTIMEZONE
BEGIN:VEVENT
DTSTART;TZID=America/Dawson_Creek:20240916T083000
DTEND;TZID=America/Dawson_Creek:20240927T163000
DTSTAMP:20260420T115248
CREATED:20240809T151427Z
LAST-MODIFIED:20240815T204715Z
UID:9993-1726475400-1727454600@up-beatfirstaid.ca
SUMMARY:Occupational First Aid Level 3 (OFA3)-Dawson Creek
DESCRIPTION:The Occupational First Aid Level 3 is a two-week course held from Monday to Friday\, running from 8:30 am to 4:30 pm. \nSep 16-27 \n*While there is no prerequisite for enrollment\, having completed Level 1 First Aid or Transportation Endorsement would be beneficial for participants. \nCost of the course is $1250 + 250 for the manuals \nTo register\, please contact us at 250-795-2776 or admin@up-beatfirstaid.com
URL:https://up-beatfirstaid.ca/event/occupational-first-aid-level-3-ofa3-dawson-creek-4/
LOCATION:Up-Beat First Aid Dawson Creek NEW\, 11000 8th Street\, Dawson Creek\, British Columbia\, V1G 4K6\, Canada
CATEGORIES:OFA3
ORGANIZER;CN="Up-Beat First Aid & Safety Training":MAILTO:up-beat@live.ca
END:VEVENT
BEGIN:VEVENT
DTSTART;TZID=America/Dawson_Creek:20240919T091500
DTEND;TZID=America/Dawson_Creek:20240919T170000
DTSTAMP:20260420T115248
CREATED:20240808T221548Z
LAST-MODIFIED:20240808T221548Z
UID:9968-1726737300-1726765200@up-beatfirstaid.ca
SUMMARY:Level 1 First Aid – Dawson Creek
DESCRIPTION:WorkPlace Emergency First Aid – OFA 1 Equivalent
URL:https://up-beatfirstaid.ca/event/level-1-first-aid-dawson-creek-185/
LOCATION:Up-Beat First Aid Dawson Creek NEW\, 11000 8th Street\, Dawson Creek\, British Columbia\, V1G 4K6\, Canada
CATEGORIES:Emergency First Aid (EFA),OFA1
ORGANIZER;CN="Up-Beat First Aid & Safety Training":MAILTO:up-beat@live.ca
END:VEVENT
BEGIN:VEVENT
DTSTART;TZID=America/Dawson_Creek:20240919T091500
DTEND;TZID=America/Dawson_Creek:20240920T163000
DTSTAMP:20260420T115248
CREATED:20240808T204147Z
LAST-MODIFIED:20240809T203332Z
UID:9941-1726737300-1726849800@up-beatfirstaid.ca
SUMMARY:Emergency Medical Responder Licensing Update
DESCRIPTION:  \nDuration: \n4-hour online component \n16-hour skill endorsement \nThe Red Cross scope expansion covers administration of new drugs under EMA licensing board. This is a 16 hours face to face heavily based on new protocols and skills assessment. \nCovers: \n\nAdministration of Intra-Muscular Epinephrin protocol\nAdministration of Nebulize Salbutamol protocol\nAdministration of Glucagon protocol\nWound packing and management\n\n  \nPre-requisite: EMR certificate or license. \nThis certification is acknowledged by BCEMALB as proof that the holder has completed Schedule 1 and Schedule 2 requirements.
URL:https://up-beatfirstaid.ca/event/emergency-medical-responder-licensing-update-4/
LOCATION:British Columbia
CATEGORIES:Emergency Medical Responder
END:VEVENT
END:VCALENDAR