BEGIN:VCALENDAR
VERSION:2.0
PRODID:-//Up-Beat First Aid &amp; Safety Training Ltd. - ECPv6.15.20//NONSGML v1.0//EN
CALSCALE:GREGORIAN
METHOD:PUBLISH
X-ORIGINAL-URL:https://up-beatfirstaid.ca
X-WR-CALDESC:Events for Up-Beat First Aid &amp; Safety Training Ltd.
REFRESH-INTERVAL;VALUE=DURATION:PT1H
X-Robots-Tag:noindex
X-PUBLISHED-TTL:PT1H
BEGIN:VTIMEZONE
TZID:America/Dawson_Creek
BEGIN:STANDARD
TZOFFSETFROM:-0700
TZOFFSETTO:-0700
TZNAME:MST
DTSTART:20230101T000000
END:STANDARD
END:VTIMEZONE
BEGIN:VEVENT
DTSTART;TZID=America/Dawson_Creek:20240930T083000
DTEND;TZID=America/Dawson_Creek:20240930T163000
DTSTAMP:20260420T102938
CREATED:20240808T213935Z
LAST-MODIFIED:20240808T214013Z
UID:9952-1727685000-1727713800@up-beatfirstaid.ca
SUMMARY:H2S Alive - Dawson Creek
DESCRIPTION:Energy Safety Canada- H2S Alive \nThe aim of this course is to provide all Petroleum Industry workers with the knowledge and skills necessary to recognize and respond to Hydrogen Sulphide (H2S) emergencies. \nPROGRAM CONTENT\nAreas of study will include the following: \n\nH2S properties; initial response strategy\nRespiratory Protective Equipment\nDetection of H2S\nRescue Techniques\nCase Studies\n\nPractical training will be conducted in the following subjects: \n\nSelf-Contained Breathing Apparatus (SCBA)\nSupplied Air Breathing Apparatus (on request)\nGas Detection\nRescue Techniques\n\nDURATION \nEight (8) hours.
URL:https://up-beatfirstaid.ca/event/h2s-alive-dawson-creek-167/
LOCATION:Up-Beat First Aid Dawson Creek NEW\, 11000 8th Street\, Dawson Creek\, British Columbia\, V1G 4K6\, Canada
CATEGORIES:H2S Alive
ORGANIZER;CN="Up-Beat First Aid & Safety Training":MAILTO:up-beat@live.ca
END:VEVENT
BEGIN:VEVENT
DTSTART;TZID=America/Dawson_Creek:20240930T091500
DTEND;TZID=America/Dawson_Creek:20241011T170000
DTSTAMP:20260420T102938
CREATED:20240405T223606Z
LAST-MODIFIED:20240815T204030Z
UID:9510-1727687700-1728666000@up-beatfirstaid.ca
SUMMARY:EMR Bridge
DESCRIPTION:Pre-requisite for this course is a valid OFA3 ticket. \nCost of the course is $1450 + $250 for the manuals \n 
URL:https://up-beatfirstaid.ca/event/emr-bridge-2/
LOCATION:Up-Beat First Aid Dawson Creek NEW\, 11000 8th Street\, Dawson Creek\, British Columbia\, V1G 4K6\, Canada
CATEGORIES:EMR Bridging Course
ORGANIZER;CN="Up-Beat First Aid & Safety Training":MAILTO:up-beat@live.ca
END:VEVENT
END:VCALENDAR