BEGIN:VCALENDAR
VERSION:2.0
PRODID:-//Up-Beat First Aid &amp; Safety Training Ltd. - ECPv6.15.20//NONSGML v1.0//EN
CALSCALE:GREGORIAN
METHOD:PUBLISH
X-WR-CALNAME:Up-Beat First Aid &amp; Safety Training Ltd.
X-ORIGINAL-URL:https://up-beatfirstaid.ca
X-WR-CALDESC:Events for Up-Beat First Aid &amp; Safety Training Ltd.
REFRESH-INTERVAL;VALUE=DURATION:PT1H
X-Robots-Tag:noindex
X-PUBLISHED-TTL:PT1H
BEGIN:VTIMEZONE
TZID:America/Dawson_Creek
BEGIN:STANDARD
TZOFFSETFROM:-0700
TZOFFSETTO:-0700
TZNAME:MST
DTSTART:20240101T000000
END:STANDARD
END:VTIMEZONE
BEGIN:VEVENT
DTSTART;TZID=America/Dawson_Creek:20251105T091500
DTEND;TZID=America/Dawson_Creek:20251106T170000
DTSTAMP:20260420T101853
CREATED:20251021T221530Z
LAST-MODIFIED:20251021T221530Z
UID:11256-1762334100-1762448400@up-beatfirstaid.ca
SUMMARY:Emergency First Aid/Standard First Aid - Dawson Creek BC
DESCRIPTION:
URL:https://up-beatfirstaid.ca/event/emergency-first-aid-standard-first-aid-dawson-creek-bc-22/
LOCATION:Up-Beat First Aid Dawson Creek NEW\, 11000 8th Street\, Dawson Creek\, British Columbia\, V1G 4K6\, Canada
CATEGORIES:Standard First Aid
ORGANIZER;CN="Up-Beat First Aid & Safety Training":MAILTO:up-beat@live.ca
END:VEVENT
BEGIN:VEVENT
DTSTART;TZID=America/Dawson_Creek:20251106T080000
DTEND;TZID=America/Dawson_Creek:20251106T160000
DTSTAMP:20260420T101853
CREATED:20251007T182721Z
LAST-MODIFIED:20251007T182721Z
UID:11222-1762416000-1762444800@up-beatfirstaid.ca
SUMMARY:Emergency First Aid – Chetwynd
DESCRIPTION:WorkPlace Emergency First Aid – OFA 1 Equivalent
URL:https://up-beatfirstaid.ca/event/emergency-first-aid-chetwynd-21/
LOCATION:Up-Beat First Aid Chetwynd\, 4717 – 51 St\, Chetwynd\, British Columbia\, V0C 1J0\, Canada
CATEGORIES:Emergency First Aid (EFA),OFA1
ORGANIZER;CN="Up-Beat First Aid & Safety Training":MAILTO:up-beat@live.ca
END:VEVENT
BEGIN:VEVENT
DTSTART;TZID=America/Dawson_Creek:20251106T091500
DTEND;TZID=America/Dawson_Creek:20251106T170000
DTSTAMP:20260420T101853
CREATED:20250904T164849Z
LAST-MODIFIED:20251022T175458Z
UID:11208-1762420500-1762448400@up-beatfirstaid.ca
SUMMARY:Transportation Endorsement - Dawson Creek
DESCRIPTION:
URL:https://up-beatfirstaid.ca/event/transportation-endorsement-dawson-creek-40/
LOCATION:Up-Beat First Aid Dawson Creek NEW\, 11000 8th Street\, Dawson Creek\, British Columbia\, V1G 4K6\, Canada
CATEGORIES:Transportation Endorsement (TE)
ORGANIZER;CN="Up-Beat First Aid & Safety Training":MAILTO:up-beat@live.ca
END:VEVENT
END:VCALENDAR