BEGIN:VCALENDAR
VERSION:2.0
PRODID:-//Up-Beat First Aid &amp; Safety Training Ltd. - ECPv6.15.20//NONSGML v1.0//EN
CALSCALE:GREGORIAN
METHOD:PUBLISH
X-WR-CALNAME:Up-Beat First Aid &amp; Safety Training Ltd.
X-ORIGINAL-URL:https://up-beatfirstaid.ca
X-WR-CALDESC:Events for Up-Beat First Aid &amp; Safety Training Ltd.
REFRESH-INTERVAL;VALUE=DURATION:PT1H
X-Robots-Tag:noindex
X-PUBLISHED-TTL:PT1H
BEGIN:VTIMEZONE
TZID:America/Dawson_Creek
BEGIN:STANDARD
TZOFFSETFROM:-0700
TZOFFSETTO:-0700
TZNAME:MST
DTSTART:20190101T000000
END:STANDARD
END:VTIMEZONE
BEGIN:VEVENT
DTSTART;TZID=America/Dawson_Creek:20231028T080000
DTEND;TZID=America/Dawson_Creek:20231028T160000
DTSTAMP:20260421T054041
CREATED:20230920T195106Z
LAST-MODIFIED:20230920T195106Z
UID:8640-1698480000-1698508800@up-beatfirstaid.ca
SUMMARY:Blended Standard First Aid - Chetwynd
DESCRIPTION:
URL:https://up-beatfirstaid.ca/event/blended-standard-first-aid-chetwynd/
LOCATION:Up-Beat First Aid Chetwynd\, 4717 – 51 St\, Chetwynd\, British Columbia\, V0C 1J0\, Canada
CATEGORIES:Blended SFA & CPR C,Standard First Aid
ORGANIZER;CN="Up-Beat First Aid & Safety Training":MAILTO:up-beat@live.ca
END:VEVENT
BEGIN:VEVENT
DTSTART;TZID=America/Dawson_Creek:20210605T091500
DTEND;TZID=America/Dawson_Creek:20210605T091500
DTSTAMP:20260421T054041
CREATED:20210423T185800Z
LAST-MODIFIED:20210526T220405Z
UID:3061-1622884500-1622884500@up-beatfirstaid.ca
SUMMARY:Blended Practical First Aid - Dawson Creek
DESCRIPTION:
URL:https://up-beatfirstaid.ca/event/blended-practical-first-aid-dawson-creek-6/
LOCATION:Up-Beat First Aid Dawson Creek NEW\, 11000 8th Street\, Dawson Creek\, British Columbia\, V1G 4K6\, Canada
CATEGORIES:Blended EFA & CPR C,Blended SFA & CPR C
ORGANIZER;CN="Up-Beat First Aid & Safety Training":MAILTO:up-beat@live.ca
END:VEVENT
BEGIN:VEVENT
DTSTART;TZID=America/Dawson_Creek:20210529T091500
DTEND;TZID=America/Dawson_Creek:20210529T091500
DTSTAMP:20260421T054041
CREATED:20210323T204526Z
LAST-MODIFIED:20210323T204535Z
UID:2925-1622279700-1622279700@up-beatfirstaid.ca
SUMMARY:Blended Practical First Aid - Dawson Creek
DESCRIPTION:
URL:https://up-beatfirstaid.ca/event/blended-practical-first-aid-dawson-creek-3/
LOCATION:Up-Beat First Aid Dawson Creek NEW\, 11000 8th Street\, Dawson Creek\, British Columbia\, V1G 4K6\, Canada
CATEGORIES:Blended EFA & CPR C,Blended SFA & CPR C
ORGANIZER;CN="Up-Beat First Aid & Safety Training":MAILTO:up-beat@live.ca
END:VEVENT
BEGIN:VEVENT
DTSTART;TZID=America/Dawson_Creek:20210519T091500
DTEND;TZID=America/Dawson_Creek:20210519T091500
DTSTAMP:20260421T054041
CREATED:20210323T204703Z
LAST-MODIFIED:20210323T204703Z
UID:2927-1621415700-1621415700@up-beatfirstaid.ca
SUMMARY:Blended Practical First Aid - Dawson Creek
DESCRIPTION:
URL:https://up-beatfirstaid.ca/event/blended-practical-first-aid-dawson-creek-4/
LOCATION:Up-Beat First Aid Dawson Creek NEW\, 11000 8th Street\, Dawson Creek\, British Columbia\, V1G 4K6\, Canada
CATEGORIES:Blended EFA & CPR C,Blended SFA & CPR C
ORGANIZER;CN="Up-Beat First Aid & Safety Training":MAILTO:up-beat@live.ca
END:VEVENT
BEGIN:VEVENT
DTSTART;TZID=America/Dawson_Creek:20210515T091500
DTEND;TZID=America/Dawson_Creek:20210515T091500
DTSTAMP:20260421T054041
CREATED:20210323T204508Z
LAST-MODIFIED:20210323T204508Z
UID:2923-1621070100-1621070100@up-beatfirstaid.ca
SUMMARY:Blended Practical First Aid - Dawson Creek
DESCRIPTION:
URL:https://up-beatfirstaid.ca/event/blended-practical-first-aid-dawson-creek-2/
LOCATION:Up-Beat First Aid Dawson Creek NEW\, 11000 8th Street\, Dawson Creek\, British Columbia\, V1G 4K6\, Canada
CATEGORIES:Blended EFA & CPR C,Blended SFA & CPR C
ORGANIZER;CN="Up-Beat First Aid & Safety Training":MAILTO:up-beat@live.ca
END:VEVENT
BEGIN:VEVENT
DTSTART;TZID=America/Dawson_Creek:20200926T090000
DTEND;TZID=America/Dawson_Creek:20200926T140000
DTSTAMP:20260421T054041
CREATED:20200812T160226Z
LAST-MODIFIED:20200812T160226Z
UID:2106-1601110800-1601128800@up-beatfirstaid.ca
SUMMARY:Blended Red Cross SFA/EFA Skills Dawson Creek
DESCRIPTION:
URL:https://up-beatfirstaid.ca/event/blended-red-cross-sfa-efa-skills-dawson-creek/
LOCATION:British Columbia\, Canada
CATEGORIES:Blended SFA & CPR C
ORGANIZER;CN="Up-Beat First Aid & Safety Training":MAILTO:up-beat@live.ca
END:VEVENT
BEGIN:VEVENT
DTSTART;TZID=America/Dawson_Creek:20200917T163000
DTEND;TZID=America/Dawson_Creek:20200917T213000
DTSTAMP:20260421T054041
CREATED:20200812T155849Z
LAST-MODIFIED:20200812T155849Z
UID:2104-1600360200-1600378200@up-beatfirstaid.ca
SUMMARY:Blended Red Cross SFA/EFA Dawson Creek
DESCRIPTION:
URL:https://up-beatfirstaid.ca/event/blended-red-cross-sfa-efa-dawson-creek/
LOCATION:British Columbia\, Canada
CATEGORIES:Blended SFA & CPR C
ORGANIZER;CN="Up-Beat First Aid & Safety Training":MAILTO:up-beat@live.ca
END:VEVENT
BEGIN:VEVENT
DTSTART;TZID=America/Dawson_Creek:20200913T090000
DTEND;TZID=America/Dawson_Creek:20200913T140000
DTSTAMP:20260421T054041
CREATED:20200812T152805Z
LAST-MODIFIED:20200812T152805Z
UID:2086-1599987600-1600005600@up-beatfirstaid.ca
SUMMARY:Blended Red Cross SFA/EFA skills Chetwynd
DESCRIPTION:
URL:https://up-beatfirstaid.ca/event/blended-red-cross-sfa-efa-skills-chetwynd/
LOCATION:British Columbia\, Canada
CATEGORIES:Blended SFA & CPR C
ORGANIZER;CN="Up-Beat First Aid & Safety Training":MAILTO:up-beat@live.ca
END:VEVENT
BEGIN:VEVENT
DTSTART;TZID=America/Dawson_Creek:20200910T043000
DTEND;TZID=America/Dawson_Creek:20200910T213000
DTSTAMP:20260421T054041
CREATED:20200812T152355Z
LAST-MODIFIED:20200812T153626Z
UID:2084-1599712200-1599773400@up-beatfirstaid.ca
SUMMARY:Blended Red Cross SFA/EFA skills Dawson Creek
DESCRIPTION:
URL:https://up-beatfirstaid.ca/event/red-cross-blended-sfa-efa-skills-dawson-creek-2/
LOCATION:British Columbia\, Canada
CATEGORIES:Blended SFA & CPR C
ORGANIZER;CN="Up-Beat First Aid & Safety Training":MAILTO:up-beat@live.ca
END:VEVENT
BEGIN:VEVENT
DTSTART;TZID=America/Dawson_Creek:20200905T090000
DTEND;TZID=America/Dawson_Creek:20200905T140000
DTSTAMP:20260421T054041
CREATED:20200812T152106Z
LAST-MODIFIED:20200812T153654Z
UID:2082-1599296400-1599314400@up-beatfirstaid.ca
SUMMARY:Blended Red Cross SFA/EFA Skills Dawson Creek
DESCRIPTION:
URL:https://up-beatfirstaid.ca/event/red-cross-blended-sfa-efa-skills-dawson-creek/
LOCATION:British Columbia\, Canada
CATEGORIES:Blended SFA & CPR C
ORGANIZER;CN="Up-Beat First Aid & Safety Training":MAILTO:up-beat@live.ca
END:VEVENT
BEGIN:VEVENT
DTSTART;TZID=America/Dawson_Creek:20200830T080000
DTEND;TZID=America/Dawson_Creek:20200830T130000
DTSTAMP:20260421T054041
CREATED:20200705T145513Z
LAST-MODIFIED:20200812T153725Z
UID:1941-1598774400-1598792400@up-beatfirstaid.ca
SUMMARY:Blended Red Cross EFA/SFA Skills Chetwynd
DESCRIPTION:
URL:https://up-beatfirstaid.ca/event/red-cross-blended-efa-sfa-skills-chetwynd-3/
LOCATION:British Columbia\, Canada
CATEGORIES:Blended SFA & CPR C
ORGANIZER;CN="Up-Beat First Aid & Safety Training":MAILTO:up-beat@live.ca
END:VEVENT
BEGIN:VEVENT
DTSTART;TZID=America/Dawson_Creek:20200829T080000
DTEND;TZID=America/Dawson_Creek:20200829T130000
DTSTAMP:20260421T054041
CREATED:20200705T145717Z
LAST-MODIFIED:20200812T153749Z
UID:1943-1598688000-1598706000@up-beatfirstaid.ca
SUMMARY:Blended Red Cross EFA/SFA Skills Dawson Creek
DESCRIPTION:
URL:https://up-beatfirstaid.ca/event/red-cross-blended-efa-sfa-skills-dawson-creek-3/
LOCATION:British Columbia\, Canada
CATEGORIES:Blended SFA & CPR C
ORGANIZER;CN="Up-Beat First Aid & Safety Training":MAILTO:up-beat@live.ca
END:VEVENT
BEGIN:VEVENT
DTSTART;TZID=America/Dawson_Creek:20200821T163000
DTEND;TZID=America/Dawson_Creek:20200821T213000
DTSTAMP:20260421T054041
CREATED:20200705T145224Z
LAST-MODIFIED:20200705T145317Z
UID:1939-1598027400-1598045400@up-beatfirstaid.ca
SUMMARY:Red Cross Blended EFA/SFA Skills Dawson Creek
DESCRIPTION:
URL:https://up-beatfirstaid.ca/event/red-cross-blended-efa-sfa-skills-dawson-creek-2/
LOCATION:British Columbia\, Canada
CATEGORIES:Blended SFA & CPR C
ORGANIZER;CN="Up-Beat First Aid & Safety Training":MAILTO:up-beat@live.ca
END:VEVENT
BEGIN:VEVENT
DTSTART;TZID=America/Dawson_Creek:20200820T170000
DTEND;TZID=America/Dawson_Creek:20200820T213000
DTSTAMP:20260421T054041
CREATED:20200811T054736Z
LAST-MODIFIED:20200812T145559Z
UID:1975-1597942800-1597959000@up-beatfirstaid.ca
SUMMARY:Red Cross Blended SFA Practical skills Dawson Creek
DESCRIPTION:
URL:https://up-beatfirstaid.ca/event/blended-sfa-practical-dawson-creek/
LOCATION:British Columbia\, Canada
CATEGORIES:Blended SFA & CPR C
ORGANIZER;CN="Up-Beat First Aid & Safety Training":MAILTO:up-beat@live.ca
END:VEVENT
BEGIN:VEVENT
DTSTART;TZID=America/Dawson_Creek:20200807T163000
DTEND;TZID=America/Dawson_Creek:20200807T213000
DTSTAMP:20260421T054041
CREATED:20200705T134115Z
LAST-MODIFIED:20200705T134115Z
UID:1926-1596817800-1596835800@up-beatfirstaid.ca
SUMMARY:Red Cross Blended EFA/SFA Skills Dawson Creek
DESCRIPTION:
URL:https://up-beatfirstaid.ca/event/red-cross-blended-efa-sfa-skills-dawson-creek/
LOCATION:British Columbia\, Canada
CATEGORIES:Blended SFA & CPR C
ORGANIZER;CN="Up-Beat First Aid & Safety Training":MAILTO:up-beat@live.ca
END:VEVENT
BEGIN:VEVENT
DTSTART;TZID=America/Dawson_Creek:20200805T083000
DTEND;TZID=America/Dawson_Creek:20200805T150000
DTSTAMP:20260421T054041
CREATED:20200708T191017Z
LAST-MODIFIED:20200708T191017Z
UID:1949-1596616200-1596639600@up-beatfirstaid.ca
SUMMARY:Workplace Standard 1st Aid. Dawson Creek Day 2
DESCRIPTION:
URL:https://up-beatfirstaid.ca/event/workplace-standard-1st-aid-dawson-creek-day-2/
LOCATION:British Columbia\, Canada
CATEGORIES:Blended SFA & CPR C
ORGANIZER;CN="Up-Beat First Aid & Safety Training":MAILTO:up-beat@live.ca
END:VEVENT
BEGIN:VEVENT
DTSTART;TZID=America/Dawson_Creek:20200802T080000
DTEND;TZID=America/Dawson_Creek:20200802T130000
DTSTAMP:20260421T054041
CREATED:20200705T133832Z
LAST-MODIFIED:20200705T133832Z
UID:1923-1596355200-1596373200@up-beatfirstaid.ca
SUMMARY:Red Cross Blended EFA/SFA Skills Chetwynd
DESCRIPTION:
URL:https://up-beatfirstaid.ca/event/red-cross-blended-efa-sfa-skills-chetwynd/
LOCATION:Up-Beat First Aid Chetwynd\, 4717 – 51 St\, Chetwynd\, British Columbia\, V0C 1J0\, Canada
CATEGORIES:Blended SFA & CPR C
ORGANIZER;CN="Up-Beat First Aid & Safety Training":MAILTO:up-beat@live.ca
END:VEVENT
BEGIN:VEVENT
DTSTART;TZID=America/Dawson_Creek:20200716T163000
DTEND;TZID=America/Dawson_Creek:20200716T213000
DTSTAMP:20260421T054041
CREATED:20200712T050412Z
LAST-MODIFIED:20200712T050412Z
UID:1954-1594917000-1594935000@up-beatfirstaid.ca
SUMMARY:Blended SFA/EFA Practical Skills Dawson Creek
DESCRIPTION:
URL:https://up-beatfirstaid.ca/event/blended-sfa-efa-practical-skills-dawson-creek/
LOCATION:British Columbia\, Canada
CATEGORIES:Blended SFA & CPR C
ORGANIZER;CN="Up-Beat First Aid & Safety Training":MAILTO:up-beat@live.ca
END:VEVENT
BEGIN:VEVENT
DTSTART;TZID=America/Dawson_Creek:20200710T163000
DTEND;TZID=America/Dawson_Creek:20200710T213000
DTSTAMP:20260421T054041
CREATED:20200705T054026Z
LAST-MODIFIED:20200705T054026Z
UID:1912-1594398600-1594416600@up-beatfirstaid.ca
SUMMARY:Red Cross SFA Blended Practical Skills
DESCRIPTION:
URL:https://up-beatfirstaid.ca/event/red-cross-sfa-blended-practical-skills/
LOCATION:British Columbia\, Canada
CATEGORIES:Blended SFA & CPR C
ORGANIZER;CN="Up-Beat First Aid & Safety Training":MAILTO:up-beat@live.ca
END:VEVENT
END:VCALENDAR