BEGIN:VCALENDAR
VERSION:2.0
PRODID:-//Up-Beat First Aid &amp; Safety Training Ltd. - ECPv6.15.20//NONSGML v1.0//EN
CALSCALE:GREGORIAN
METHOD:PUBLISH
X-ORIGINAL-URL:https://up-beatfirstaid.ca
X-WR-CALDESC:Events for Up-Beat First Aid &amp; Safety Training Ltd.
REFRESH-INTERVAL;VALUE=DURATION:PT1H
X-Robots-Tag:noindex
X-PUBLISHED-TTL:PT1H
BEGIN:VTIMEZONE
TZID:America/Dawson_Creek
BEGIN:STANDARD
TZOFFSETFROM:-0700
TZOFFSETTO:-0700
TZNAME:MST
DTSTART:20190101T000000
END:STANDARD
END:VTIMEZONE
BEGIN:VEVENT
DTSTART;TZID=America/Dawson_Creek:20200815T090000
DTEND;TZID=America/Dawson_Creek:20200815T150000
DTSTAMP:20260425T074925
CREATED:20200705T134400Z
LAST-MODIFIED:20200811T053619Z
UID:1928-1597482000-1597503600@up-beatfirstaid.ca
SUMMARY:Red Cross BLS  Dawson Creek
DESCRIPTION:
URL:https://up-beatfirstaid.ca/event/red-cross-blended-sfa-bls-dawson-creek-2/
LOCATION:British Columbia\, Canada
CATEGORIES:BLS
ORGANIZER;CN="Up-Beat First Aid & Safety Training":MAILTO:up-beat@live.ca
END:VEVENT
END:VCALENDAR