BEGIN:VCALENDAR
VERSION:2.0
PRODID:-//Up-Beat First Aid &amp; Safety Training Ltd. - ECPv6.15.20//NONSGML v1.0//EN
CALSCALE:GREGORIAN
METHOD:PUBLISH
X-ORIGINAL-URL:https://up-beatfirstaid.ca
X-WR-CALDESC:Events for Up-Beat First Aid &amp; Safety Training Ltd.
REFRESH-INTERVAL;VALUE=DURATION:PT1H
X-Robots-Tag:noindex
X-PUBLISHED-TTL:PT1H
BEGIN:VTIMEZONE
TZID:America/Dawson_Creek
BEGIN:STANDARD
TZOFFSETFROM:-0700
TZOFFSETTO:-0700
TZNAME:MST
DTSTART:20220101T000000
END:STANDARD
END:VTIMEZONE
BEGIN:VEVENT
DTSTART;TZID=America/Dawson_Creek:20230801T090000
DTEND;TZID=America/Dawson_Creek:20230801T170000
DTSTAMP:20260422T014059
CREATED:20230619T202614Z
LAST-MODIFIED:20230619T202614Z
UID:8164-1690880400-1690909200@up-beatfirstaid.ca
SUMMARY:Level 1 First Aid – Dawson Creek
DESCRIPTION:WorkPlace Emergency First Aid – OFA 1 Equivalent
URL:https://up-beatfirstaid.ca/event/level-1-first-aid-dawson-creek-101/
LOCATION:Up-Beat First Aid Dawson Creek NEW\, 11000 8th Street\, Dawson Creek\, British Columbia\, V1G 4K6\, Canada
CATEGORIES:Emergency First Aid (EFA)
ORGANIZER;CN="Up-Beat First Aid & Safety Training":MAILTO:up-beat@live.ca
END:VEVENT
BEGIN:VEVENT
DTSTART;TZID=America/Dawson_Creek:20230803T080000
DTEND;TZID=America/Dawson_Creek:20230803T170000
DTSTAMP:20260422T014059
CREATED:20230724T174823Z
LAST-MODIFIED:20230724T174823Z
UID:8333-1691049600-1691082000@up-beatfirstaid.ca
SUMMARY:Level 1 First Aid – Chetwynd
DESCRIPTION:WorkPlace Emergency First Aid – OFA 1 Equivalent
URL:https://up-beatfirstaid.ca/event/level-1-first-aid-chetwynd-23/
LOCATION:Up-Beat First Aid Chetwynd\, 4717 – 51 St\, Chetwynd\, British Columbia\, V0C 1J0\, Canada
CATEGORIES:Emergency First Aid (EFA)
ORGANIZER;CN="Up-Beat First Aid & Safety Training":MAILTO:up-beat@live.ca
END:VEVENT
BEGIN:VEVENT
DTSTART;TZID=America/Dawson_Creek:20230804T090000
DTEND;TZID=America/Dawson_Creek:20230804T170000
DTSTAMP:20260422T014059
CREATED:20230619T211503Z
LAST-MODIFIED:20230803T214946Z
UID:8198-1691139600-1691168400@up-beatfirstaid.ca
SUMMARY:Level 1 First Aid – Dawson Creek
DESCRIPTION:WorkPlace Emergency First Aid – OFA 1 Equivalent
URL:https://up-beatfirstaid.ca/event/level-1-first-aid-dawson-creek-106/
LOCATION:Up-Beat First Aid Dawson Creek NEW\, 11000 8th Street\, Dawson Creek\, British Columbia\, V1G 4K6\, Canada
CATEGORIES:Emergency First Aid (EFA)
ORGANIZER;CN="Up-Beat First Aid & Safety Training":MAILTO:up-beat@live.ca
END:VEVENT
BEGIN:VEVENT
DTSTART;TZID=America/Dawson_Creek:20230808T090000
DTEND;TZID=America/Dawson_Creek:20230808T170000
DTSTAMP:20260422T014059
CREATED:20230619T205401Z
LAST-MODIFIED:20230804T230217Z
UID:8167-1691485200-1691514000@up-beatfirstaid.ca
SUMMARY:Level 1 First Aid – Dawson Creek
DESCRIPTION:WorkPlace Emergency First Aid – OFA 1 Equivalent
URL:https://up-beatfirstaid.ca/event/level-1-first-aid-dawson-creek-102/
LOCATION:Up-Beat First Aid Dawson Creek NEW\, 11000 8th Street\, Dawson Creek\, British Columbia\, V1G 4K6\, Canada
CATEGORIES:Emergency First Aid (EFA)
ORGANIZER;CN="Up-Beat First Aid & Safety Training":MAILTO:up-beat@live.ca
END:VEVENT
BEGIN:VEVENT
DTSTART;TZID=America/Dawson_Creek:20230811T090000
DTEND;TZID=America/Dawson_Creek:20230811T170000
DTSTAMP:20260422T014059
CREATED:20230619T211555Z
LAST-MODIFIED:20230619T211555Z
UID:8201-1691744400-1691773200@up-beatfirstaid.ca
SUMMARY:Level 1 First Aid – Dawson Creek
DESCRIPTION:WorkPlace Emergency First Aid – OFA 1 Equivalent
URL:https://up-beatfirstaid.ca/event/level-1-first-aid-dawson-creek-107/
LOCATION:Up-Beat First Aid Dawson Creek NEW\, 11000 8th Street\, Dawson Creek\, British Columbia\, V1G 4K6\, Canada
CATEGORIES:Emergency First Aid (EFA)
ORGANIZER;CN="Up-Beat First Aid & Safety Training":MAILTO:up-beat@live.ca
END:VEVENT
BEGIN:VEVENT
DTSTART;TZID=America/Dawson_Creek:20230815T090000
DTEND;TZID=America/Dawson_Creek:20230815T170000
DTSTAMP:20260422T014059
CREATED:20230619T205455Z
LAST-MODIFIED:20230814T233516Z
UID:8170-1692090000-1692118800@up-beatfirstaid.ca
SUMMARY:Level 1 First Aid – Dawson Creek
DESCRIPTION:WorkPlace Emergency First Aid – OFA 1 Equivalent
URL:https://up-beatfirstaid.ca/event/level-1-first-aid-dawson-creek-103/
LOCATION:Up-Beat First Aid Dawson Creek NEW\, 11000 8th Street\, Dawson Creek\, British Columbia\, V1G 4K6\, Canada
CATEGORIES:Emergency First Aid (EFA)
ORGANIZER;CN="Up-Beat First Aid & Safety Training":MAILTO:up-beat@live.ca
END:VEVENT
BEGIN:VEVENT
DTSTART;TZID=America/Dawson_Creek:20230818T080000
DTEND;TZID=America/Dawson_Creek:20230818T170000
DTSTAMP:20260422T014059
CREATED:20230619T213325Z
LAST-MODIFIED:20230817T225336Z
UID:8220-1692345600-1692378000@up-beatfirstaid.ca
SUMMARY:Level 1 First Aid – Chetwynd
DESCRIPTION:WorkPlace Emergency First Aid – OFA 1 Equivalent
URL:https://up-beatfirstaid.ca/event/level-1-first-aid-chetwynd-24/
LOCATION:Up-Beat First Aid Chetwynd\, 4717 – 51 St\, Chetwynd\, British Columbia\, V0C 1J0\, Canada
CATEGORIES:Emergency First Aid (EFA)
ORGANIZER;CN="Up-Beat First Aid & Safety Training":MAILTO:up-beat@live.ca
END:VEVENT
BEGIN:VEVENT
DTSTART;TZID=America/Dawson_Creek:20230822T090000
DTEND;TZID=America/Dawson_Creek:20230822T170000
DTSTAMP:20260422T014059
CREATED:20230619T205555Z
LAST-MODIFIED:20230821T195130Z
UID:8173-1692694800-1692723600@up-beatfirstaid.ca
SUMMARY:Level 1 First Aid – Dawson Creek
DESCRIPTION:WorkPlace Emergency First Aid – OFA 1 Equivalent
URL:https://up-beatfirstaid.ca/event/level-1-first-aid-dawson-creek-104/
LOCATION:Up-Beat First Aid Dawson Creek NEW\, 11000 8th Street\, Dawson Creek\, British Columbia\, V1G 4K6\, Canada
CATEGORIES:Emergency First Aid (EFA)
ORGANIZER;CN="Up-Beat First Aid & Safety Training":MAILTO:up-beat@live.ca
END:VEVENT
BEGIN:VEVENT
DTSTART;TZID=America/Dawson_Creek:20230829T090000
DTEND;TZID=America/Dawson_Creek:20230829T170000
DTSTAMP:20260422T014059
CREATED:20230619T205628Z
LAST-MODIFIED:20230825T224400Z
UID:8176-1693299600-1693328400@up-beatfirstaid.ca
SUMMARY:Level 1 First Aid – Dawson Creek
DESCRIPTION:WorkPlace Emergency First Aid – OFA 1 Equivalent
URL:https://up-beatfirstaid.ca/event/level-1-first-aid-dawson-creek-105/
LOCATION:Up-Beat First Aid Dawson Creek NEW\, 11000 8th Street\, Dawson Creek\, British Columbia\, V1G 4K6\, Canada
CATEGORIES:Emergency First Aid (EFA)
ORGANIZER;CN="Up-Beat First Aid & Safety Training":MAILTO:up-beat@live.ca
END:VEVENT
END:VCALENDAR