BEGIN:VCALENDAR
VERSION:2.0
PRODID:-//Up-Beat First Aid &amp; Safety Training Ltd. - ECPv6.15.20//NONSGML v1.0//EN
CALSCALE:GREGORIAN
METHOD:PUBLISH
X-WR-CALNAME:Up-Beat First Aid &amp; Safety Training Ltd.
X-ORIGINAL-URL:https://up-beatfirstaid.ca
X-WR-CALDESC:Events for Up-Beat First Aid &amp; Safety Training Ltd.
REFRESH-INTERVAL;VALUE=DURATION:PT1H
X-Robots-Tag:noindex
X-PUBLISHED-TTL:PT1H
BEGIN:VTIMEZONE
TZID:America/Dawson_Creek
BEGIN:STANDARD
TZOFFSETFROM:-0700
TZOFFSETTO:-0700
TZNAME:MST
DTSTART:20230101T000000
END:STANDARD
END:VTIMEZONE
BEGIN:VEVENT
DTSTART;TZID=America/Dawson_Creek:20251106T080000
DTEND;TZID=America/Dawson_Creek:20251106T160000
DTSTAMP:20260419T145225
CREATED:20251007T182721Z
LAST-MODIFIED:20251007T182721Z
UID:11222-1762416000-1762444800@up-beatfirstaid.ca
SUMMARY:Emergency First Aid – Chetwynd
DESCRIPTION:WorkPlace Emergency First Aid – OFA 1 Equivalent
URL:https://up-beatfirstaid.ca/event/emergency-first-aid-chetwynd-21/
LOCATION:Up-Beat First Aid Chetwynd\, 4717 – 51 St\, Chetwynd\, British Columbia\, V0C 1J0\, Canada
CATEGORIES:Emergency First Aid (EFA),OFA1
ORGANIZER;CN="Up-Beat First Aid & Safety Training":MAILTO:up-beat@live.ca
END:VEVENT
BEGIN:VEVENT
DTSTART;TZID=America/Dawson_Creek:20251016T080000
DTEND;TZID=America/Dawson_Creek:20251016T160000
DTSTAMP:20260419T145225
CREATED:20250904T164210Z
LAST-MODIFIED:20250904T164210Z
UID:11190-1760601600-1760630400@up-beatfirstaid.ca
SUMMARY:Emergency First Aid – Chetwynd
DESCRIPTION:WorkPlace Emergency First Aid – OFA 1 Equivalent
URL:https://up-beatfirstaid.ca/event/emergency-first-aid-chetwynd-20/
LOCATION:Up-Beat First Aid Chetwynd\, 4717 – 51 St\, Chetwynd\, British Columbia\, V0C 1J0\, Canada
CATEGORIES:Emergency First Aid (EFA),OFA1
ORGANIZER;CN="Up-Beat First Aid & Safety Training":MAILTO:up-beat@live.ca
END:VEVENT
BEGIN:VEVENT
DTSTART;TZID=America/Dawson_Creek:20251002T080000
DTEND;TZID=America/Dawson_Creek:20251002T160000
DTSTAMP:20260419T145225
CREATED:20250904T155451Z
LAST-MODIFIED:20250904T155451Z
UID:11170-1759392000-1759420800@up-beatfirstaid.ca
SUMMARY:Emergency First Aid – Chetwynd
DESCRIPTION:WorkPlace Emergency First Aid – OFA 1 Equivalent
URL:https://up-beatfirstaid.ca/event/emergency-first-aid-chetwynd-19/
LOCATION:Up-Beat First Aid Chetwynd\, 4717 – 51 St\, Chetwynd\, British Columbia\, V0C 1J0\, Canada
CATEGORIES:Emergency First Aid (EFA),OFA1
ORGANIZER;CN="Up-Beat First Aid & Safety Training":MAILTO:up-beat@live.ca
END:VEVENT
BEGIN:VEVENT
DTSTART;TZID=America/Dawson_Creek:20250918T080000
DTEND;TZID=America/Dawson_Creek:20250918T160000
DTSTAMP:20260419T145225
CREATED:20250806T172833Z
LAST-MODIFIED:20250806T172833Z
UID:11125-1758182400-1758211200@up-beatfirstaid.ca
SUMMARY:Emergency First Aid – Chetwynd
DESCRIPTION:WorkPlace Emergency First Aid – OFA 1 Equivalent
URL:https://up-beatfirstaid.ca/event/emergency-first-aid-chetwynd-18/
LOCATION:Up-Beat First Aid Chetwynd\, 4717 – 51 St\, Chetwynd\, British Columbia\, V0C 1J0\, Canada
CATEGORIES:Emergency First Aid (EFA),OFA1
ORGANIZER;CN="Up-Beat First Aid & Safety Training":MAILTO:up-beat@live.ca
END:VEVENT
BEGIN:VEVENT
DTSTART;TZID=America/Dawson_Creek:20250904T080000
DTEND;TZID=America/Dawson_Creek:20250904T160000
DTSTAMP:20260419T145225
CREATED:20250806T172440Z
LAST-MODIFIED:20250806T172440Z
UID:11119-1756972800-1757001600@up-beatfirstaid.ca
SUMMARY:Emergency First Aid – Chetwynd
DESCRIPTION:WorkPlace Emergency First Aid – OFA 1 Equivalent
URL:https://up-beatfirstaid.ca/event/emergency-first-aid-chetwynd-14/
LOCATION:Up-Beat First Aid Chetwynd\, 4717 – 51 St\, Chetwynd\, British Columbia\, V0C 1J0\, Canada
CATEGORIES:Emergency First Aid (EFA),OFA1
ORGANIZER;CN="Up-Beat First Aid & Safety Training":MAILTO:up-beat@live.ca
END:VEVENT
BEGIN:VEVENT
DTSTART;TZID=America/Dawson_Creek:20250821T080000
DTEND;TZID=America/Dawson_Creek:20250821T160000
DTSTAMP:20260419T145225
CREATED:20250624T155138Z
LAST-MODIFIED:20250624T155138Z
UID:11080-1755763200-1755792000@up-beatfirstaid.ca
SUMMARY:Emergency First Aid – Chetwynd
DESCRIPTION:WorkPlace Emergency First Aid – OFA 1 Equivalent
URL:https://up-beatfirstaid.ca/event/emergency-first-aid-chetwynd-17/
LOCATION:Up-Beat First Aid Chetwynd\, 4717 – 51 St\, Chetwynd\, British Columbia\, V0C 1J0\, Canada
CATEGORIES:Emergency First Aid (EFA),OFA1
ORGANIZER;CN="Up-Beat First Aid & Safety Training":MAILTO:up-beat@live.ca
END:VEVENT
BEGIN:VEVENT
DTSTART;TZID=America/Dawson_Creek:20250808T080000
DTEND;TZID=America/Dawson_Creek:20250808T160000
DTSTAMP:20260419T145225
CREATED:20250624T153622Z
LAST-MODIFIED:20250702T164927Z
UID:11058-1754640000-1754668800@up-beatfirstaid.ca
SUMMARY:Emergency First Aid – Chetwynd
DESCRIPTION:WorkPlace Emergency First Aid – OFA 1 Equivalent
URL:https://up-beatfirstaid.ca/event/emergency-first-aid-chetwynd-16/
LOCATION:Up-Beat First Aid Chetwynd\, 4717 – 51 St\, Chetwynd\, British Columbia\, V0C 1J0\, Canada
CATEGORIES:Emergency First Aid (EFA),OFA1
ORGANIZER;CN="Up-Beat First Aid & Safety Training":MAILTO:up-beat@live.ca
END:VEVENT
BEGIN:VEVENT
DTSTART;TZID=America/Dawson_Creek:20250724T080000
DTEND;TZID=America/Dawson_Creek:20250724T160000
DTSTAMP:20260419T145225
CREATED:20250624T152228Z
LAST-MODIFIED:20250624T152228Z
UID:11036-1753344000-1753372800@up-beatfirstaid.ca
SUMMARY:Emergency First Aid – Chetwynd
DESCRIPTION:WorkPlace Emergency First Aid – OFA 1 Equivalent
URL:https://up-beatfirstaid.ca/event/emergency-first-aid-chetwynd-15/
LOCATION:Up-Beat First Aid Chetwynd\, 4717 – 51 St\, Chetwynd\, British Columbia\, V0C 1J0\, Canada
CATEGORIES:Emergency First Aid (EFA),OFA1
ORGANIZER;CN="Up-Beat First Aid & Safety Training":MAILTO:up-beat@live.ca
END:VEVENT
BEGIN:VEVENT
DTSTART;TZID=America/Dawson_Creek:20250626T080000
DTEND;TZID=America/Dawson_Creek:20250626T160000
DTSTAMP:20260419T145225
CREATED:20250515T163306Z
LAST-MODIFIED:20250515T163306Z
UID:10974-1750924800-1750953600@up-beatfirstaid.ca
SUMMARY:Emergency First Aid – Chetwynd
DESCRIPTION:WorkPlace Emergency First Aid – OFA 1 Equivalent
URL:https://up-beatfirstaid.ca/event/emergency-first-aid-chetwynd-13/
LOCATION:Up-Beat First Aid Chetwynd\, 4717 – 51 St\, Chetwynd\, British Columbia\, V0C 1J0\, Canada
CATEGORIES:Emergency First Aid (EFA),OFA1
ORGANIZER;CN="Up-Beat First Aid & Safety Training":MAILTO:up-beat@live.ca
END:VEVENT
BEGIN:VEVENT
DTSTART;TZID=America/Dawson_Creek:20250612T080000
DTEND;TZID=America/Dawson_Creek:20250612T160000
DTSTAMP:20260419T145225
CREATED:20250515T163236Z
LAST-MODIFIED:20250515T163236Z
UID:10972-1749715200-1749744000@up-beatfirstaid.ca
SUMMARY:Emergency First Aid – Chetwynd
DESCRIPTION:WorkPlace Emergency First Aid – OFA 1 Equivalent
URL:https://up-beatfirstaid.ca/event/emergency-first-aid-chetwynd-12/
LOCATION:Up-Beat First Aid Chetwynd\, 4717 – 51 St\, Chetwynd\, British Columbia\, V0C 1J0\, Canada
CATEGORIES:Emergency First Aid (EFA),OFA1
ORGANIZER;CN="Up-Beat First Aid & Safety Training":MAILTO:up-beat@live.ca
END:VEVENT
BEGIN:VEVENT
DTSTART;TZID=America/Dawson_Creek:20250513T091500
DTEND;TZID=America/Dawson_Creek:20250513T170000
DTSTAMP:20260419T145225
CREATED:20250421T193113Z
LAST-MODIFIED:20250508T171918Z
UID:10890-1747127700-1747155600@up-beatfirstaid.ca
SUMMARY:Emergency First Aid - Dawson Creek BC
DESCRIPTION:
URL:https://up-beatfirstaid.ca/event/emergency-first-aid-standard-first-aid-dawson-creek-bc/
LOCATION:Up-Beat First Aid Dawson Creek NEW\, 11000 8th Street\, Dawson Creek\, British Columbia\, V1G 4K6\, Canada
CATEGORIES:Emergency First Aid (EFA)
ORGANIZER;CN="Up-Beat First Aid & Safety Training":MAILTO:up-beat@live.ca
END:VEVENT
BEGIN:VEVENT
DTSTART;TZID=America/Dawson_Creek:20250501T080000
DTEND;TZID=America/Dawson_Creek:20250501T160000
DTSTAMP:20260419T145225
CREATED:20250421T192033Z
LAST-MODIFIED:20250421T192033Z
UID:10876-1746086400-1746115200@up-beatfirstaid.ca
SUMMARY:Emergency First Aid – Chetwynd
DESCRIPTION:WorkPlace Emergency First Aid – OFA 1 Equivalent
URL:https://up-beatfirstaid.ca/event/emergency-first-aid-chetwynd-10/
LOCATION:Up-Beat First Aid Chetwynd\, 4717 – 51 St\, Chetwynd\, British Columbia\, V0C 1J0\, Canada
CATEGORIES:Emergency First Aid (EFA),OFA1
ORGANIZER;CN="Up-Beat First Aid & Safety Training":MAILTO:up-beat@live.ca
END:VEVENT
BEGIN:VEVENT
DTSTART;TZID=America/Dawson_Creek:20250410T080000
DTEND;TZID=America/Dawson_Creek:20250410T160000
DTSTAMP:20260419T145225
CREATED:20250313T235345Z
LAST-MODIFIED:20250314T163618Z
UID:10779-1744272000-1744300800@up-beatfirstaid.ca
SUMMARY:Emergency First Aid – Chetwynd
DESCRIPTION:WorkPlace Emergency First Aid – OFA 1 Equivalent
URL:https://up-beatfirstaid.ca/event/emergency-first-aid-chetwynd-8/
LOCATION:Up-Beat First Aid Chetwynd\, 4717 – 51 St\, Chetwynd\, British Columbia\, V0C 1J0\, Canada
CATEGORIES:Emergency First Aid (EFA),OFA1
ORGANIZER;CN="Up-Beat First Aid & Safety Training":MAILTO:up-beat@live.ca
END:VEVENT
BEGIN:VEVENT
DTSTART;TZID=America/Dawson_Creek:20250408T091500
DTEND;TZID=America/Dawson_Creek:20250408T170000
DTSTAMP:20260419T145225
CREATED:20250313T234919Z
LAST-MODIFIED:20250403T173054Z
UID:10775-1744103700-1744131600@up-beatfirstaid.ca
SUMMARY:Emergency First Aid - Dawson Creek BC - CPR/A
DESCRIPTION:
URL:https://up-beatfirstaid.ca/event/emergency-first-aid-standard-first-aid-dawson-creek-bc-cpr-c-5/
LOCATION:Up-Beat First Aid Dawson Creek NEW\, 11000 8th Street\, Dawson Creek\, British Columbia\, V1G 4K6\, Canada
CATEGORIES:Emergency First Aid (EFA)
ORGANIZER;CN="Up-Beat First Aid & Safety Training":MAILTO:up-beat@live.ca
END:VEVENT
BEGIN:VEVENT
DTSTART;TZID=America/Dawson_Creek:20250327T080000
DTEND;TZID=America/Dawson_Creek:20250327T160000
DTSTAMP:20260419T145225
CREATED:20250214T224714Z
LAST-MODIFIED:20250314T201118Z
UID:10674-1743062400-1743091200@up-beatfirstaid.ca
SUMMARY:Level 1 First Aid – Chetwynd
DESCRIPTION:WorkPlace Emergency First Aid – OFA 1 Equivalent
URL:https://up-beatfirstaid.ca/event/level-1-first-aid-chetwynd-52/
LOCATION:Up-Beat First Aid Chetwynd\, 4717 – 51 St\, Chetwynd\, British Columbia\, V0C 1J0\, Canada
CATEGORIES:Emergency First Aid (EFA),OFA1
ORGANIZER;CN="Up-Beat First Aid & Safety Training":MAILTO:up-beat@live.ca
END:VEVENT
BEGIN:VEVENT
DTSTART;TZID=America/Dawson_Creek:20250313T080000
DTEND;TZID=America/Dawson_Creek:20250313T160000
DTSTAMP:20260419T145225
CREATED:20250110T202916Z
LAST-MODIFIED:20250227T154828Z
UID:10516-1741852800-1741881600@up-beatfirstaid.ca
SUMMARY:Level 1 First Aid – Chetwynd
DESCRIPTION:WorkPlace Emergency First Aid – OFA 1 Equivalent
URL:https://up-beatfirstaid.ca/event/level-1-first-aid-chetwynd-51/
LOCATION:Up-Beat First Aid Chetwynd\, 4717 – 51 St\, Chetwynd\, British Columbia\, V0C 1J0\, Canada
CATEGORIES:Emergency First Aid (EFA),OFA1
ORGANIZER;CN="Up-Beat First Aid & Safety Training":MAILTO:up-beat@live.ca
END:VEVENT
BEGIN:VEVENT
DTSTART;TZID=America/Dawson_Creek:20250225T091500
DTEND;TZID=America/Dawson_Creek:20250225T170000
DTSTAMP:20260419T145225
CREATED:20250117T235832Z
LAST-MODIFIED:20250117T235832Z
UID:10570-1740474900-1740502800@up-beatfirstaid.ca
SUMMARY:Level 1 First Aid – Dawson Creek
DESCRIPTION:WorkPlace Emergency First Aid – OFA 1 Equivalent
URL:https://up-beatfirstaid.ca/event/level-1-first-aid-dawson-creek-197/
LOCATION:Up-Beat First Aid Dawson Creek NEW\, 11000 8th Street\, Dawson Creek\, British Columbia\, V1G 4K6\, Canada
CATEGORIES:Emergency First Aid (EFA),OFA1
ORGANIZER;CN="Up-Beat First Aid & Safety Training":MAILTO:up-beat@live.ca
END:VEVENT
BEGIN:VEVENT
DTSTART;TZID=America/Dawson_Creek:20250218T091500
DTEND;TZID=America/Dawson_Creek:20250218T170000
DTSTAMP:20260419T145225
CREATED:20250117T234703Z
LAST-MODIFIED:20250117T234703Z
UID:10560-1739870100-1739898000@up-beatfirstaid.ca
SUMMARY:Level 1 First Aid – Dawson Creek
DESCRIPTION:WorkPlace Emergency First Aid – OFA 1 Equivalent
URL:https://up-beatfirstaid.ca/event/level-1-first-aid-dawson-creek-196/
LOCATION:Up-Beat First Aid Dawson Creek NEW\, 11000 8th Street\, Dawson Creek\, British Columbia\, V1G 4K6\, Canada
CATEGORIES:Emergency First Aid (EFA),OFA1
ORGANIZER;CN="Up-Beat First Aid & Safety Training":MAILTO:up-beat@live.ca
END:VEVENT
BEGIN:VEVENT
DTSTART;TZID=America/Dawson_Creek:20250211T091500
DTEND;TZID=America/Dawson_Creek:20250211T170000
DTSTAMP:20260419T145225
CREATED:20250117T232755Z
LAST-MODIFIED:20250117T232843Z
UID:10548-1739265300-1739293200@up-beatfirstaid.ca
SUMMARY:Level 1 First Aid – Dawson Creek
DESCRIPTION:WorkPlace Emergency First Aid – OFA 1 Equivalent
URL:https://up-beatfirstaid.ca/event/level-1-first-aid-dawson-creek-195/
LOCATION:Up-Beat First Aid Dawson Creek NEW\, 11000 8th Street\, Dawson Creek\, British Columbia\, V1G 4K6\, Canada
CATEGORIES:Emergency First Aid (EFA),OFA1
ORGANIZER;CN="Up-Beat First Aid & Safety Training":MAILTO:up-beat@live.ca
END:VEVENT
BEGIN:VEVENT
DTSTART;TZID=America/Dawson_Creek:20250204T091500
DTEND;TZID=America/Dawson_Creek:20250204T170000
DTSTAMP:20260419T145225
CREATED:20250117T215417Z
LAST-MODIFIED:20250117T215544Z
UID:10532-1738660500-1738688400@up-beatfirstaid.ca
SUMMARY:Level 1 First Aid – Dawson Creek
DESCRIPTION:WorkPlace Emergency First Aid – OFA 1 Equivalent
URL:https://up-beatfirstaid.ca/event/level-1-first-aid-dawson-creek-194/
LOCATION:Up-Beat First Aid Dawson Creek NEW\, 11000 8th Street\, Dawson Creek\, British Columbia\, V1G 4K6\, Canada
CATEGORIES:Emergency First Aid (EFA),OFA1
ORGANIZER;CN="Up-Beat First Aid & Safety Training":MAILTO:up-beat@live.ca
END:VEVENT
BEGIN:VEVENT
DTSTART;TZID=America/Dawson_Creek:20250130T080000
DTEND;TZID=America/Dawson_Creek:20250130T160000
DTSTAMP:20260419T145225
CREATED:20241125T202612Z
LAST-MODIFIED:20241125T202612Z
UID:10349-1738224000-1738252800@up-beatfirstaid.ca
SUMMARY:Level 1 First Aid – Chetwynd
DESCRIPTION:WorkPlace Emergency First Aid – OFA 1 Equivalent
URL:https://up-beatfirstaid.ca/event/level-1-first-aid-chetwynd-49/
LOCATION:Up-Beat First Aid Dawson Creek NEW\, 11000 8th Street\, Dawson Creek\, British Columbia\, V1G 4K6\, Canada
CATEGORIES:Emergency First Aid (EFA),OFA1
ORGANIZER;CN="Up-Beat First Aid & Safety Training":MAILTO:up-beat@live.ca
END:VEVENT
BEGIN:VEVENT
DTSTART;TZID=America/Dawson_Creek:20250128T091500
DTEND;TZID=America/Dawson_Creek:20250128T170000
DTSTAMP:20260419T145225
CREATED:20241204T230923Z
LAST-MODIFIED:20250117T221218Z
UID:10469-1738055700-1738083600@up-beatfirstaid.ca
SUMMARY:Level 1 First Aid – Dawson Creek
DESCRIPTION:WorkPlace Emergency First Aid – OFA 1 Equivalent
URL:https://up-beatfirstaid.ca/event/level-1-first-aid-dawson-creek-193-2025-01-28/2025-01-28/
LOCATION:Up-Beat First Aid Dawson Creek NEW\, 11000 8th Street\, Dawson Creek\, British Columbia\, V1G 4K6\, Canada
CATEGORIES:Emergency First Aid (EFA),OFA1
ORGANIZER;CN="Up-Beat First Aid & Safety Training":MAILTO:up-beat@live.ca
END:VEVENT
BEGIN:VEVENT
DTSTART;TZID=America/Dawson_Creek:20250114T091500
DTEND;TZID=America/Dawson_Creek:20250114T163000
DTSTAMP:20260419T145225
CREATED:20241204T230923Z
LAST-MODIFIED:20250102T185459Z
UID:10467-1736846100-1736872200@up-beatfirstaid.ca
SUMMARY:Level 1 First Aid – Dawson Creek
DESCRIPTION:WorkPlace Emergency First Aid – OFA 1 Equivalent
URL:https://up-beatfirstaid.ca/event/level-1-first-aid-dawson-creek-193-2025-01-14/
LOCATION:Up-Beat First Aid Dawson Creek NEW\, 11000 8th Street\, Dawson Creek\, British Columbia\, V1G 4K6\, Canada
CATEGORIES:Emergency First Aid (EFA),OFA1
ORGANIZER;CN="Up-Beat First Aid & Safety Training":MAILTO:up-beat@live.ca
END:VEVENT
BEGIN:VEVENT
DTSTART;TZID=America/Dawson_Creek:20250109T080000
DTEND;TZID=America/Dawson_Creek:20250109T160000
DTSTAMP:20260419T145225
CREATED:20241125T202126Z
LAST-MODIFIED:20250103T211020Z
UID:10347-1736409600-1736438400@up-beatfirstaid.ca
SUMMARY:Level 1 First Aid – Chetwynd
DESCRIPTION:WorkPlace Emergency First Aid – OFA 1 Equivalent
URL:https://up-beatfirstaid.ca/event/level-1-first-aid-chetwynd-47/
LOCATION:Up-Beat First Aid Dawson Creek NEW\, 11000 8th Street\, Dawson Creek\, British Columbia\, V1G 4K6\, Canada
CATEGORIES:Emergency First Aid (EFA),OFA1
ORGANIZER;CN="Up-Beat First Aid & Safety Training":MAILTO:up-beat@live.ca
END:VEVENT
BEGIN:VEVENT
DTSTART;TZID=America/Dawson_Creek:20250107T091500
DTEND;TZID=America/Dawson_Creek:20250107T163000
DTSTAMP:20260419T145225
CREATED:20241204T230923Z
LAST-MODIFIED:20250102T185621Z
UID:10398-1736241300-1736267400@up-beatfirstaid.ca
SUMMARY:Level 1 First Aid – Dawson Creek
DESCRIPTION:WorkPlace Emergency First Aid – OFA 1 Equivalent
URL:https://up-beatfirstaid.ca/event/level-1-first-aid-dawson-creek-193/
LOCATION:Up-Beat First Aid Dawson Creek NEW\, 11000 8th Street\, Dawson Creek\, British Columbia\, V1G 4K6\, Canada
CATEGORIES:Emergency First Aid (EFA),OFA1
ORGANIZER;CN="Up-Beat First Aid & Safety Training":MAILTO:up-beat@live.ca
END:VEVENT
BEGIN:VEVENT
DTSTART;TZID=America/Dawson_Creek:20241219T080000
DTEND;TZID=America/Dawson_Creek:20241219T160000
DTSTAMP:20260419T145225
CREATED:20241112T224415Z
LAST-MODIFIED:20241112T224415Z
UID:10299-1734595200-1734624000@up-beatfirstaid.ca
SUMMARY:Level 1 First Aid – Chetwynd
DESCRIPTION:WorkPlace Emergency First Aid – OFA 1 Equivalent
URL:https://up-beatfirstaid.ca/event/level-1-first-aid-chetwynd-46/2024-12-19/
LOCATION:Up-Beat First Aid Dawson Creek NEW\, 11000 8th Street\, Dawson Creek\, British Columbia\, V1G 4K6\, Canada
CATEGORIES:Emergency First Aid (EFA),OFA1
ORGANIZER;CN="Up-Beat First Aid & Safety Training":MAILTO:up-beat@live.ca
END:VEVENT
BEGIN:VEVENT
DTSTART;TZID=America/Dawson_Creek:20241210T091500
DTEND;TZID=America/Dawson_Creek:20241210T170000
DTSTAMP:20260419T145225
CREATED:20241112T211009Z
LAST-MODIFIED:20241112T211009Z
UID:10275-1733822100-1733850000@up-beatfirstaid.ca
SUMMARY:Level 1 First Aid – Dawson Creek
DESCRIPTION:WorkPlace Emergency First Aid – OFA 1 Equivalent
URL:https://up-beatfirstaid.ca/event/level-1-first-aid-dawson-creek-191/2024-12-10/
LOCATION:Up-Beat First Aid Dawson Creek NEW\, 11000 8th Street\, Dawson Creek\, British Columbia\, V1G 4K6\, Canada
CATEGORIES:Emergency First Aid (EFA),OFA1
ORGANIZER;CN="Up-Beat First Aid & Safety Training":MAILTO:up-beat@live.ca
END:VEVENT
BEGIN:VEVENT
DTSTART;TZID=America/Dawson_Creek:20241205T080000
DTEND;TZID=America/Dawson_Creek:20241205T160000
DTSTAMP:20260419T145225
CREATED:20241112T224415Z
LAST-MODIFIED:20241112T224415Z
UID:10298-1733385600-1733414400@up-beatfirstaid.ca
SUMMARY:Level 1 First Aid – Chetwynd
DESCRIPTION:WorkPlace Emergency First Aid – OFA 1 Equivalent
URL:https://up-beatfirstaid.ca/event/level-1-first-aid-chetwynd-46/2024-12-05/
LOCATION:Up-Beat First Aid Dawson Creek NEW\, 11000 8th Street\, Dawson Creek\, British Columbia\, V1G 4K6\, Canada
CATEGORIES:Emergency First Aid (EFA),OFA1
ORGANIZER;CN="Up-Beat First Aid & Safety Training":MAILTO:up-beat@live.ca
END:VEVENT
BEGIN:VEVENT
DTSTART;TZID=America/Dawson_Creek:20241203T091500
DTEND;TZID=America/Dawson_Creek:20241203T170000
DTSTAMP:20260419T145225
CREATED:20241112T211009Z
LAST-MODIFIED:20241112T211009Z
UID:10274-1733217300-1733245200@up-beatfirstaid.ca
SUMMARY:Level 1 First Aid – Dawson Creek
DESCRIPTION:WorkPlace Emergency First Aid – OFA 1 Equivalent
URL:https://up-beatfirstaid.ca/event/level-1-first-aid-dawson-creek-191/2024-12-03/
LOCATION:Up-Beat First Aid Dawson Creek NEW\, 11000 8th Street\, Dawson Creek\, British Columbia\, V1G 4K6\, Canada
CATEGORIES:Emergency First Aid (EFA),OFA1
ORGANIZER;CN="Up-Beat First Aid & Safety Training":MAILTO:up-beat@live.ca
END:VEVENT
BEGIN:VEVENT
DTSTART;TZID=America/Dawson_Creek:20241126T091500
DTEND;TZID=America/Dawson_Creek:20241126T170000
DTSTAMP:20260419T145225
CREATED:20240925T171527Z
LAST-MODIFIED:20240925T171527Z
UID:10154-1732612500-1732640400@up-beatfirstaid.ca
SUMMARY:Level 1 First Aid – Dawson Creek
DESCRIPTION:WorkPlace Emergency First Aid – OFA 1 Equivalent
URL:https://up-beatfirstaid.ca/event/level-1-first-aid-dawson-creek-190/
LOCATION:Up-Beat First Aid Dawson Creek NEW\, 11000 8th Street\, Dawson Creek\, British Columbia\, V1G 4K6\, Canada
CATEGORIES:Emergency First Aid (EFA),OFA1
ORGANIZER;CN="Up-Beat First Aid & Safety Training":MAILTO:up-beat@live.ca
END:VEVENT
END:VCALENDAR