BEGIN:VCALENDAR
VERSION:2.0
PRODID:-//Up-Beat First Aid &amp; Safety Training Ltd. - ECPv6.15.20//NONSGML v1.0//EN
CALSCALE:GREGORIAN
METHOD:PUBLISH
X-WR-CALNAME:Up-Beat First Aid &amp; Safety Training Ltd.
X-ORIGINAL-URL:https://up-beatfirstaid.ca
X-WR-CALDESC:Events for Up-Beat First Aid &amp; Safety Training Ltd.
REFRESH-INTERVAL;VALUE=DURATION:PT1H
X-Robots-Tag:noindex
X-PUBLISHED-TTL:PT1H
BEGIN:VTIMEZONE
TZID:America/Dawson_Creek
BEGIN:STANDARD
TZOFFSETFROM:-0700
TZOFFSETTO:-0700
TZNAME:MST
DTSTART:20250101T000000
END:STANDARD
END:VTIMEZONE
BEGIN:VEVENT
DTSTART;TZID=America/Dawson_Creek:20260312T080000
DTEND;TZID=America/Dawson_Creek:20260312T160000
DTSTAMP:20260419T232113
CREATED:20260122T181201Z
LAST-MODIFIED:20260122T181201Z
UID:11392-1773302400-1773331200@up-beatfirstaid.ca
SUMMARY:Emergency First Aid – Chetwynd
DESCRIPTION:WorkPlace Emergency First Aid – OFA 1 Equivalent
URL:https://up-beatfirstaid.ca/event/emergency-first-aid-chetwynd-29/
LOCATION:Up-Beat First Aid Chetwynd\, 4717 – 51 St\, Chetwynd\, British Columbia\, V0C 1J0\, Canada
CATEGORIES:Emergency First Aid (EFA),OFA1
ORGANIZER;CN="Up-Beat First Aid & Safety Training":MAILTO:up-beat@live.ca
END:VEVENT
BEGIN:VEVENT
DTSTART;TZID=America/Dawson_Creek:20260326T080000
DTEND;TZID=America/Dawson_Creek:20260326T160000
DTSTAMP:20260419T232113
CREATED:20260122T182941Z
LAST-MODIFIED:20260122T182941Z
UID:11410-1774512000-1774540800@up-beatfirstaid.ca
SUMMARY:Emergency First Aid – Chetwynd
DESCRIPTION:WorkPlace Emergency First Aid – OFA 1 Equivalent
URL:https://up-beatfirstaid.ca/event/emergency-first-aid-chetwynd-30/
LOCATION:Up-Beat First Aid Chetwynd\, 4717 – 51 St\, Chetwynd\, British Columbia\, V0C 1J0\, Canada
CATEGORIES:Emergency First Aid (EFA),OFA1
ORGANIZER;CN="Up-Beat First Aid & Safety Training":MAILTO:up-beat@live.ca
END:VEVENT
BEGIN:VEVENT
DTSTART;TZID=America/Dawson_Creek:20260409T080000
DTEND;TZID=America/Dawson_Creek:20260409T160000
DTSTAMP:20260419T232113
CREATED:20260213T154403Z
LAST-MODIFIED:20260213T154403Z
UID:11451-1775721600-1775750400@up-beatfirstaid.ca
SUMMARY:Emergency First Aid – Chetwynd
DESCRIPTION:WorkPlace Emergency First Aid – OFA 1 Equivalent
URL:https://up-beatfirstaid.ca/event/emergency-first-aid-chetwynd-31/
LOCATION:Up-Beat First Aid Chetwynd\, 4717 – 51 St\, Chetwynd\, British Columbia\, V0C 1J0\, Canada
CATEGORIES:Emergency First Aid (EFA),OFA1
ORGANIZER;CN="Up-Beat First Aid & Safety Training":MAILTO:up-beat@live.ca
END:VEVENT
BEGIN:VEVENT
DTSTART;TZID=America/Dawson_Creek:20260423T080000
DTEND;TZID=America/Dawson_Creek:20260423T160000
DTSTAMP:20260419T232113
CREATED:20260213T161847Z
LAST-MODIFIED:20260213T161847Z
UID:11465-1776931200-1776960000@up-beatfirstaid.ca
SUMMARY:Emergency First Aid – Chetwynd
DESCRIPTION:WorkPlace Emergency First Aid – OFA 1 Equivalent
URL:https://up-beatfirstaid.ca/event/emergency-first-aid-chetwynd-32/
LOCATION:Up-Beat First Aid Chetwynd\, 4717 – 51 St\, Chetwynd\, British Columbia\, V0C 1J0\, Canada
CATEGORIES:Emergency First Aid (EFA),OFA1
ORGANIZER;CN="Up-Beat First Aid & Safety Training":MAILTO:up-beat@live.ca
END:VEVENT
BEGIN:VEVENT
DTSTART;TZID=America/Dawson_Creek:20260514T080000
DTEND;TZID=America/Dawson_Creek:20260514T160000
DTSTAMP:20260419T232113
CREATED:20260417T210247Z
LAST-MODIFIED:20260417T210247Z
UID:11507-1778745600-1778774400@up-beatfirstaid.ca
SUMMARY:Emergency First Aid – Chetwynd
DESCRIPTION:WorkPlace Emergency First Aid – OFA 1 Equivalent
URL:https://up-beatfirstaid.ca/event/emergency-first-aid-chetwynd-33/
LOCATION:Up-Beat First Aid Chetwynd\, 4717 – 51 St\, Chetwynd\, British Columbia\, V0C 1J0\, Canada
CATEGORIES:Emergency First Aid (EFA),OFA1
ORGANIZER;CN="Up-Beat First Aid & Safety Training":MAILTO:up-beat@live.ca
END:VEVENT
BEGIN:VEVENT
DTSTART;TZID=America/Dawson_Creek:20260528T080000
DTEND;TZID=America/Dawson_Creek:20260528T160000
DTSTAMP:20260419T232113
CREATED:20260417T211511Z
LAST-MODIFIED:20260417T211511Z
UID:11523-1779955200-1779984000@up-beatfirstaid.ca
SUMMARY:Emergency First Aid – Chetwynd
DESCRIPTION:WorkPlace Emergency First Aid – OFA 1 Equivalent
URL:https://up-beatfirstaid.ca/event/emergency-first-aid-chetwynd-34/
LOCATION:Up-Beat First Aid Chetwynd\, 4717 – 51 St\, Chetwynd\, British Columbia\, V0C 1J0\, Canada
CATEGORIES:Emergency First Aid (EFA),OFA1
ORGANIZER;CN="Up-Beat First Aid & Safety Training":MAILTO:up-beat@live.ca
END:VEVENT
END:VCALENDAR