BEGIN:VCALENDAR
VERSION:2.0
PRODID:-//Up-Beat First Aid &amp; Safety Training Ltd. - ECPv6.15.20//NONSGML v1.0//EN
CALSCALE:GREGORIAN
METHOD:PUBLISH
X-ORIGINAL-URL:https://up-beatfirstaid.ca
X-WR-CALDESC:Events for Up-Beat First Aid &amp; Safety Training Ltd.
REFRESH-INTERVAL;VALUE=DURATION:PT1H
X-Robots-Tag:noindex
X-PUBLISHED-TTL:PT1H
BEGIN:VTIMEZONE
TZID:America/Dawson_Creek
BEGIN:STANDARD
TZOFFSETFROM:-0700
TZOFFSETTO:-0700
TZNAME:MST
DTSTART:20210101T000000
END:STANDARD
END:VTIMEZONE
BEGIN:VEVENT
DTSTART;TZID=America/Dawson_Creek:20230317T090000
DTEND;TZID=America/Dawson_Creek:20230317T170000
DTSTAMP:20260420T211401
CREATED:20230127T213711Z
LAST-MODIFIED:20230127T213711Z
UID:7583-1679043600-1679072400@up-beatfirstaid.ca
SUMMARY:Level 1 First Aid – Dawson Creek
DESCRIPTION:WorkPlace Emergency First Aid – OFA 1 Equivalent
URL:https://up-beatfirstaid.ca/event/level-1-first-aid-dawson-creek-72/
LOCATION:Up-Beat First Aid Dawson Creek NEW\, 11000 8th Street\, Dawson Creek\, British Columbia\, V1G 4K6\, Canada
CATEGORIES:Emergency First Aid (EFA)
ORGANIZER;CN="Up-Beat First Aid & Safety Training":MAILTO:up-beat@live.ca
END:VEVENT
BEGIN:VEVENT
DTSTART;TZID=America/Dawson_Creek:20230317T080000
DTEND;TZID=America/Dawson_Creek:20230317T160000
DTSTAMP:20260420T211401
CREATED:20230127T214517Z
LAST-MODIFIED:20230314T174428Z
UID:7595-1679040000-1679068800@up-beatfirstaid.ca
SUMMARY:Level 1 First Aid – Chetwynd
DESCRIPTION:
URL:https://up-beatfirstaid.ca/event/level-1-first-aid-chetwynd-15/
LOCATION:Up-Beat First Aid Chetwynd\, 4717 – 51 St\, Chetwynd\, British Columbia\, V0C 1J0\, Canada
CATEGORIES:Emergency First Aid (EFA)
ORGANIZER;CN="Up-Beat First Aid & Safety Training":MAILTO:up-beat@live.ca
END:VEVENT
BEGIN:VEVENT
DTSTART;TZID=America/Dawson_Creek:20230314T090000
DTEND;TZID=America/Dawson_Creek:20230314T170000
DTSTAMP:20260420T211401
CREATED:20230127T213257Z
LAST-MODIFIED:20230313T232028Z
UID:7571-1678784400-1678813200@up-beatfirstaid.ca
SUMMARY:Level 1 First Aid – Dawson Creek
DESCRIPTION:WorkPlace Emergency First Aid – OFA 1 Equivalent
URL:https://up-beatfirstaid.ca/event/level-1-first-aid-dawson-creek-68/
LOCATION:Up-Beat First Aid Dawson Creek NEW\, 11000 8th Street\, Dawson Creek\, British Columbia\, V1G 4K6\, Canada
CATEGORIES:Emergency First Aid (EFA)
ORGANIZER;CN="Up-Beat First Aid & Safety Training":MAILTO:up-beat@live.ca
END:VEVENT
BEGIN:VEVENT
DTSTART;TZID=America/Dawson_Creek:20230310T090000
DTEND;TZID=America/Dawson_Creek:20230310T170000
DTSTAMP:20260420T211401
CREATED:20230127T213559Z
LAST-MODIFIED:20230306T165151Z
UID:7580-1678438800-1678467600@up-beatfirstaid.ca
SUMMARY:Level 1 First Aid – Dawson Creek
DESCRIPTION:WorkPlace Emergency First Aid – OFA 1 Equivalent
URL:https://up-beatfirstaid.ca/event/level-1-first-aid-dawson-creek-71/
LOCATION:Up-Beat First Aid Dawson Creek NEW\, 11000 8th Street\, Dawson Creek\, British Columbia\, V1G 4K6\, Canada
CATEGORIES:Emergency First Aid (EFA)
ORGANIZER;CN="Up-Beat First Aid & Safety Training":MAILTO:up-beat@live.ca
END:VEVENT
BEGIN:VEVENT
DTSTART;TZID=America/Dawson_Creek:20230307T090000
DTEND;TZID=America/Dawson_Creek:20230307T170000
DTSTAMP:20260420T211401
CREATED:20230127T213213Z
LAST-MODIFIED:20230302T180006Z
UID:7568-1678179600-1678208400@up-beatfirstaid.ca
SUMMARY:Level 1 First Aid – Dawson Creek
DESCRIPTION:WorkPlace Emergency First Aid – OFA 1 Equivalent
URL:https://up-beatfirstaid.ca/event/level-1-first-aid-dawson-creek-59/
LOCATION:Up-Beat First Aid Dawson Creek NEW\, 11000 8th Street\, Dawson Creek\, British Columbia\, V1G 4K6\, Canada
CATEGORIES:Emergency First Aid (EFA)
ORGANIZER;CN="Up-Beat First Aid & Safety Training":MAILTO:up-beat@live.ca
END:VEVENT
BEGIN:VEVENT
DTSTART;TZID=America/Dawson_Creek:20230303T090000
DTEND;TZID=America/Dawson_Creek:20230303T170000
DTSTAMP:20260420T211401
CREATED:20230106T224918Z
LAST-MODIFIED:20230106T224918Z
UID:7527-1677834000-1677862800@up-beatfirstaid.ca
SUMMARY:Level 1 First Aid – Dawson Creek
DESCRIPTION:WorkPlace Emergency First Aid – OFA 1 Equivalent
URL:https://up-beatfirstaid.ca/event/level-1-first-aid-dawson-creek-67/
LOCATION:Up-Beat First Aid Dawson Creek NEW\, 11000 8th Street\, Dawson Creek\, British Columbia\, V1G 4K6\, Canada
CATEGORIES:Emergency First Aid (EFA)
ORGANIZER;CN="Up-Beat First Aid & Safety Training":MAILTO:up-beat@live.ca
END:VEVENT
BEGIN:VEVENT
DTSTART;TZID=America/Dawson_Creek:20230303T080000
DTEND;TZID=America/Dawson_Creek:20230303T160000
DTSTAMP:20260420T211401
CREATED:20230127T214422Z
LAST-MODIFIED:20230127T214806Z
UID:7592-1677830400-1677859200@up-beatfirstaid.ca
SUMMARY:Level 1 First Aid – Chetwynd
DESCRIPTION:
URL:https://up-beatfirstaid.ca/event/level-1-first-aid-chetwynd-12/
LOCATION:Up-Beat First Aid Chetwynd\, 4717 – 51 St\, Chetwynd\, British Columbia\, V0C 1J0\, Canada
CATEGORIES:Emergency First Aid (EFA)
ORGANIZER;CN="Up-Beat First Aid & Safety Training":MAILTO:up-beat@live.ca
END:VEVENT
BEGIN:VEVENT
DTSTART;TZID=America/Dawson_Creek:20230228T090000
DTEND;TZID=America/Dawson_Creek:20230228T170000
DTSTAMP:20260420T211401
CREATED:20230106T224444Z
LAST-MODIFIED:20230213T231703Z
UID:7521-1677574800-1677603600@up-beatfirstaid.ca
SUMMARY:Level 1 First Aid – Dawson Creek
DESCRIPTION:WorkPlace Emergency First Aid – OFA 1 Equivalent
URL:https://up-beatfirstaid.ca/event/level-1-first-aid-dawson-creek-66/
LOCATION:Up-Beat First Aid Dawson Creek NEW\, 11000 8th Street\, Dawson Creek\, British Columbia\, V1G 4K6\, Canada
CATEGORIES:Emergency First Aid (EFA)
ORGANIZER;CN="Up-Beat First Aid & Safety Training":MAILTO:up-beat@live.ca
END:VEVENT
BEGIN:VEVENT
DTSTART;TZID=America/Dawson_Creek:20230224T090000
DTEND;TZID=America/Dawson_Creek:20230224T170000
DTSTAMP:20260420T211401
CREATED:20230106T224329Z
LAST-MODIFIED:20230223T225107Z
UID:7517-1677229200-1677258000@up-beatfirstaid.ca
SUMMARY:Level 1 First Aid – Dawson Creek
DESCRIPTION:WorkPlace Emergency First Aid – OFA 1 Equivalent
URL:https://up-beatfirstaid.ca/event/level-1-first-aid-dawson-creek-65/
LOCATION:Up-Beat First Aid Dawson Creek NEW\, 11000 8th Street\, Dawson Creek\, British Columbia\, V1G 4K6\, Canada
CATEGORIES:Emergency First Aid (EFA)
ORGANIZER;CN="Up-Beat First Aid & Safety Training":MAILTO:up-beat@live.ca
END:VEVENT
BEGIN:VEVENT
DTSTART;TZID=America/Dawson_Creek:20230224T080000
DTEND;TZID=America/Dawson_Creek:20230224T160000
DTSTAMP:20260420T211401
CREATED:20230127T214903Z
LAST-MODIFIED:20230223T224856Z
UID:7598-1677225600-1677254400@up-beatfirstaid.ca
SUMMARY:Level 1 First Aid – Chetwynd
DESCRIPTION:
URL:https://up-beatfirstaid.ca/event/level-1-first-aid-chetwynd-16/
LOCATION:Up-Beat First Aid Chetwynd\, 4717 – 51 St\, Chetwynd\, British Columbia\, V0C 1J0\, Canada
CATEGORIES:Emergency First Aid (EFA)
ORGANIZER;CN="Up-Beat First Aid & Safety Training":MAILTO:up-beat@live.ca
END:VEVENT
BEGIN:VEVENT
DTSTART;TZID=America/Dawson_Creek:20230221T090000
DTEND;TZID=America/Dawson_Creek:20230221T170000
DTSTAMP:20260420T211401
CREATED:20230106T224044Z
LAST-MODIFIED:20230217T201539Z
UID:7511-1676970000-1676998800@up-beatfirstaid.ca
SUMMARY:Level 1 First Aid – Dawson Creek
DESCRIPTION:WorkPlace Emergency First Aid – OFA 1 Equivalent
URL:https://up-beatfirstaid.ca/event/level-1-first-aid-dawson-creek-64/
LOCATION:Up-Beat First Aid Dawson Creek NEW\, 11000 8th Street\, Dawson Creek\, British Columbia\, V1G 4K6\, Canada
CATEGORIES:Emergency First Aid (EFA)
ORGANIZER;CN="Up-Beat First Aid & Safety Training":MAILTO:up-beat@live.ca
END:VEVENT
BEGIN:VEVENT
DTSTART;TZID=America/Dawson_Creek:20230217T090000
DTEND;TZID=America/Dawson_Creek:20230217T170000
DTSTAMP:20260420T211401
CREATED:20230106T223801Z
LAST-MODIFIED:20230213T231039Z
UID:7508-1676624400-1676653200@up-beatfirstaid.ca
SUMMARY:Level 1 First Aid – Dawson Creek
DESCRIPTION:WorkPlace Emergency First Aid – OFA 1 Equivalent
URL:https://up-beatfirstaid.ca/event/level-1-first-aid-dawson-creek-63/
LOCATION:Up-Beat First Aid Dawson Creek NEW\, 11000 8th Street\, Dawson Creek\, British Columbia\, V1G 4K6\, Canada
CATEGORIES:Emergency First Aid (EFA)
ORGANIZER;CN="Up-Beat First Aid & Safety Training":MAILTO:up-beat@live.ca
END:VEVENT
BEGIN:VEVENT
DTSTART;TZID=America/Dawson_Creek:20230210T090000
DTEND;TZID=America/Dawson_Creek:20230210T170000
DTSTAMP:20260420T211401
CREATED:20230106T210935Z
LAST-MODIFIED:20230130T182425Z
UID:7498-1676019600-1676048400@up-beatfirstaid.ca
SUMMARY:Level 1 First Aid – Dawson Creek
DESCRIPTION:WorkPlace Emergency First Aid – OFA 1 Equivalent
URL:https://up-beatfirstaid.ca/event/level-1-first-aid-dawson-creek-61/
LOCATION:Up-Beat First Aid Dawson Creek NEW\, 11000 8th Street\, Dawson Creek\, British Columbia\, V1G 4K6\, Canada
CATEGORIES:Emergency First Aid (EFA)
ORGANIZER;CN="Up-Beat First Aid & Safety Training":MAILTO:up-beat@live.ca
END:VEVENT
BEGIN:VEVENT
DTSTART;TZID=America/Dawson_Creek:20230207T090000
DTEND;TZID=America/Dawson_Creek:20230207T170000
DTSTAMP:20260420T211401
CREATED:20230106T210631Z
LAST-MODIFIED:20230127T191315Z
UID:7493-1675760400-1675789200@up-beatfirstaid.ca
SUMMARY:Level 1 First Aid – Dawson Creek
DESCRIPTION:WorkPlace Emergency First Aid – OFA 1 Equivalent
URL:https://up-beatfirstaid.ca/event/level-1-first-aid-dawson-creek-60/
LOCATION:Up-Beat First Aid Dawson Creek NEW\, 11000 8th Street\, Dawson Creek\, British Columbia\, V1G 4K6\, Canada
CATEGORIES:Emergency First Aid (EFA)
ORGANIZER;CN="Up-Beat First Aid & Safety Training":MAILTO:up-beat@live.ca
END:VEVENT
BEGIN:VEVENT
DTSTART;TZID=America/Dawson_Creek:20230203T090000
DTEND;TZID=America/Dawson_Creek:20230203T170000
DTSTAMP:20260420T211401
CREATED:20230106T205729Z
LAST-MODIFIED:20230127T190144Z
UID:7488-1675414800-1675443600@up-beatfirstaid.ca
SUMMARY:Level 1 First Aid – Dawson Creek
DESCRIPTION:WorkPlace Emergency First Aid – OFA 1 Equivalent
URL:https://up-beatfirstaid.ca/event/level-1-first-aid-dawson-creek-50/
LOCATION:Up-Beat First Aid Dawson Creek NEW\, 11000 8th Street\, Dawson Creek\, British Columbia\, V1G 4K6\, Canada
CATEGORIES:Emergency First Aid (EFA)
ORGANIZER;CN="Up-Beat First Aid & Safety Training":MAILTO:up-beat@live.ca
END:VEVENT
BEGIN:VEVENT
DTSTART;TZID=America/Dawson_Creek:20230131T090000
DTEND;TZID=America/Dawson_Creek:20230131T170000
DTSTAMP:20260420T211401
CREATED:20230106T205351Z
LAST-MODIFIED:20230123T182640Z
UID:7480-1675155600-1675184400@up-beatfirstaid.ca
SUMMARY:Level 1 First Aid – Dawson Creek
DESCRIPTION:WorkPlace Emergency First Aid – OFA 1 Equivalent
URL:https://up-beatfirstaid.ca/event/level-1-first-aid-dawson-creek-40/
LOCATION:Up-Beat First Aid Dawson Creek NEW\, 11000 8th Street\, Dawson Creek\, British Columbia\, V1G 4K6\, Canada
CATEGORIES:Emergency First Aid (EFA)
ORGANIZER;CN="Up-Beat First Aid & Safety Training":MAILTO:up-beat@live.ca
END:VEVENT
BEGIN:VEVENT
DTSTART;TZID=America/Dawson_Creek:20230127T080000
DTEND;TZID=America/Dawson_Creek:20230127T170000
DTSTAMP:20260420T211401
CREATED:20221216T172154Z
LAST-MODIFIED:20230123T182306Z
UID:7440-1674806400-1674838800@up-beatfirstaid.ca
SUMMARY:Level 1 First Aid – Chetwynd
DESCRIPTION:
URL:https://up-beatfirstaid.ca/event/level-1-first-aid-chetwynd-14/
LOCATION:Up-Beat First Aid Chetwynd\, 4717 – 51 St\, Chetwynd\, British Columbia\, V0C 1J0\, Canada
CATEGORIES:Emergency First Aid (EFA)
ORGANIZER;CN="Up-Beat First Aid & Safety Training":MAILTO:up-beat@live.ca
END:VEVENT
BEGIN:VEVENT
DTSTART;TZID=America/Dawson_Creek:20230124T080000
DTEND;TZID=America/Dawson_Creek:20230124T160000
DTSTAMP:20260420T211401
CREATED:20221115T204303Z
LAST-MODIFIED:20230111T174022Z
UID:7346-1674547200-1674576000@up-beatfirstaid.ca
SUMMARY:Level 1 First Aid – Dawson Creek
DESCRIPTION:WorkPlace Emergency First Aid – OFA 1 Equivalent
URL:https://up-beatfirstaid.ca/event/level-1-first-aid-dawson-creek-55/
LOCATION:Up-Beat First Aid Dawson Creek NEW\, 11000 8th Street\, Dawson Creek\, British Columbia\, V1G 4K6\, Canada
CATEGORIES:Emergency First Aid (EFA)
ORGANIZER;CN="Up-Beat First Aid & Safety Training":MAILTO:up-beat@live.ca
END:VEVENT
BEGIN:VEVENT
DTSTART;TZID=America/Dawson_Creek:20230120T093000
DTEND;TZID=America/Dawson_Creek:20230120T180000
DTSTAMP:20260420T211401
CREATED:20221123T190758Z
LAST-MODIFIED:20221123T190758Z
UID:7388-1674207000-1674237600@up-beatfirstaid.ca
SUMMARY:Level 1 First Aid – Dawson Creek
DESCRIPTION:WorkPlace Emergency First Aid – OFA 1 Equivalent
URL:https://up-beatfirstaid.ca/event/level-1-first-aid-dawson-creek-58/
LOCATION:Up-Beat First Aid Dawson Creek NEW\, 11000 8th Street\, Dawson Creek\, British Columbia\, V1G 4K6\, Canada
CATEGORIES:Emergency First Aid (EFA)
ORGANIZER;CN="Up-Beat First Aid & Safety Training":MAILTO:up-beat@live.ca
END:VEVENT
BEGIN:VEVENT
DTSTART;TZID=America/Dawson_Creek:20230117T093000
DTEND;TZID=America/Dawson_Creek:20230117T173000
DTSTAMP:20260420T211401
CREATED:20221115T204223Z
LAST-MODIFIED:20230111T173847Z
UID:7343-1673947800-1673976600@up-beatfirstaid.ca
SUMMARY:Level 1 First Aid – Dawson Creek
DESCRIPTION:WorkPlace Emergency First Aid – OFA 1 Equivalent
URL:https://up-beatfirstaid.ca/event/level-1-first-aid-dawson-creek-54/
LOCATION:Up-Beat First Aid Dawson Creek NEW\, 11000 8th Street\, Dawson Creek\, British Columbia\, V1G 4K6\, Canada
CATEGORIES:Emergency First Aid (EFA)
ORGANIZER;CN="Up-Beat First Aid & Safety Training":MAILTO:up-beat@live.ca
END:VEVENT
BEGIN:VEVENT
DTSTART;TZID=America/Dawson_Creek:20230113T093000
DTEND;TZID=America/Dawson_Creek:20230113T180000
DTSTAMP:20260420T211401
CREATED:20221123T190411Z
LAST-MODIFIED:20221123T190411Z
UID:7385-1673602200-1673632800@up-beatfirstaid.ca
SUMMARY:Level 1 First Aid – Dawson Creek
DESCRIPTION:WorkPlace Emergency First Aid – OFA 1 Equivalent
URL:https://up-beatfirstaid.ca/event/level-1-first-aid-dawson-creek-57/
LOCATION:Up-Beat First Aid Dawson Creek NEW\, 11000 8th Street\, Dawson Creek\, British Columbia\, V1G 4K6\, Canada
CATEGORIES:Emergency First Aid (EFA)
ORGANIZER;CN="Up-Beat First Aid & Safety Training":MAILTO:up-beat@live.ca
END:VEVENT
BEGIN:VEVENT
DTSTART;TZID=America/Dawson_Creek:20230109T093000
DTEND;TZID=America/Dawson_Creek:20230109T180000
DTSTAMP:20260420T211401
CREATED:20221115T204109Z
LAST-MODIFIED:20230106T160507Z
UID:7340-1673256600-1673287200@up-beatfirstaid.ca
SUMMARY:Level 1 First Aid – Dawson Creek
DESCRIPTION:WorkPlace Emergency First Aid – OFA 1 Equivalent
URL:https://up-beatfirstaid.ca/event/level-1-first-aid-dawson-creek-46/
LOCATION:Up-Beat First Aid Dawson Creek NEW\, 11000 8th Street\, Dawson Creek\, British Columbia\, V1G 4K6\, Canada
CATEGORIES:Emergency First Aid (EFA)
ORGANIZER;CN="Up-Beat First Aid & Safety Training":MAILTO:up-beat@live.ca
END:VEVENT
BEGIN:VEVENT
DTSTART;TZID=America/Dawson_Creek:20230106T093000
DTEND;TZID=America/Dawson_Creek:20230106T180000
DTSTAMP:20260420T211401
CREATED:20221123T190309Z
LAST-MODIFIED:20221123T190309Z
UID:7382-1672997400-1673028000@up-beatfirstaid.ca
SUMMARY:Level 1 First Aid – Dawson Creek
DESCRIPTION:WorkPlace Emergency First Aid – OFA 1 Equivalent
URL:https://up-beatfirstaid.ca/event/level-1-first-aid-dawson-creek-56/
LOCATION:Up-Beat First Aid Dawson Creek NEW\, 11000 8th Street\, Dawson Creek\, British Columbia\, V1G 4K6\, Canada
CATEGORIES:Emergency First Aid (EFA)
ORGANIZER;CN="Up-Beat First Aid & Safety Training":MAILTO:up-beat@live.ca
END:VEVENT
BEGIN:VEVENT
DTSTART;TZID=America/Dawson_Creek:20230103T093000
DTEND;TZID=America/Dawson_Creek:20230103T180000
DTSTAMP:20260420T211401
CREATED:20221115T204012Z
LAST-MODIFIED:20221221T204419Z
UID:7337-1672738200-1672768800@up-beatfirstaid.ca
SUMMARY:Level 1 First Aid – Dawson Creek
DESCRIPTION:WorkPlace Emergency First Aid – OFA 1 Equivalent
URL:https://up-beatfirstaid.ca/event/level-1-first-aid-dawson-creek-34/
LOCATION:Up-Beat First Aid Dawson Creek NEW\, 11000 8th Street\, Dawson Creek\, British Columbia\, V1G 4K6\, Canada
CATEGORIES:Emergency First Aid (EFA)
ORGANIZER;CN="Up-Beat First Aid & Safety Training":MAILTO:up-beat@live.ca
END:VEVENT
BEGIN:VEVENT
DTSTART;TZID=America/Dawson_Creek:20221220T093000
DTEND;TZID=America/Dawson_Creek:20221220T180000
DTSTAMP:20260420T211401
CREATED:20221021T215230Z
LAST-MODIFIED:20221115T203050Z
UID:7251-1671528600-1671559200@up-beatfirstaid.ca
SUMMARY:Level 1 First Aid – Dawson Creek
DESCRIPTION:WorkPlace Emergency First Aid – OFA 1 Equivalent
URL:https://up-beatfirstaid.ca/event/level-1-first-aid-dawson-creek-51/
LOCATION:Up-Beat First Aid Dawson Creek NEW\, 11000 8th Street\, Dawson Creek\, British Columbia\, V1G 4K6\, Canada
CATEGORIES:Emergency First Aid (EFA)
ORGANIZER;CN="Up-Beat First Aid & Safety Training":MAILTO:up-beat@live.ca
END:VEVENT
BEGIN:VEVENT
DTSTART;TZID=America/Dawson_Creek:20221214T093000
DTEND;TZID=America/Dawson_Creek:20221214T180000
DTSTAMP:20260420T211401
CREATED:20221021T220754Z
LAST-MODIFIED:20221212T223038Z
UID:7254-1671010200-1671040800@up-beatfirstaid.ca
SUMMARY:Level 1 First Aid – Dawson Creek
DESCRIPTION:WorkPlace Emergency First Aid – OFA 1 Equivalent
URL:https://up-beatfirstaid.ca/event/level-1-first-aid-dawson-creek-52/
LOCATION:Up-Beat First Aid Dawson Creek NEW\, 11000 8th Street\, Dawson Creek\, British Columbia\, V1G 4K6\, Canada
CATEGORIES:Emergency First Aid (EFA)
ORGANIZER;CN="Up-Beat First Aid & Safety Training":MAILTO:up-beat@live.ca
END:VEVENT
BEGIN:VEVENT
DTSTART;TZID=America/Dawson_Creek:20221207T093000
DTEND;TZID=America/Dawson_Creek:20221207T180000
DTSTAMP:20260420T211401
CREATED:20221021T221529Z
LAST-MODIFIED:20221115T202352Z
UID:7257-1670405400-1670436000@up-beatfirstaid.ca
SUMMARY:Level 1 First Aid – Dawson Creek
DESCRIPTION:WorkPlace Emergency First Aid – OFA 1 Equivalent
URL:https://up-beatfirstaid.ca/event/level-1-first-aid-dawson-creek-53/
LOCATION:Up-Beat First Aid Dawson Creek NEW\, 11000 8th Street\, Dawson Creek\, British Columbia\, V1G 4K6\, Canada
CATEGORIES:Emergency First Aid (EFA)
ORGANIZER;CN="Up-Beat First Aid & Safety Training":MAILTO:up-beat@live.ca
END:VEVENT
BEGIN:VEVENT
DTSTART;TZID=America/Dawson_Creek:20221206T093000
DTEND;TZID=America/Dawson_Creek:20221206T180000
DTSTAMP:20260420T211401
CREATED:20221020T222324Z
LAST-MODIFIED:20221115T201205Z
UID:7243-1670319000-1670349600@up-beatfirstaid.ca
SUMMARY:Level 1 First Aid – Dawson Creek
DESCRIPTION:WorkPlace Emergency First Aid – OFA 1 Equivalent
URL:https://up-beatfirstaid.ca/event/level-1-first-aid-dawson-creek-35/
LOCATION:Up-Beat First Aid Dawson Creek NEW\, 11000 8th Street\, Dawson Creek\, British Columbia\, V1G 4K6\, Canada
CATEGORIES:Emergency First Aid (EFA)
ORGANIZER;CN="Up-Beat First Aid & Safety Training":MAILTO:up-beat@live.ca
END:VEVENT
BEGIN:VEVENT
DTSTART;TZID=America/Dawson_Creek:20221125T080000
DTEND;TZID=America/Dawson_Creek:20221125T170000
DTSTAMP:20260420T211401
CREATED:20220923T185016Z
LAST-MODIFIED:20221123T191206Z
UID:7168-1669363200-1669395600@up-beatfirstaid.ca
SUMMARY:Level 1 First Aid – Chetwynd
DESCRIPTION:WorkPlace Emergency First Aid – OFA 1 Equivalent
URL:https://up-beatfirstaid.ca/event/level-1-first-aid-chetwynd-13/
LOCATION:Up-Beat First Aid Chetwynd\, 4717 – 51 St\, Chetwynd\, British Columbia\, V0C 1J0\, Canada
CATEGORIES:Emergency First Aid (EFA)
ORGANIZER;CN="Up-Beat First Aid & Safety Training":MAILTO:up-beat@live.ca
END:VEVENT
BEGIN:VEVENT
DTSTART;TZID=America/Dawson_Creek:20221123T093000
DTEND;TZID=America/Dawson_Creek:20221123T180000
DTSTAMP:20260420T211401
CREATED:20220923T184827Z
LAST-MODIFIED:20220923T184827Z
UID:7162-1669195800-1669226400@up-beatfirstaid.ca
SUMMARY:Level 1 First Aid – Dawson Creek
DESCRIPTION:WorkPlace Emergency First Aid – OFA 1 Equivalent
URL:https://up-beatfirstaid.ca/event/level-1-first-aid-dawson-creek-49/
LOCATION:Up-Beat First Aid Dawson Creek NEW\, 11000 8th Street\, Dawson Creek\, British Columbia\, V1G 4K6\, Canada
CATEGORIES:Emergency First Aid (EFA)
ORGANIZER;CN="Up-Beat First Aid & Safety Training":MAILTO:up-beat@live.ca
END:VEVENT
END:VCALENDAR