BEGIN:VCALENDAR
VERSION:2.0
PRODID:-//Up-Beat First Aid &amp; Safety Training Ltd. - ECPv6.15.20//NONSGML v1.0//EN
CALSCALE:GREGORIAN
METHOD:PUBLISH
X-WR-CALNAME:Up-Beat First Aid &amp; Safety Training Ltd.
X-ORIGINAL-URL:https://up-beatfirstaid.ca
X-WR-CALDESC:Events for Up-Beat First Aid &amp; Safety Training Ltd.
REFRESH-INTERVAL;VALUE=DURATION:PT1H
X-Robots-Tag:noindex
X-PUBLISHED-TTL:PT1H
BEGIN:VTIMEZONE
TZID:America/Dawson_Creek
BEGIN:STANDARD
TZOFFSETFROM:-0700
TZOFFSETTO:-0700
TZNAME:MST
DTSTART:20210101T000000
END:STANDARD
END:VTIMEZONE
BEGIN:VEVENT
DTSTART;TZID=America/Dawson_Creek:20221122T093000
DTEND;TZID=America/Dawson_Creek:20221122T180000
DTSTAMP:20260421T013439
CREATED:20220923T184104Z
LAST-MODIFIED:20221115T200033Z
UID:7159-1669109400-1669140000@up-beatfirstaid.ca
SUMMARY:Level 1 First Aid – Dawson Creek
DESCRIPTION:WorkPlace Emergency First Aid – OFA 1 Equivalent
URL:https://up-beatfirstaid.ca/event/level-1-first-aid-dawson-creek-48/
LOCATION:Up-Beat First Aid Dawson Creek NEW\, 11000 8th Street\, Dawson Creek\, British Columbia\, V1G 4K6\, Canada
CATEGORIES:Emergency First Aid (EFA)
ORGANIZER;CN="Up-Beat First Aid & Safety Training":MAILTO:up-beat@live.ca
END:VEVENT
BEGIN:VEVENT
DTSTART;TZID=America/Dawson_Creek:20221116T093000
DTEND;TZID=America/Dawson_Creek:20221116T180000
DTSTAMP:20260421T013439
CREATED:20220923T183459Z
LAST-MODIFIED:20221101T192905Z
UID:7150-1668591000-1668621600@up-beatfirstaid.ca
SUMMARY:Level 1 First Aid – Dawson Creek
DESCRIPTION:WorkPlace Emergency First Aid – OFA 1 Equivalent
URL:https://up-beatfirstaid.ca/event/level-1-first-aid-dawson-creek-47/
LOCATION:Up-Beat First Aid Dawson Creek NEW\, 11000 8th Street\, Dawson Creek\, British Columbia\, V1G 4K6\, Canada
CATEGORIES:Emergency First Aid (EFA)
ORGANIZER;CN="Up-Beat First Aid & Safety Training":MAILTO:up-beat@live.ca
END:VEVENT
BEGIN:VEVENT
DTSTART;TZID=America/Dawson_Creek:20221108T080000
DTEND;TZID=America/Dawson_Creek:20221108T170000
DTSTAMP:20260421T013439
CREATED:20220923T182948Z
LAST-MODIFIED:20221107T171729Z
UID:7138-1667894400-1667926800@up-beatfirstaid.ca
SUMMARY:Level 1 First Aid – Dawson Creek
DESCRIPTION:WorkPlace Emergency First Aid – OFA 1 Equivalent
URL:https://up-beatfirstaid.ca/event/level-1-first-aid-dawson-creek-45/
LOCATION:Up-Beat First Aid Dawson Creek NEW\, 11000 8th Street\, Dawson Creek\, British Columbia\, V1G 4K6\, Canada
CATEGORIES:Emergency First Aid (EFA)
ORGANIZER;CN="Up-Beat First Aid & Safety Training":MAILTO:up-beat@live.ca
END:VEVENT
BEGIN:VEVENT
DTSTART;TZID=America/Dawson_Creek:20221102T083000
DTEND;TZID=America/Dawson_Creek:20221102T170000
DTSTAMP:20260421T013439
CREATED:20220923T182311Z
LAST-MODIFIED:20220923T183059Z
UID:7126-1667377800-1667408400@up-beatfirstaid.ca
SUMMARY:Level 1 First Aid – Dawson Creek
DESCRIPTION:WorkPlace Emergency First Aid – OFA 1 Equivalent
URL:https://up-beatfirstaid.ca/event/level-1-first-aid-dawson-creek-38/
LOCATION:Up-Beat First Aid Dawson Creek NEW\, 11000 8th Street\, Dawson Creek\, British Columbia\, V1G 4K6\, Canada
CATEGORIES:Emergency First Aid (EFA)
ORGANIZER;CN="Up-Beat First Aid & Safety Training":MAILTO:up-beat@live.ca
END:VEVENT
BEGIN:VEVENT
DTSTART;TZID=America/Dawson_Creek:20221028T080000
DTEND;TZID=America/Dawson_Creek:20221028T170000
DTSTAMP:20260421T013439
CREATED:20220822T222409Z
LAST-MODIFIED:20221025T164726Z
UID:6986-1666944000-1666976400@up-beatfirstaid.ca
SUMMARY:Level 1 First Aid – Chetwynd
DESCRIPTION:WorkPlace Emergency First Aid – OFA 1 Equivalent
URL:https://up-beatfirstaid.ca/event/level-1-first-aid-chetwynd-11/
LOCATION:Up-Beat First Aid Chetwynd\, 4717 – 51 St\, Chetwynd\, British Columbia\, V0C 1J0\, Canada
CATEGORIES:Emergency First Aid (EFA)
ORGANIZER;CN="Up-Beat First Aid & Safety Training":MAILTO:up-beat@live.ca
END:VEVENT
BEGIN:VEVENT
DTSTART;TZID=America/Dawson_Creek:20221026T083000
DTEND;TZID=America/Dawson_Creek:20221026T170000
DTSTAMP:20260421T013439
CREATED:20220822T183408Z
LAST-MODIFIED:20221024T204126Z
UID:6973-1666773000-1666803600@up-beatfirstaid.ca
SUMMARY:Level 1 First Aid – Dawson Creek
DESCRIPTION:WorkPlace Emergency First Aid – OFA 1 Equivalent
URL:https://up-beatfirstaid.ca/event/level-1-first-aid-dawson-creek-44/
LOCATION:Up-Beat First Aid Dawson Creek NEW\, 11000 8th Street\, Dawson Creek\, British Columbia\, V1G 4K6\, Canada
CATEGORIES:Emergency First Aid (EFA)
ORGANIZER;CN="Up-Beat First Aid & Safety Training":MAILTO:up-beat@live.ca
END:VEVENT
BEGIN:VEVENT
DTSTART;TZID=America/Dawson_Creek:20221025T083000
DTEND;TZID=America/Dawson_Creek:20221025T170000
DTSTAMP:20260421T013439
CREATED:20220822T183240Z
LAST-MODIFIED:20221024T204034Z
UID:6970-1666686600-1666717200@up-beatfirstaid.ca
SUMMARY:Level 1 First Aid – Dawson Creek
DESCRIPTION:WorkPlace Emergency First Aid – OFA 1 Equivalent
URL:https://up-beatfirstaid.ca/event/level-1-first-aid-dawson-creek-43/
LOCATION:Up-Beat First Aid Dawson Creek NEW\, 11000 8th Street\, Dawson Creek\, British Columbia\, V1G 4K6\, Canada
CATEGORIES:Emergency First Aid (EFA)
ORGANIZER;CN="Up-Beat First Aid & Safety Training":MAILTO:up-beat@live.ca
END:VEVENT
BEGIN:VEVENT
DTSTART;TZID=America/Dawson_Creek:20221019T093000
DTEND;TZID=America/Dawson_Creek:20221019T180000
DTSTAMP:20260421T013439
CREATED:20220822T182922Z
LAST-MODIFIED:20221018T185547Z
UID:6964-1666171800-1666202400@up-beatfirstaid.ca
SUMMARY:Level 1 First Aid – Dawson Creek
DESCRIPTION:WorkPlace Emergency First Aid – OFA 1 Equivalent
URL:https://up-beatfirstaid.ca/event/level-1-first-aid-dawson-creek-42/
LOCATION:Up-Beat First Aid Dawson Creek NEW\, 11000 8th Street\, Dawson Creek\, British Columbia\, V1G 4K6\, Canada
CATEGORIES:Emergency First Aid (EFA)
ORGANIZER;CN="Up-Beat First Aid & Safety Training":MAILTO:up-beat@live.ca
END:VEVENT
BEGIN:VEVENT
DTSTART;TZID=America/Dawson_Creek:20221014T080000
DTEND;TZID=America/Dawson_Creek:20221014T170000
DTSTAMP:20260421T013439
CREATED:20220822T181853Z
LAST-MODIFIED:20221011T174451Z
UID:6945-1665734400-1665766800@up-beatfirstaid.ca
SUMMARY:Level 1 First Aid – Chetwynd
DESCRIPTION:WorkPlace Emergency First Aid – OFA 1 Equivalent
URL:https://up-beatfirstaid.ca/event/level-1-first-aid-chetwynd-10/
LOCATION:Up-Beat First Aid Chetwynd\, 4717 – 51 St\, Chetwynd\, British Columbia\, V0C 1J0\, Canada
CATEGORIES:Emergency First Aid (EFA)
ORGANIZER;CN="Up-Beat First Aid & Safety Training":MAILTO:up-beat@live.ca
END:VEVENT
BEGIN:VEVENT
DTSTART;TZID=America/Dawson_Creek:20221012T093000
DTEND;TZID=America/Dawson_Creek:20221012T180000
DTSTAMP:20260421T013439
CREATED:20220822T180758Z
LAST-MODIFIED:20221011T191042Z
UID:6939-1665567000-1665597600@up-beatfirstaid.ca
SUMMARY:Level 1 First Aid – Dawson Creek
DESCRIPTION:WorkPlace Emergency First Aid – OFA 1 Equivalent
URL:https://up-beatfirstaid.ca/event/level-1-first-aid-dawson-creek-41/
LOCATION:Up-Beat First Aid Dawson Creek NEW\, 11000 8th Street\, Dawson Creek\, British Columbia\, V1G 4K6\, Canada
CATEGORIES:Emergency First Aid (EFA)
ORGANIZER;CN="Up-Beat First Aid & Safety Training":MAILTO:up-beat@live.ca
END:VEVENT
BEGIN:VEVENT
DTSTART;TZID=America/Dawson_Creek:20221005T093000
DTEND;TZID=America/Dawson_Creek:20221005T180000
DTSTAMP:20260421T013439
CREATED:20220822T173831Z
LAST-MODIFIED:20220822T173831Z
UID:6920-1664962200-1664992800@up-beatfirstaid.ca
SUMMARY:Level 1 First Aid – Dawson Creek
DESCRIPTION:WorkPlace Emergency First Aid – OFA 1 Equivalent
URL:https://up-beatfirstaid.ca/event/level-1-first-aid-dawson-creek-39/
LOCATION:Up-Beat First Aid Dawson Creek NEW\, 11000 8th Street\, Dawson Creek\, British Columbia\, V1G 4K6\, Canada
CATEGORIES:Emergency First Aid (EFA)
ORGANIZER;CN="Up-Beat First Aid & Safety Training":MAILTO:up-beat@live.ca
END:VEVENT
BEGIN:VEVENT
DTSTART;TZID=America/Dawson_Creek:20221004T093000
DTEND;TZID=America/Dawson_Creek:20221004T180000
DTSTAMP:20260421T013439
CREATED:20220822T173219Z
LAST-MODIFIED:20220929T222053Z
UID:6911-1664875800-1664906400@up-beatfirstaid.ca
SUMMARY:Level 1 First Aid – Dawson Creek
DESCRIPTION:WorkPlace Emergency First Aid – OFA 1 Equivalent
URL:https://up-beatfirstaid.ca/event/level-1-first-aid-dawson-creek-25/
LOCATION:Up-Beat First Aid Dawson Creek NEW\, 11000 8th Street\, Dawson Creek\, British Columbia\, V1G 4K6\, Canada
CATEGORIES:Emergency First Aid (EFA)
ORGANIZER;CN="Up-Beat First Aid & Safety Training":MAILTO:up-beat@live.ca
END:VEVENT
BEGIN:VEVENT
DTSTART;TZID=America/Dawson_Creek:20220927T083000
DTEND;TZID=America/Dawson_Creek:20220927T170000
DTSTAMP:20260421T013439
CREATED:20220712T170226Z
LAST-MODIFIED:20220926T161406Z
UID:6631-1664267400-1664298000@up-beatfirstaid.ca
SUMMARY:Level 1 First Aid - Dawson Creek
DESCRIPTION:WorkPlace Emergency First Aid – OFA 1 Equivalent
URL:https://up-beatfirstaid.ca/event/level-1-first-aid-dawson-creek-33/
LOCATION:Up-Beat First Aid Dawson Creek NEW\, 11000 8th Street\, Dawson Creek\, British Columbia\, V1G 4K6\, Canada
CATEGORIES:Emergency First Aid (EFA),OFA1
ORGANIZER;CN="Up-Beat First Aid & Safety Training":MAILTO:up-beat@live.ca
END:VEVENT
BEGIN:VEVENT
DTSTART;TZID=America/Dawson_Creek:20220923T080000
DTEND;TZID=America/Dawson_Creek:20220923T170000
DTSTAMP:20260421T013439
CREATED:20220810T183104Z
LAST-MODIFIED:20220919T210848Z
UID:6863-1663920000-1663952400@up-beatfirstaid.ca
SUMMARY:Level 1 first aid - Chetwynd
DESCRIPTION:
URL:https://up-beatfirstaid.ca/event/level-1-first-aid-chetwynd-9/
LOCATION:Up-Beat First Aid Chetwynd\, 4717 – 51 St\, Chetwynd\, British Columbia\, V0C 1J0\, Canada
CATEGORIES:CPR A,Emergency First Aid (EFA),OFA1
ORGANIZER;CN="Up-Beat First Aid & Safety Training":MAILTO:up-beat@live.ca
END:VEVENT
BEGIN:VEVENT
DTSTART;TZID=America/Dawson_Creek:20220922T083000
DTEND;TZID=America/Dawson_Creek:20220922T170000
DTSTAMP:20260421T013439
CREATED:20220712T173858Z
LAST-MODIFIED:20220919T210757Z
UID:6655-1663835400-1663866000@up-beatfirstaid.ca
SUMMARY:Level 1 First Aid - Dawson Creek
DESCRIPTION:WorkPlace Emergency First Aid – OFA 1 Equivalent
URL:https://up-beatfirstaid.ca/event/level-1-first-aid-dawson-creek-37/
LOCATION:Up-Beat First Aid Dawson Creek NEW\, 11000 8th Street\, Dawson Creek\, British Columbia\, V1G 4K6\, Canada
CATEGORIES:Emergency First Aid (EFA),OFA1
ORGANIZER;CN="Up-Beat First Aid & Safety Training":MAILTO:up-beat@live.ca
END:VEVENT
BEGIN:VEVENT
DTSTART;TZID=America/Dawson_Creek:20220920T083000
DTEND;TZID=America/Dawson_Creek:20220920T170000
DTSTAMP:20260421T013439
CREATED:20220712T165108Z
LAST-MODIFIED:20220914T183457Z
UID:6625-1663662600-1663693200@up-beatfirstaid.ca
SUMMARY:Level 1 First Aid - Dawson Creek
DESCRIPTION:WorkPlace Emergency First Aid – OFA 1 Equivalent
URL:https://up-beatfirstaid.ca/event/level-1-first-aid-dawson-creek-32/
LOCATION:Up-Beat First Aid Dawson Creek NEW\, 11000 8th Street\, Dawson Creek\, British Columbia\, V1G 4K6\, Canada
CATEGORIES:Emergency First Aid (EFA),OFA1
ORGANIZER;CN="Up-Beat First Aid & Safety Training":MAILTO:up-beat@live.ca
END:VEVENT
BEGIN:VEVENT
DTSTART;TZID=America/Dawson_Creek:20220915T083000
DTEND;TZID=America/Dawson_Creek:20220915T170000
DTSTAMP:20260421T013439
CREATED:20220712T173804Z
LAST-MODIFIED:20220914T203709Z
UID:6652-1663230600-1663261200@up-beatfirstaid.ca
SUMMARY:Level 1 First Aid - Dawson Creek
DESCRIPTION:WorkPlace Emergency First Aid – OFA 1 Equivalent
URL:https://up-beatfirstaid.ca/event/level-1-first-aid-dawson-creek-36/
LOCATION:Up-Beat First Aid Dawson Creek NEW\, 11000 8th Street\, Dawson Creek\, British Columbia\, V1G 4K6\, Canada
CATEGORIES:Emergency First Aid (EFA),OFA1
ORGANIZER;CN="Up-Beat First Aid & Safety Training":MAILTO:up-beat@live.ca
END:VEVENT
BEGIN:VEVENT
DTSTART;TZID=America/Dawson_Creek:20220913T083000
DTEND;TZID=America/Dawson_Creek:20220913T170000
DTSTAMP:20260421T013439
CREATED:20220712T165021Z
LAST-MODIFIED:20220907T170619Z
UID:6622-1663057800-1663088400@up-beatfirstaid.ca
SUMMARY:Level 1 First Aid - Dawson Creek
DESCRIPTION:WorkPlace Emergency First Aid – OFA 1 Equivalent
URL:https://up-beatfirstaid.ca/event/level-1-first-aid-dawson-creek-19/
LOCATION:Up-Beat First Aid Dawson Creek NEW\, 11000 8th Street\, Dawson Creek\, British Columbia\, V1G 4K6\, Canada
CATEGORIES:Emergency First Aid (EFA),OFA1
ORGANIZER;CN="Up-Beat First Aid & Safety Training":MAILTO:up-beat@live.ca
END:VEVENT
BEGIN:VEVENT
DTSTART;TZID=America/Dawson_Creek:20220906T083000
DTEND;TZID=America/Dawson_Creek:20220906T170000
DTSTAMP:20260421T013439
CREATED:20220712T164854Z
LAST-MODIFIED:20220712T164854Z
UID:6619-1662453000-1662483600@up-beatfirstaid.ca
SUMMARY:Level 1 First Aid - Dawson Creek
DESCRIPTION:WorkPlace Emergency First Aid – OFA 1 Equivalent
URL:https://up-beatfirstaid.ca/event/level-1-first-aid-dawson-creek-15/
LOCATION:Up-Beat First Aid Dawson Creek NEW\, 11000 8th Street\, Dawson Creek\, British Columbia\, V1G 4K6\, Canada
CATEGORIES:Emergency First Aid (EFA),OFA1
ORGANIZER;CN="Up-Beat First Aid & Safety Training":MAILTO:up-beat@live.ca
END:VEVENT
BEGIN:VEVENT
DTSTART;TZID=America/Dawson_Creek:20220830T083000
DTEND;TZID=America/Dawson_Creek:20220830T170000
DTSTAMP:20260421T013439
CREATED:20220601T210617Z
LAST-MODIFIED:20220829T155454Z
UID:6460-1661848200-1661878800@up-beatfirstaid.ca
SUMMARY:Level 1 First Aid - Dawson Creek
DESCRIPTION:WorkPlace Emergency First Aid – OFA 1 Equivalent
URL:https://up-beatfirstaid.ca/event/level-1-first-aid-dawson-creek-31/
LOCATION:Up-Beat First Aid Dawson Creek NEW\, 11000 8th Street\, Dawson Creek\, British Columbia\, V1G 4K6\, Canada
CATEGORIES:Emergency First Aid (EFA),OFA1
ORGANIZER;CN="Up-Beat First Aid & Safety Training":MAILTO:up-beat@live.ca
END:VEVENT
BEGIN:VEVENT
DTSTART;TZID=America/Dawson_Creek:20220826T080000
DTEND;TZID=America/Dawson_Creek:20220826T170000
DTSTAMP:20260421T013439
CREATED:20220704T203308Z
LAST-MODIFIED:20220825T203830Z
UID:6574-1661500800-1661533200@up-beatfirstaid.ca
SUMMARY:Level 1 First aid - Chetwynd
DESCRIPTION:
URL:https://up-beatfirstaid.ca/event/level-1-first-aid-chetwynd-8/
LOCATION:Up-Beat First Aid Chetwynd\, 4717 – 51 St\, Chetwynd\, British Columbia\, V0C 1J0\, Canada
CATEGORIES:Emergency First Aid (EFA),OFA1
ORGANIZER;CN="Up-Beat First Aid & Safety Training":MAILTO:up-beat@live.ca
END:VEVENT
BEGIN:VEVENT
DTSTART;TZID=America/Dawson_Creek:20220825T083000
DTEND;TZID=America/Dawson_Creek:20220825T170000
DTSTAMP:20260421T013439
CREATED:20220601T205944Z
LAST-MODIFIED:20220823T200841Z
UID:6447-1661416200-1661446800@up-beatfirstaid.ca
SUMMARY:Level 1 First Aid - Dawson Creek
DESCRIPTION:WorkPlace Emergency First Aid – OFA 1 Equivalent
URL:https://up-beatfirstaid.ca/event/level-1-first-aid-dawson-creek-27/
LOCATION:Up-Beat First Aid Dawson Creek NEW\, 11000 8th Street\, Dawson Creek\, British Columbia\, V1G 4K6\, Canada
CATEGORIES:Emergency First Aid (EFA),OFA1
ORGANIZER;CN="Up-Beat First Aid & Safety Training":MAILTO:up-beat@live.ca
END:VEVENT
BEGIN:VEVENT
DTSTART;TZID=America/Dawson_Creek:20220823T083000
DTEND;TZID=America/Dawson_Creek:20220823T170000
DTSTAMP:20260421T013439
CREATED:20220601T210512Z
LAST-MODIFIED:20220818T171726Z
UID:6457-1661243400-1661274000@up-beatfirstaid.ca
SUMMARY:Level 1 First Aid - Dawson Creek
DESCRIPTION:WorkPlace Emergency First Aid – OFA 1 Equivalent
URL:https://up-beatfirstaid.ca/event/level-1-first-aid-dawson-creek-30/
LOCATION:Up-Beat First Aid Dawson Creek NEW\, 11000 8th Street\, Dawson Creek\, British Columbia\, V1G 4K6\, Canada
CATEGORIES:Emergency First Aid (EFA),OFA1
ORGANIZER;CN="Up-Beat First Aid & Safety Training":MAILTO:up-beat@live.ca
END:VEVENT
BEGIN:VEVENT
DTSTART;TZID=America/Dawson_Creek:20220818T083000
DTEND;TZID=America/Dawson_Creek:20220818T170000
DTSTAMP:20260421T013439
CREATED:20220804T224756Z
LAST-MODIFIED:20220812T180912Z
UID:6843-1660811400-1660842000@up-beatfirstaid.ca
SUMMARY:Level 1 first aid - Dawson Creek
DESCRIPTION:
URL:https://up-beatfirstaid.ca/event/level-1-first-aid-dawson-creek-26/
LOCATION:Up-Beat First Aid Dawson Creek NEW\, 11000 8th Street\, Dawson Creek\, British Columbia\, V1G 4K6\, Canada
CATEGORIES:Emergency First Aid (EFA),OFA1,Workplace Emergency 1st Aid
ORGANIZER;CN="Up-Beat First Aid & Safety Training":MAILTO:up-beat@live.ca
END:VEVENT
BEGIN:VEVENT
DTSTART;TZID=America/Dawson_Creek:20220816T083000
DTEND;TZID=America/Dawson_Creek:20220816T170000
DTSTAMP:20260421T013439
CREATED:20220601T210413Z
LAST-MODIFIED:20220809T190636Z
UID:6454-1660638600-1660669200@up-beatfirstaid.ca
SUMMARY:Level 1 First Aid - Dawson Creek
DESCRIPTION:WorkPlace Emergency First Aid – OFA 1 Equivalent
URL:https://up-beatfirstaid.ca/event/level-1-first-aid-dawson-creek-29/
LOCATION:Up-Beat First Aid Dawson Creek NEW\, 11000 8th Street\, Dawson Creek\, British Columbia\, V1G 4K6\, Canada
CATEGORIES:Emergency First Aid (EFA),OFA1
ORGANIZER;CN="Up-Beat First Aid & Safety Training":MAILTO:up-beat@live.ca
END:VEVENT
BEGIN:VEVENT
DTSTART;TZID=America/Dawson_Creek:20220809T083000
DTEND;TZID=America/Dawson_Creek:20220809T170000
DTSTAMP:20260421T013439
CREATED:20220601T210316Z
LAST-MODIFIED:20220804T183328Z
UID:6451-1660033800-1660064400@up-beatfirstaid.ca
SUMMARY:Level 1 First Aid - Dawson Creek
DESCRIPTION:WorkPlace Emergency First Aid – OFA 1 Equivalent
URL:https://up-beatfirstaid.ca/event/level-1-first-aid-dawson-creek-28/
LOCATION:Up-Beat First Aid Dawson Creek NEW\, 11000 8th Street\, Dawson Creek\, British Columbia\, V1G 4K6\, Canada
CATEGORIES:Emergency First Aid (EFA),OFA1
ORGANIZER;CN="Up-Beat First Aid & Safety Training":MAILTO:up-beat@live.ca
END:VEVENT
BEGIN:VEVENT
DTSTART;TZID=America/Dawson_Creek:20220804T083000
DTEND;TZID=America/Dawson_Creek:20220804T170000
DTSTAMP:20260421T013439
CREATED:20220526T165107Z
LAST-MODIFIED:20220728T201803Z
UID:6410-1659601800-1659632400@up-beatfirstaid.ca
SUMMARY:Level 1 First Aid - Dawson Creek
DESCRIPTION:WorkPlace Emergency First Aid – OFA 1 Equivalent
URL:https://up-beatfirstaid.ca/event/level-1-first-aid-dawson-creek-24/
LOCATION:Up-Beat First Aid Dawson Creek NEW\, 11000 8th Street\, Dawson Creek\, British Columbia\, V1G 4K6\, Canada
CATEGORIES:Emergency First Aid (EFA),OFA1
ORGANIZER;CN="Up-Beat First Aid & Safety Training":MAILTO:up-beat@live.ca
END:VEVENT
BEGIN:VEVENT
DTSTART;TZID=America/Dawson_Creek:20220804T080000
DTEND;TZID=America/Dawson_Creek:20220804T170000
DTSTAMP:20260421T013439
CREATED:20220704T203125Z
LAST-MODIFIED:20220728T201352Z
UID:6571-1659600000-1659632400@up-beatfirstaid.ca
SUMMARY:Level 1 First aid - Chetwynd
DESCRIPTION:
URL:https://up-beatfirstaid.ca/event/level-1-first-aid-chetwynd-7/
LOCATION:Up-Beat First Aid Chetwynd\, 4717 – 51 St\, Chetwynd\, British Columbia\, V0C 1J0\, Canada
CATEGORIES:Emergency First Aid (EFA),OFA1
ORGANIZER;CN="Up-Beat First Aid & Safety Training":MAILTO:up-beat@live.ca
END:VEVENT
BEGIN:VEVENT
DTSTART;TZID=America/Dawson_Creek:20220802T083000
DTEND;TZID=America/Dawson_Creek:20220802T170000
DTSTAMP:20260421T013439
CREATED:20220526T164915Z
LAST-MODIFIED:20220728T201142Z
UID:6407-1659429000-1659459600@up-beatfirstaid.ca
SUMMARY:Level 1 First Aid - Dawson Creek
DESCRIPTION:WorkPlace Emergency First Aid – OFA 1 Equivalent
URL:https://up-beatfirstaid.ca/event/level-1-first-aid-dawson-creek-11/
LOCATION:Up-Beat First Aid Dawson Creek NEW\, 11000 8th Street\, Dawson Creek\, British Columbia\, V1G 4K6\, Canada
CATEGORIES:Emergency First Aid (EFA),OFA1
ORGANIZER;CN="Up-Beat First Aid & Safety Training":MAILTO:up-beat@live.ca
END:VEVENT
BEGIN:VEVENT
DTSTART;TZID=America/Dawson_Creek:20220729T080000
DTEND;TZID=America/Dawson_Creek:20220729T170000
DTSTAMP:20260421T013439
CREATED:20220606T202602Z
LAST-MODIFIED:20220714T201547Z
UID:6492-1659081600-1659114000@up-beatfirstaid.ca
SUMMARY:Level 1 First aid - Chetwynd
DESCRIPTION:
URL:https://up-beatfirstaid.ca/event/level-1-first-aid-chetwynd-6/
LOCATION:Up-Beat First Aid Chetwynd\, 4717 – 51 St\, Chetwynd\, British Columbia\, V0C 1J0\, Canada
CATEGORIES:Emergency First Aid (EFA),OFA1
ORGANIZER;CN="Up-Beat First Aid & Safety Training":MAILTO:up-beat@live.ca
END:VEVENT
END:VCALENDAR