BEGIN:VCALENDAR
VERSION:2.0
PRODID:-//Up-Beat First Aid &amp; Safety Training Ltd. - ECPv6.15.20//NONSGML v1.0//EN
CALSCALE:GREGORIAN
METHOD:PUBLISH
X-ORIGINAL-URL:https://up-beatfirstaid.ca
X-WR-CALDESC:Events for Up-Beat First Aid &amp; Safety Training Ltd.
REFRESH-INTERVAL;VALUE=DURATION:PT1H
X-Robots-Tag:noindex
X-PUBLISHED-TTL:PT1H
BEGIN:VTIMEZONE
TZID:America/Dawson_Creek
BEGIN:STANDARD
TZOFFSETFROM:-0700
TZOFFSETTO:-0700
TZNAME:MST
DTSTART:20200101T000000
END:STANDARD
END:VTIMEZONE
BEGIN:VEVENT
DTSTART;TZID=America/Dawson_Creek:20220301T093000
DTEND;TZID=America/Dawson_Creek:20220301T170000
DTSTAMP:20260421T170247
CREATED:20220126T202657Z
LAST-MODIFIED:20220226T220145Z
UID:4798-1646127000-1646154000@up-beatfirstaid.ca
SUMMARY:WorkPlace Emergency First Aid - OFA 1 equivalent - Dawson Creek
DESCRIPTION:
URL:https://up-beatfirstaid.ca/event/workplace-emergency-first-aid-ofa-1-equivalent-dawson-creek-20/
LOCATION:Up-Beat First Aid Dawson Creek NEW\, 11000 8th Street\, Dawson Creek\, British Columbia\, V1G 4K6\, Canada
CATEGORIES:Emergency First Aid (EFA),OFA1,Workplace Emergency 1st Aid
ORGANIZER;CN="Up-Beat First Aid & Safety Training":MAILTO:up-beat@live.ca
END:VEVENT
BEGIN:VEVENT
DTSTART;TZID=America/Dawson_Creek:20220222T093000
DTEND;TZID=America/Dawson_Creek:20220222T170000
DTSTAMP:20260421T170247
CREATED:20220110T202911Z
LAST-MODIFIED:20220217T181416Z
UID:4013-1645522200-1645549200@up-beatfirstaid.ca
SUMMARY:Work Place Emergency First Aid - OFA 1 Equivalent Dawson Creek
DESCRIPTION:
URL:https://up-beatfirstaid.ca/event/work-place-emergency-first-aid-ofa-1-equivalent-dawson-creek-39/
LOCATION:Up-Beat First Aid Dawson Creek NEW\, 11000 8th Street\, Dawson Creek\, British Columbia\, V1G 4K6\, Canada
CATEGORIES:Emergency First Aid (EFA),OFA1,Workplace Emergency 1st Aid
ORGANIZER;CN="Up-Beat First Aid & Safety Training":MAILTO:up-beat@live.ca
END:VEVENT
BEGIN:VEVENT
DTSTART;TZID=America/Dawson_Creek:20220218T093000
DTEND;TZID=America/Dawson_Creek:20220218T170000
DTSTAMP:20260421T170247
CREATED:20220110T202818Z
LAST-MODIFIED:20220215T224952Z
UID:4010-1645176600-1645203600@up-beatfirstaid.ca
SUMMARY:Work Place Emergency First Aid - OFA 1 Equivalent Dawson Creek
DESCRIPTION:
URL:https://up-beatfirstaid.ca/event/work-place-emergency-first-aid-ofa-1-equivalent-dawson-creek-38/
LOCATION:Up-Beat First Aid Dawson Creek NEW\, 11000 8th Street\, Dawson Creek\, British Columbia\, V1G 4K6\, Canada
CATEGORIES:Emergency First Aid (EFA),OFA1,Workplace Emergency 1st Aid
ORGANIZER;CN="Up-Beat First Aid & Safety Training":MAILTO:up-beat@live.ca
END:VEVENT
BEGIN:VEVENT
DTSTART;TZID=America/Dawson_Creek:20220215T093000
DTEND;TZID=America/Dawson_Creek:20220215T170000
DTSTAMP:20260421T170247
CREATED:20220110T202641Z
LAST-MODIFIED:20220214T170628Z
UID:4007-1644917400-1644944400@up-beatfirstaid.ca
SUMMARY:Work Place Emergency First Aid - OFA 1 Equivalent Dawson Creek
DESCRIPTION:
URL:https://up-beatfirstaid.ca/event/work-place-emergency-first-aid-ofa-1-equivalent-dawson-creek-37/
LOCATION:Up-Beat First Aid Dawson Creek NEW\, 11000 8th Street\, Dawson Creek\, British Columbia\, V1G 4K6\, Canada
CATEGORIES:Emergency First Aid (EFA),OFA1,Workplace Emergency 1st Aid
ORGANIZER;CN="Up-Beat First Aid & Safety Training":MAILTO:up-beat@live.ca
END:VEVENT
BEGIN:VEVENT
DTSTART;TZID=America/Dawson_Creek:20220210T093000
DTEND;TZID=America/Dawson_Creek:20220210T170000
DTSTAMP:20260421T170247
CREATED:20220110T201257Z
LAST-MODIFIED:20220207T181347Z
UID:4004-1644485400-1644512400@up-beatfirstaid.ca
SUMMARY:Work Place Emergency First Aid - OFA 1 Equivalent Dawson Creek
DESCRIPTION:
URL:https://up-beatfirstaid.ca/event/work-place-emergency-first-aid-ofa-1-equivalent-dawson-creek-36/
LOCATION:Up-Beat First Aid Dawson Creek NEW\, 11000 8th Street\, Dawson Creek\, British Columbia\, V1G 4K6\, Canada
CATEGORIES:Emergency First Aid (EFA),OFA1,Workplace Emergency 1st Aid
ORGANIZER;CN="Up-Beat First Aid & Safety Training":MAILTO:up-beat@live.ca
END:VEVENT
BEGIN:VEVENT
DTSTART;TZID=America/Dawson_Creek:20220208T093000
DTEND;TZID=America/Dawson_Creek:20220208T170000
DTSTAMP:20260421T170247
CREATED:20220110T201121Z
LAST-MODIFIED:20220207T160703Z
UID:4001-1644312600-1644339600@up-beatfirstaid.ca
SUMMARY:Work Place Emergency First Aid - OFA 1 Equivalent Dawson Creek
DESCRIPTION:
URL:https://up-beatfirstaid.ca/event/work-place-emergency-first-aid-ofa-1-equivalent-dawson-creek-35/
LOCATION:Up-Beat First Aid Dawson Creek NEW\, 11000 8th Street\, Dawson Creek\, British Columbia\, V1G 4K6\, Canada
CATEGORIES:Emergency First Aid (EFA),OFA1,Workplace Emergency 1st Aid
ORGANIZER;CN="Up-Beat First Aid & Safety Training":MAILTO:up-beat@live.ca
END:VEVENT
BEGIN:VEVENT
DTSTART;TZID=America/Dawson_Creek:20220204T093000
DTEND;TZID=America/Dawson_Creek:20220204T170000
DTSTAMP:20260421T170247
CREATED:20220110T200441Z
LAST-MODIFIED:20220110T200441Z
UID:3998-1643967000-1643994000@up-beatfirstaid.ca
SUMMARY:Work Place Emergency First Aid - OFA 1 Equivalent Dawson Creek
DESCRIPTION:
URL:https://up-beatfirstaid.ca/event/work-place-emergency-first-aid-ofa-1-equivalent-dawson-creek-34/
LOCATION:Up-Beat First Aid Dawson Creek NEW\, 11000 8th Street\, Dawson Creek\, British Columbia\, V1G 4K6\, Canada
CATEGORIES:Emergency First Aid (EFA),OFA1,Workplace Emergency 1st Aid
ORGANIZER;CN="Up-Beat First Aid & Safety Training":MAILTO:up-beat@live.ca
END:VEVENT
BEGIN:VEVENT
DTSTART;TZID=America/Dawson_Creek:20220204T080000
DTEND;TZID=America/Dawson_Creek:20220204T170000
DTSTAMP:20260421T170247
CREATED:20220110T211659Z
LAST-MODIFIED:20220121T185705Z
UID:4049-1643961600-1643994000@up-beatfirstaid.ca
SUMMARY:Work Place Emergency First Aid - OFA 1 Equivalent - Chetwynd
DESCRIPTION:
URL:https://up-beatfirstaid.ca/event/work-place-emergency-first-aid-ofa-1-equivalent-chetwynd-8/
LOCATION:Up-Beat First Aid Chetwynd\, 4717 – 51 St\, Chetwynd\, British Columbia\, V0C 1J0\, Canada
CATEGORIES:Emergency First Aid (EFA),OFA1,Workplace Emergency 1st Aid
ORGANIZER;CN="Up-Beat First Aid & Safety Training":MAILTO:up-beat@live.ca
END:VEVENT
BEGIN:VEVENT
DTSTART;TZID=America/Dawson_Creek:20220201T093000
DTEND;TZID=America/Dawson_Creek:20220201T170000
DTSTAMP:20260421T170247
CREATED:20220110T200227Z
LAST-MODIFIED:20220201T161612Z
UID:3994-1643707800-1643734800@up-beatfirstaid.ca
SUMMARY:Work Place Emergency First Aid - OFA 1 Equivalent Dawson Creek
DESCRIPTION:
URL:https://up-beatfirstaid.ca/event/work-place-emergency-first-aid-ofa-1-equivalent-dawson-creek-33/
LOCATION:Up-Beat First Aid Dawson Creek NEW\, 11000 8th Street\, Dawson Creek\, British Columbia\, V1G 4K6\, Canada
CATEGORIES:Emergency First Aid (EFA),OFA1,Workplace Emergency 1st Aid
ORGANIZER;CN="Up-Beat First Aid & Safety Training":MAILTO:up-beat@live.ca
END:VEVENT
BEGIN:VEVENT
DTSTART;TZID=America/Dawson_Creek:20220128T080000
DTEND;TZID=America/Dawson_Creek:20220128T080000
DTSTAMP:20260421T170247
CREATED:20211122T180051Z
LAST-MODIFIED:20211122T180051Z
UID:3962-1643356800-1643356800@up-beatfirstaid.ca
SUMMARY:Workplace Emergency First Aid - OFA 1 equivalent -Chetwynd
DESCRIPTION:
URL:https://up-beatfirstaid.ca/event/workplace-emergency-first-aid-ofa-1-equivalent-chetwynd-6/
LOCATION:Up-Beat First Aid Chetwynd\, 4717 – 51 St\, Chetwynd\, British Columbia\, V0C 1J0\, Canada
CATEGORIES:Emergency First Aid (EFA),OFA1
ORGANIZER;CN="Up-Beat First Aid & Safety Training":MAILTO:up-beat@live.ca
END:VEVENT
BEGIN:VEVENT
DTSTART;TZID=America/Dawson_Creek:20220125T093000
DTEND;TZID=America/Dawson_Creek:20220125T170000
DTSTAMP:20260421T170247
CREATED:20211119T202400Z
LAST-MODIFIED:20220124T212134Z
UID:3927-1643103000-1643130000@up-beatfirstaid.ca
SUMMARY:Workplace Emergency First Aid - OFA 1 Equivalent - Dawson Creek
DESCRIPTION:
URL:https://up-beatfirstaid.ca/event/workplace-emergency-first-aid-ofa-1-equivalent-dawson-creek-18/
LOCATION:Up-Beat First Aid Dawson Creek NEW\, 11000 8th Street\, Dawson Creek\, British Columbia\, V1G 4K6\, Canada
CATEGORIES:Emergency First Aid (EFA),OFA1,Workplace Emergency 1st Aid
ORGANIZER;CN="Up-Beat First Aid & Safety Training":MAILTO:up-beat@live.ca
END:VEVENT
BEGIN:VEVENT
DTSTART;TZID=America/Dawson_Creek:20220121T093000
DTEND;TZID=America/Dawson_Creek:20220121T170000
DTSTAMP:20260421T170247
CREATED:20211119T202247Z
LAST-MODIFIED:20220114T221247Z
UID:3924-1642757400-1642784400@up-beatfirstaid.ca
SUMMARY:Workplace Emergency First Aid - OFA 1 Equivalent - Dawson Creek
DESCRIPTION:
URL:https://up-beatfirstaid.ca/event/workplace-emergency-first-aid-ofa-1-equivalent-dawson-creek-17/
LOCATION:Up-Beat First Aid Dawson Creek NEW\, 11000 8th Street\, Dawson Creek\, British Columbia\, V1G 4K6\, Canada
CATEGORIES:Emergency First Aid (EFA),OFA1,Workplace Emergency 1st Aid
ORGANIZER;CN="Up-Beat First Aid & Safety Training":MAILTO:up-beat@live.ca
END:VEVENT
BEGIN:VEVENT
DTSTART;TZID=America/Dawson_Creek:20220118T093000
DTEND;TZID=America/Dawson_Creek:20220118T170000
DTSTAMP:20260421T170247
CREATED:20211119T202211Z
LAST-MODIFIED:20220114T220942Z
UID:3921-1642498200-1642525200@up-beatfirstaid.ca
SUMMARY:Workplace Emergency First Aid - OFA 1 Equivalent - Dawson Creek
DESCRIPTION:
URL:https://up-beatfirstaid.ca/event/workplace-emergency-first-aid-ofa-1-equivalent-dawson-creek-16/
LOCATION:Up-Beat First Aid Dawson Creek NEW\, 11000 8th Street\, Dawson Creek\, British Columbia\, V1G 4K6\, Canada
CATEGORIES:Emergency First Aid (EFA),OFA1,Workplace Emergency 1st Aid
ORGANIZER;CN="Up-Beat First Aid & Safety Training":MAILTO:up-beat@live.ca
END:VEVENT
BEGIN:VEVENT
DTSTART;TZID=America/Dawson_Creek:20220114T093000
DTEND;TZID=America/Dawson_Creek:20220114T170000
DTSTAMP:20260421T170247
CREATED:20211119T202139Z
LAST-MODIFIED:20211119T202139Z
UID:3918-1642152600-1642179600@up-beatfirstaid.ca
SUMMARY:Workplace Emergency First Aid - OFA 1 Equivalent - Dawson Creek
DESCRIPTION:
URL:https://up-beatfirstaid.ca/event/workplace-emergency-first-aid-ofa-1-equivalent-dawson-creek-15/
LOCATION:Up-Beat First Aid Dawson Creek NEW\, 11000 8th Street\, Dawson Creek\, British Columbia\, V1G 4K6\, Canada
CATEGORIES:Emergency First Aid (EFA),OFA1,Workplace Emergency 1st Aid
ORGANIZER;CN="Up-Beat First Aid & Safety Training":MAILTO:up-beat@live.ca
END:VEVENT
BEGIN:VEVENT
DTSTART;TZID=America/Dawson_Creek:20220111T093000
DTEND;TZID=America/Dawson_Creek:20220111T170000
DTSTAMP:20260421T170247
CREATED:20211119T202059Z
LAST-MODIFIED:20211119T202059Z
UID:3915-1641893400-1641920400@up-beatfirstaid.ca
SUMMARY:Workplace Emergency First Aid - OFA 1 Equivalent - Dawson Creek
DESCRIPTION:
URL:https://up-beatfirstaid.ca/event/workplace-emergency-first-aid-ofa-1-equivalent-dawson-creek-14/
LOCATION:Up-Beat First Aid Dawson Creek NEW\, 11000 8th Street\, Dawson Creek\, British Columbia\, V1G 4K6\, Canada
CATEGORIES:Emergency First Aid (EFA),OFA1,Workplace Emergency 1st Aid
ORGANIZER;CN="Up-Beat First Aid & Safety Training":MAILTO:up-beat@live.ca
END:VEVENT
BEGIN:VEVENT
DTSTART;TZID=America/Dawson_Creek:20220107T093000
DTEND;TZID=America/Dawson_Creek:20220107T170000
DTSTAMP:20260421T170247
CREATED:20211119T202008Z
LAST-MODIFIED:20211119T202008Z
UID:3912-1641547800-1641574800@up-beatfirstaid.ca
SUMMARY:Workplace Emergency First Aid - OFA 1 Equivalent - Dawson Creek
DESCRIPTION:
URL:https://up-beatfirstaid.ca/event/workplace-emergency-first-aid-ofa-1-equivalent-dawson-creek-13/
LOCATION:Up-Beat First Aid Dawson Creek NEW\, 11000 8th Street\, Dawson Creek\, British Columbia\, V1G 4K6\, Canada
CATEGORIES:Emergency First Aid (EFA),OFA1,Workplace Emergency 1st Aid
ORGANIZER;CN="Up-Beat First Aid & Safety Training":MAILTO:up-beat@live.ca
END:VEVENT
BEGIN:VEVENT
DTSTART;TZID=America/Dawson_Creek:20220107T080000
DTEND;TZID=America/Dawson_Creek:20220107T080000
DTSTAMP:20260421T170247
CREATED:20211122T175908Z
LAST-MODIFIED:20211122T175908Z
UID:3959-1641542400-1641542400@up-beatfirstaid.ca
SUMMARY:Workplace Emergency First Aid - OFA 1 equivalent - Chetwynd
DESCRIPTION:
URL:https://up-beatfirstaid.ca/event/workplace-emergency-first-aid-ofa-1-equivalent-chetwynd-5/
LOCATION:Up-Beat First Aid Chetwynd\, 4717 – 51 St\, Chetwynd\, British Columbia\, V0C 1J0\, Canada
CATEGORIES:Emergency First Aid (EFA),OFA1
ORGANIZER;CN="Up-Beat First Aid & Safety Training":MAILTO:up-beat@live.ca
END:VEVENT
BEGIN:VEVENT
DTSTART;TZID=America/Dawson_Creek:20220104T093000
DTEND;TZID=America/Dawson_Creek:20220104T170000
DTSTAMP:20260421T170247
CREATED:20211119T201917Z
LAST-MODIFIED:20211119T201917Z
UID:3909-1641288600-1641315600@up-beatfirstaid.ca
SUMMARY:Workplace Emergency First Aid - OFA 1 Equivalent - Dawson Creek
DESCRIPTION:
URL:https://up-beatfirstaid.ca/event/workplace-emergency-first-aid-ofa-1-equivalent-dawson-creek-12/
LOCATION:Up-Beat First Aid Dawson Creek NEW\, 11000 8th Street\, Dawson Creek\, British Columbia\, V1G 4K6\, Canada
CATEGORIES:Emergency First Aid (EFA),OFA1,Workplace Emergency 1st Aid
ORGANIZER;CN="Up-Beat First Aid & Safety Training":MAILTO:up-beat@live.ca
END:VEVENT
BEGIN:VEVENT
DTSTART;TZID=America/Dawson_Creek:20211221T093000
DTEND;TZID=America/Dawson_Creek:20211221T163000
DTSTAMP:20260421T170247
CREATED:20211115T193133Z
LAST-MODIFIED:20211115T193238Z
UID:3852-1640079000-1640104200@up-beatfirstaid.ca
SUMMARY:Work Place Emergency First Aid - OFA 1 equivalent Dawson Creek
DESCRIPTION:
URL:https://up-beatfirstaid.ca/event/work-place-emergency-first-aid-ofa-1-equivalent-dawson-creek-31/
LOCATION:Up-Beat First Aid Dawson Creek NEW\, 11000 8th Street\, Dawson Creek\, British Columbia\, V1G 4K6\, Canada
CATEGORIES:Emergency First Aid (EFA),OFA1
ORGANIZER;CN="Up-Beat First Aid & Safety Training":MAILTO:up-beat@live.ca
END:VEVENT
BEGIN:VEVENT
DTSTART;TZID=America/Dawson_Creek:20211217T093000
DTEND;TZID=America/Dawson_Creek:20211217T163000
DTSTAMP:20260421T170247
CREATED:20211122T222852Z
LAST-MODIFIED:20211122T222852Z
UID:3969-1639733400-1639758600@up-beatfirstaid.ca
SUMMARY:Work Place Emergency First Aid - OFA 1 equivalent Dawson Creek
DESCRIPTION:
URL:https://up-beatfirstaid.ca/event/work-place-emergency-first-aid-ofa-1-equivalent-dawson-creek-32/
LOCATION:Up-Beat First Aid Dawson Creek NEW\, 11000 8th Street\, Dawson Creek\, British Columbia\, V1G 4K6\, Canada
CATEGORIES:Emergency First Aid (EFA),OFA1
ORGANIZER;CN="Up-Beat First Aid & Safety Training":MAILTO:up-beat@live.ca
END:VEVENT
BEGIN:VEVENT
DTSTART;TZID=America/Dawson_Creek:20211217T080000
DTEND;TZID=America/Dawson_Creek:20211217T080000
DTSTAMP:20260421T170247
CREATED:20211122T175604Z
LAST-MODIFIED:20211122T175740Z
UID:3955-1639728000-1639728000@up-beatfirstaid.ca
SUMMARY:Workplace Emergency First Aid -OFA 1 equivalent - Chetwynd
DESCRIPTION:
URL:https://up-beatfirstaid.ca/event/emergency-first-aid-ofa-1-equivalent-chetwynd/
LOCATION:Up-Beat First Aid Chetwynd\, 4717 – 51 St\, Chetwynd\, British Columbia\, V0C 1J0\, Canada
CATEGORIES:Emergency First Aid (EFA),OFA1
ORGANIZER;CN="Up-Beat First Aid & Safety Training":MAILTO:up-beat@live.ca
END:VEVENT
BEGIN:VEVENT
DTSTART;TZID=America/Dawson_Creek:20211214T093000
DTEND;TZID=America/Dawson_Creek:20211214T163000
DTSTAMP:20260421T170247
CREATED:20211115T193045Z
LAST-MODIFIED:20211115T193045Z
UID:3849-1639474200-1639499400@up-beatfirstaid.ca
SUMMARY:Work Place Emergency First Aid - OFA 1 equivalent Dawson Creek
DESCRIPTION:
URL:https://up-beatfirstaid.ca/event/work-place-emergency-first-aid-ofa-1-equivalent-dawson-creek-30/
LOCATION:Up-Beat First Aid Dawson Creek NEW\, 11000 8th Street\, Dawson Creek\, British Columbia\, V1G 4K6\, Canada
CATEGORIES:Emergency First Aid (EFA),OFA1
ORGANIZER;CN="Up-Beat First Aid & Safety Training":MAILTO:up-beat@live.ca
END:VEVENT
BEGIN:VEVENT
DTSTART;TZID=America/Dawson_Creek:20211210T093000
DTEND;TZID=America/Dawson_Creek:20211210T163000
DTSTAMP:20260421T170247
CREATED:20211115T192930Z
LAST-MODIFIED:20211115T192930Z
UID:3846-1639128600-1639153800@up-beatfirstaid.ca
SUMMARY:Work Place Emergency First Aid - OFA 1 equivalent Dawson Creek
DESCRIPTION:
URL:https://up-beatfirstaid.ca/event/work-place-emergency-first-aid-ofa-1-equivalent-dawson-creek-29/
LOCATION:Up-Beat First Aid Dawson Creek NEW\, 11000 8th Street\, Dawson Creek\, British Columbia\, V1G 4K6\, Canada
CATEGORIES:Emergency First Aid (EFA),OFA1
ORGANIZER;CN="Up-Beat First Aid & Safety Training":MAILTO:up-beat@live.ca
END:VEVENT
BEGIN:VEVENT
DTSTART;TZID=America/Dawson_Creek:20211207T093000
DTEND;TZID=America/Dawson_Creek:20211207T163000
DTSTAMP:20260421T170247
CREATED:20211115T192845Z
LAST-MODIFIED:20211115T192845Z
UID:3843-1638869400-1638894600@up-beatfirstaid.ca
SUMMARY:Work Place Emergency First Aid - OFA 1 equivalent Dawson Creek
DESCRIPTION:
URL:https://up-beatfirstaid.ca/event/work-place-emergency-first-aid-ofa-1-equivalent-dawson-creek-28/
LOCATION:Up-Beat First Aid Dawson Creek NEW\, 11000 8th Street\, Dawson Creek\, British Columbia\, V1G 4K6\, Canada
CATEGORIES:Emergency First Aid (EFA),OFA1
ORGANIZER;CN="Up-Beat First Aid & Safety Training":MAILTO:up-beat@live.ca
END:VEVENT
BEGIN:VEVENT
DTSTART;TZID=America/Dawson_Creek:20211203T093000
DTEND;TZID=America/Dawson_Creek:20211203T163000
DTSTAMP:20260421T170247
CREATED:20211115T192517Z
LAST-MODIFIED:20211115T192517Z
UID:3840-1638523800-1638549000@up-beatfirstaid.ca
SUMMARY:Work Place Emergency First Aid - OFA 1 equivalent Dawson Creek
DESCRIPTION:
URL:https://up-beatfirstaid.ca/event/work-place-emergency-first-aid-ofa-1-equivalent-dawson-creek-20/
LOCATION:Up-Beat First Aid Dawson Creek NEW\, 11000 8th Street\, Dawson Creek\, British Columbia\, V1G 4K6\, Canada
CATEGORIES:Emergency First Aid (EFA),OFA1
ORGANIZER;CN="Up-Beat First Aid & Safety Training":MAILTO:up-beat@live.ca
END:VEVENT
BEGIN:VEVENT
DTSTART;TZID=America/Dawson_Creek:20211130T093000
DTEND;TZID=America/Dawson_Creek:20211130T093000
DTSTAMP:20260421T170247
CREATED:20210930T202217Z
LAST-MODIFIED:20210930T202217Z
UID:3684-1638264600-1638264600@up-beatfirstaid.ca
SUMMARY:Emergency First Aid - OFA 1 equivalent - Dawson Creek
DESCRIPTION:
URL:https://up-beatfirstaid.ca/event/emergency-first-aid-ofa-1-equivalent-dawson-creek-9/
LOCATION:Up-Beat First Aid Dawson Creek NEW\, 11000 8th Street\, Dawson Creek\, British Columbia\, V1G 4K6\, Canada
CATEGORIES:Emergency First Aid (EFA),OFA1
ORGANIZER;CN="Up-Beat First Aid & Safety Training":MAILTO:up-beat@live.ca
END:VEVENT
BEGIN:VEVENT
DTSTART;TZID=America/Dawson_Creek:20211126T093000
DTEND;TZID=America/Dawson_Creek:20211126T093000
DTSTAMP:20260421T170247
CREATED:20210930T202024Z
LAST-MODIFIED:20210930T202533Z
UID:3681-1637919000-1637919000@up-beatfirstaid.ca
SUMMARY:Emergency First Aid - OFA 1 equivalent - Dawson Creek
DESCRIPTION:
URL:https://up-beatfirstaid.ca/event/emergency-first-aid-ofa-1-equivalent-dawson-creek-8/
LOCATION:Up-Beat First Aid Dawson Creek NEW\, 11000 8th Street\, Dawson Creek\, British Columbia\, V1G 4K6\, Canada
CATEGORIES:Emergency First Aid (EFA),OFA1
ORGANIZER;CN="Up-Beat First Aid & Safety Training":MAILTO:up-beat@live.ca
END:VEVENT
BEGIN:VEVENT
DTSTART;TZID=America/Dawson_Creek:20211123T093000
DTEND;TZID=America/Dawson_Creek:20211123T093000
DTSTAMP:20260421T170247
CREATED:20210930T201940Z
LAST-MODIFIED:20210930T202508Z
UID:3678-1637659800-1637659800@up-beatfirstaid.ca
SUMMARY:Emergency First Aid - OFA 1 equivalent - Dawson Creek
DESCRIPTION:
URL:https://up-beatfirstaid.ca/event/emergency-first-aid-ofa-1-equivalent-dawson-creek-7/
LOCATION:Up-Beat First Aid Dawson Creek NEW\, 11000 8th Street\, Dawson Creek\, British Columbia\, V1G 4K6\, Canada
CATEGORIES:Emergency First Aid (EFA),OFA1
ORGANIZER;CN="Up-Beat First Aid & Safety Training":MAILTO:up-beat@live.ca
END:VEVENT
BEGIN:VEVENT
DTSTART;TZID=America/Dawson_Creek:20211119T093000
DTEND;TZID=America/Dawson_Creek:20211119T093000
DTSTAMP:20260421T170247
CREATED:20210930T201850Z
LAST-MODIFIED:20210930T202432Z
UID:3675-1637314200-1637314200@up-beatfirstaid.ca
SUMMARY:Emergency First Aid - OFA 1 equivalent - Dawson Creek
DESCRIPTION:
URL:https://up-beatfirstaid.ca/event/emergency-first-aid-ofa-1-equivalent-dawson-creek-6/
LOCATION:Up-Beat First Aid Dawson Creek NEW\, 11000 8th Street\, Dawson Creek\, British Columbia\, V1G 4K6\, Canada
CATEGORIES:Emergency First Aid (EFA),OFA1
ORGANIZER;CN="Up-Beat First Aid & Safety Training":MAILTO:up-beat@live.ca
END:VEVENT
BEGIN:VEVENT
DTSTART;TZID=America/Dawson_Creek:20211116T093000
DTEND;TZID=America/Dawson_Creek:20211116T093000
DTSTAMP:20260421T170247
CREATED:20210930T195739Z
LAST-MODIFIED:20211115T164016Z
UID:3672-1637055000-1637055000@up-beatfirstaid.ca
SUMMARY:Emergency First Aid -OFA 1 equivalent - Dawson Creek
DESCRIPTION:
URL:https://up-beatfirstaid.ca/event/emergency-first-aid-ofa-1-equivalent-dawson-creek-5/
LOCATION:Up-Beat First Aid Dawson Creek NEW\, 11000 8th Street\, Dawson Creek\, British Columbia\, V1G 4K6\, Canada
CATEGORIES:Emergency First Aid (EFA),OFA1
ORGANIZER;CN="Up-Beat First Aid & Safety Training":MAILTO:up-beat@live.ca
END:VEVENT
END:VCALENDAR