BEGIN:VCALENDAR
VERSION:2.0
PRODID:-//Up-Beat First Aid &amp; Safety Training Ltd. - ECPv6.15.20//NONSGML v1.0//EN
CALSCALE:GREGORIAN
METHOD:PUBLISH
X-ORIGINAL-URL:https://up-beatfirstaid.ca
X-WR-CALDESC:Events for Up-Beat First Aid &amp; Safety Training Ltd.
REFRESH-INTERVAL;VALUE=DURATION:PT1H
X-Robots-Tag:noindex
X-PUBLISHED-TTL:PT1H
BEGIN:VTIMEZONE
TZID:America/Dawson_Creek
BEGIN:STANDARD
TZOFFSETFROM:-0700
TZOFFSETTO:-0700
TZNAME:MST
DTSTART:20200101T000000
END:STANDARD
END:VTIMEZONE
BEGIN:VEVENT
DTSTART;TZID=America/Dawson_Creek:20211015T080000
DTEND;TZID=America/Dawson_Creek:20211015T170000
DTSTAMP:20260422T031221
CREATED:20210907T214202Z
LAST-MODIFIED:20211006T224217Z
UID:3601-1634284800-1634317200@up-beatfirstaid.ca
SUMMARY:Workplace Emergency First Aid - OFA 1 equivalent - Chetwynd
DESCRIPTION:
URL:https://up-beatfirstaid.ca/event/workplace-emergency-first-aid-ofa-1-equivalent-chetwynd-4/
LOCATION:Up-Beat First Aid Chetwynd\, 4717 – 51 St\, Chetwynd\, British Columbia\, V0C 1J0\, Canada
CATEGORIES:Emergency First Aid (EFA),OFA1
ORGANIZER;CN="Up-Beat First Aid & Safety Training":MAILTO:up-beat@live.ca
END:VEVENT
BEGIN:VEVENT
DTSTART;TZID=America/Dawson_Creek:20211012T093000
DTEND;TZID=America/Dawson_Creek:20211012T170000
DTSTAMP:20260422T031221
CREATED:20210907T170916Z
LAST-MODIFIED:20210907T170916Z
UID:3576-1634031000-1634058000@up-beatfirstaid.ca
SUMMARY:Workplace Emergency First Aid - OFA 1 Equivalent-  Dawson Creek
DESCRIPTION:
URL:https://up-beatfirstaid.ca/event/workplace-emergency-first-aid-ofa-1-equivalent-dawson-creek-6/
LOCATION:Up-Beat First Aid Dawson Creek NEW\, 11000 8th Street\, Dawson Creek\, British Columbia\, V1G 4K6\, Canada
CATEGORIES:Emergency First Aid (EFA),OFA1
ORGANIZER;CN="Up-Beat First Aid & Safety Training":MAILTO:up-beat@live.ca
END:VEVENT
BEGIN:VEVENT
DTSTART;TZID=America/Dawson_Creek:20211008T093000
DTEND;TZID=America/Dawson_Creek:20211008T093000
DTSTAMP:20260422T031222
CREATED:20210901T220738Z
LAST-MODIFIED:20211007T175126Z
UID:3544-1633685400-1633685400@up-beatfirstaid.ca
SUMMARY:Workplace Emergency First Aid - OFA 1 Equivalent-  Dawson Creek
DESCRIPTION:
URL:https://up-beatfirstaid.ca/event/workplace-emergency-first-aid-ofa-1-equivalent-dawson-creek-3/
LOCATION:Up-Beat First Aid Dawson Creek NEW\, 11000 8th Street\, Dawson Creek\, British Columbia\, V1G 4K6\, Canada
CATEGORIES:Emergency First Aid (EFA),OFA1
ORGANIZER;CN="Up-Beat First Aid & Safety Training":MAILTO:up-beat@live.ca
END:VEVENT
BEGIN:VEVENT
DTSTART;TZID=America/Dawson_Creek:20211004T093000
DTEND;TZID=America/Dawson_Creek:20211004T093000
DTSTAMP:20260422T031222
CREATED:20210901T201856Z
LAST-MODIFIED:20210930T202309Z
UID:3540-1633339800-1633339800@up-beatfirstaid.ca
SUMMARY:Workplace Emergency First Aid - OFA 1 Equivalent-  Dawson Creek
DESCRIPTION:
URL:https://up-beatfirstaid.ca/event/workplace-emergency-first-aid-ofa-1-equivalent-dawson-creek/
LOCATION:Up-Beat First Aid Dawson Creek NEW\, 11000 8th Street\, Dawson Creek\, British Columbia\, V1G 4K6\, Canada
CATEGORIES:Emergency First Aid (EFA),OFA1
ORGANIZER;CN="Up-Beat First Aid & Safety Training":MAILTO:up-beat@live.ca
END:VEVENT
BEGIN:VEVENT
DTSTART;TZID=America/Dawson_Creek:20211001T093000
DTEND;TZID=America/Dawson_Creek:20211001T093000
DTSTAMP:20260422T031222
CREATED:20210719T195406Z
LAST-MODIFIED:20210719T200859Z
UID:3371-1633080600-1633080600@up-beatfirstaid.ca
SUMMARY:Work Place Emergency First Aid (OFA 1 Equivalent) - Dawson Creek
DESCRIPTION:
URL:https://up-beatfirstaid.ca/event/work-place-emergency-first-aid-ofa-1-equivalent-dawson-creek-27/
LOCATION:Up-Beat First Aid Dawson Creek NEW\, 11000 8th Street\, Dawson Creek\, British Columbia\, V1G 4K6\, Canada
CATEGORIES:Emergency First Aid (EFA)
ORGANIZER;CN="Up-Beat First Aid & Safety Training":MAILTO:up-beat@live.ca
END:VEVENT
BEGIN:VEVENT
DTSTART;TZID=America/Dawson_Creek:20210928T093000
DTEND;TZID=America/Dawson_Creek:20210928T093000
DTSTAMP:20260422T031222
CREATED:20210719T194937Z
LAST-MODIFIED:20210719T194937Z
UID:3368-1632821400-1632821400@up-beatfirstaid.ca
SUMMARY:Work Place Emergency First Aid (OFA 1 Equivalent) - Dawson Creek
DESCRIPTION:
URL:https://up-beatfirstaid.ca/event/work-place-emergency-first-aid-ofa-1-equivalent-dawson-creek-26/
LOCATION:Up-Beat First Aid Dawson Creek NEW\, 11000 8th Street\, Dawson Creek\, British Columbia\, V1G 4K6\, Canada
CATEGORIES:Emergency First Aid (EFA)
ORGANIZER;CN="Up-Beat First Aid & Safety Training":MAILTO:up-beat@live.ca
END:VEVENT
BEGIN:VEVENT
DTSTART;TZID=America/Dawson_Creek:20210924T093000
DTEND;TZID=America/Dawson_Creek:20210924T093000
DTSTAMP:20260422T031222
CREATED:20210719T194852Z
LAST-MODIFIED:20210719T194852Z
UID:3365-1632475800-1632475800@up-beatfirstaid.ca
SUMMARY:Work Place Emergency First Aid (OFA 1 Equivalent) - Dawson Creek
DESCRIPTION:
URL:https://up-beatfirstaid.ca/event/work-place-emergency-first-aid-ofa-1-equivalent-dawson-creek-25/
LOCATION:Up-Beat First Aid Dawson Creek NEW\, 11000 8th Street\, Dawson Creek\, British Columbia\, V1G 4K6\, Canada
CATEGORIES:Emergency First Aid (EFA)
ORGANIZER;CN="Up-Beat First Aid & Safety Training":MAILTO:up-beat@live.ca
END:VEVENT
BEGIN:VEVENT
DTSTART;TZID=America/Dawson_Creek:20210920T093000
DTEND;TZID=America/Dawson_Creek:20210920T093000
DTSTAMP:20260422T031222
CREATED:20210719T194810Z
LAST-MODIFIED:20210719T194810Z
UID:3362-1632130200-1632130200@up-beatfirstaid.ca
SUMMARY:Work Place Emergency First Aid (OFA 1 Equivalent) - Dawson Creek
DESCRIPTION:
URL:https://up-beatfirstaid.ca/event/work-place-emergency-first-aid-ofa-1-equivalent-dawson-creek-24/
LOCATION:Up-Beat First Aid Dawson Creek NEW\, 11000 8th Street\, Dawson Creek\, British Columbia\, V1G 4K6\, Canada
CATEGORIES:Emergency First Aid (EFA)
ORGANIZER;CN="Up-Beat First Aid & Safety Training":MAILTO:up-beat@live.ca
END:VEVENT
BEGIN:VEVENT
DTSTART;TZID=America/Dawson_Creek:20210917T093000
DTEND;TZID=America/Dawson_Creek:20210917T093000
DTSTAMP:20260422T031222
CREATED:20210719T194627Z
LAST-MODIFIED:20210719T194627Z
UID:3359-1631871000-1631871000@up-beatfirstaid.ca
SUMMARY:Work Place Emergency First Aid (OFA 1 Equivalent) - Dawson Creek
DESCRIPTION:
URL:https://up-beatfirstaid.ca/event/work-place-emergency-first-aid-ofa-1-equivalent-dawson-creek-23/
LOCATION:Up-Beat First Aid Dawson Creek NEW\, 11000 8th Street\, Dawson Creek\, British Columbia\, V1G 4K6\, Canada
CATEGORIES:Emergency First Aid (EFA)
ORGANIZER;CN="Up-Beat First Aid & Safety Training":MAILTO:up-beat@live.ca
END:VEVENT
BEGIN:VEVENT
DTSTART;TZID=America/Dawson_Creek:20210914T093000
DTEND;TZID=America/Dawson_Creek:20210914T093000
DTSTAMP:20260422T031222
CREATED:20210719T194521Z
LAST-MODIFIED:20210908T203932Z
UID:3356-1631611800-1631611800@up-beatfirstaid.ca
SUMMARY:Work Place Emergency First Aid (OFA 1 Equivalent) - Dawson Creek
DESCRIPTION:
URL:https://up-beatfirstaid.ca/event/work-place-emergency-first-aid-ofa-1-equivalent-dawson-creek-22/
LOCATION:Up-Beat First Aid Dawson Creek NEW\, 11000 8th Street\, Dawson Creek\, British Columbia\, V1G 4K6\, Canada
CATEGORIES:Emergency First Aid (EFA)
ORGANIZER;CN="Up-Beat First Aid & Safety Training":MAILTO:up-beat@live.ca
END:VEVENT
BEGIN:VEVENT
DTSTART;TZID=America/Dawson_Creek:20210910T093000
DTEND;TZID=America/Dawson_Creek:20210910T093000
DTSTAMP:20260422T031222
CREATED:20210719T194419Z
LAST-MODIFIED:20210907T211404Z
UID:3353-1631266200-1631266200@up-beatfirstaid.ca
SUMMARY:Work Place Emergency First Aid (OFA 1 Equivalent) - Dawson Creek
DESCRIPTION:
URL:https://up-beatfirstaid.ca/event/work-place-emergency-first-aid-ofa-1-equivalent-dawson-creek-21/
LOCATION:Up-Beat First Aid Dawson Creek NEW\, 11000 8th Street\, Dawson Creek\, British Columbia\, V1G 4K6\, Canada
CATEGORIES:Emergency First Aid (EFA)
ORGANIZER;CN="Up-Beat First Aid & Safety Training":MAILTO:up-beat@live.ca
END:VEVENT
BEGIN:VEVENT
DTSTART;TZID=America/Dawson_Creek:20210907T093000
DTEND;TZID=America/Dawson_Creek:20210907T093000
DTSTAMP:20260422T031222
CREATED:20210719T194105Z
LAST-MODIFIED:20210719T194320Z
UID:3349-1631007000-1631007000@up-beatfirstaid.ca
SUMMARY:Work Place Emergency First Aid (OFA 1 Equivalent) - Dawson Creek
DESCRIPTION:
URL:https://up-beatfirstaid.ca/event/work-place-emergency-first-aidofa-1-equivalent-dawson-creek/
LOCATION:Up-Beat First Aid Dawson Creek NEW\, 11000 8th Street\, Dawson Creek\, British Columbia\, V1G 4K6\, Canada
CATEGORIES:Emergency First Aid (EFA)
ORGANIZER;CN="Up-Beat First Aid & Safety Training":MAILTO:up-beat@live.ca
END:VEVENT
BEGIN:VEVENT
DTSTART;TZID=America/Dawson_Creek:20210826T091500
DTEND;TZID=America/Dawson_Creek:20210826T091500
DTSTAMP:20260422T031222
CREATED:20210803T195419Z
LAST-MODIFIED:20210821T163117Z
UID:3466-1629969300-1629969300@up-beatfirstaid.ca
SUMMARY:Work Place Emergency First Aid - OFA 1 Equivalent  - Dawson Creek
DESCRIPTION:
URL:https://up-beatfirstaid.ca/event/work-place-emergency-first-aid-ofa-1-equivalent-dawson-creek-19/
LOCATION:Up-Beat First Aid Dawson Creek NEW\, 11000 8th Street\, Dawson Creek\, British Columbia\, V1G 4K6\, Canada
CATEGORIES:Emergency First Aid (EFA),OFA1
ORGANIZER;CN="Up-Beat First Aid & Safety Training":MAILTO:up-beat@live.ca
END:VEVENT
BEGIN:VEVENT
DTSTART;TZID=America/Dawson_Creek:20210824T091500
DTEND;TZID=America/Dawson_Creek:20210824T091500
DTSTAMP:20260422T031222
CREATED:20210803T195329Z
LAST-MODIFIED:20210812T173216Z
UID:3463-1629796500-1629796500@up-beatfirstaid.ca
SUMMARY:Work Place Emergency First Aid - OFA 1 Equivalent  - Dawson Creek
DESCRIPTION:
URL:https://up-beatfirstaid.ca/event/work-place-emergency-first-aid-ofa-1-equivalent-dawson-creek-18/
LOCATION:Up-Beat First Aid Dawson Creek NEW\, 11000 8th Street\, Dawson Creek\, British Columbia\, V1G 4K6\, Canada
CATEGORIES:Emergency First Aid (EFA),OFA1
ORGANIZER;CN="Up-Beat First Aid & Safety Training":MAILTO:up-beat@live.ca
END:VEVENT
BEGIN:VEVENT
DTSTART;TZID=America/Dawson_Creek:20210820T080000
DTEND;TZID=America/Dawson_Creek:20210820T080000
DTSTAMP:20260422T031222
CREATED:20210719T222916Z
LAST-MODIFIED:20210818T201033Z
UID:3423-1629446400-1629446400@up-beatfirstaid.ca
SUMMARY:Work Place Emergency First Aid- OFA 1 equivalent  - Chetwynd
DESCRIPTION:
URL:https://up-beatfirstaid.ca/event/work-place-emergency-first-aid-ofa-1-equivalent-chetwynd-6/
LOCATION:Up-Beat First Aid Dawson Creek NEW\, 11000 8th Street\, Dawson Creek\, British Columbia\, V1G 4K6\, Canada
CATEGORIES:Emergency First Aid (EFA),OFA1
ORGANIZER;CN="Up-Beat First Aid & Safety Training":MAILTO:up-beat@live.ca
END:VEVENT
BEGIN:VEVENT
DTSTART;TZID=America/Dawson_Creek:20210819T091500
DTEND;TZID=America/Dawson_Creek:20210819T091500
DTSTAMP:20260422T031222
CREATED:20210625T195042Z
LAST-MODIFIED:20210625T195042Z
UID:3235-1629364500-1629364500@up-beatfirstaid.ca
SUMMARY:Work Place Emergency First Aid- OFA 1 equivalent  - Dawson Creek
DESCRIPTION:
URL:https://up-beatfirstaid.ca/event/work-place-emergency-first-aid-ofa-1-equivalent-dawson-creek-17/
LOCATION:Up-Beat First Aid Dawson Creek NEW\, 11000 8th Street\, Dawson Creek\, British Columbia\, V1G 4K6\, Canada
CATEGORIES:Emergency First Aid (EFA),OFA1
ORGANIZER;CN="Up-Beat First Aid & Safety Training":MAILTO:up-beat@live.ca
END:VEVENT
BEGIN:VEVENT
DTSTART;TZID=America/Dawson_Creek:20210817T091500
DTEND;TZID=America/Dawson_Creek:20210817T091500
DTSTAMP:20260422T031222
CREATED:20210625T195001Z
LAST-MODIFIED:20210809T181032Z
UID:3232-1629191700-1629191700@up-beatfirstaid.ca
SUMMARY:Work Place Emergency First Aid- OFA 1 equivalent  - Dawson Creek
DESCRIPTION:
URL:https://up-beatfirstaid.ca/event/work-place-emergency-first-aid-ofa-1-equivalent-dawson-creek-16/
LOCATION:Up-Beat First Aid Dawson Creek NEW\, 11000 8th Street\, Dawson Creek\, British Columbia\, V1G 4K6\, Canada
CATEGORIES:Emergency First Aid (EFA),OFA1
ORGANIZER;CN="Up-Beat First Aid & Safety Training":MAILTO:up-beat@live.ca
END:VEVENT
BEGIN:VEVENT
DTSTART;TZID=America/Dawson_Creek:20210812T091500
DTEND;TZID=America/Dawson_Creek:20210812T091500
DTSTAMP:20260422T031222
CREATED:20210625T194842Z
LAST-MODIFIED:20210625T194842Z
UID:3229-1628759700-1628759700@up-beatfirstaid.ca
SUMMARY:Work Place Emergency First Aid- OFA 1 equivalent  - Dawson Creek
DESCRIPTION:
URL:https://up-beatfirstaid.ca/event/work-place-emergency-first-aid-ofa-1-equivalent-dawson-creek-15/
LOCATION:Up-Beat First Aid Dawson Creek NEW\, 11000 8th Street\, Dawson Creek\, British Columbia\, V1G 4K6\, Canada
CATEGORIES:Emergency First Aid (EFA),OFA1
ORGANIZER;CN="Up-Beat First Aid & Safety Training":MAILTO:up-beat@live.ca
END:VEVENT
BEGIN:VEVENT
DTSTART;TZID=America/Dawson_Creek:20210810T091500
DTEND;TZID=America/Dawson_Creek:20210810T091500
DTSTAMP:20260422T031222
CREATED:20210625T194739Z
LAST-MODIFIED:20210625T194739Z
UID:3226-1628586900-1628586900@up-beatfirstaid.ca
SUMMARY:Work Place Emergency First Aid- OFA 1 equivalent  - Dawson Creek
DESCRIPTION:
URL:https://up-beatfirstaid.ca/event/work-place-emergency-first-aid-ofa-1-equivalent-dawson-creek-14/
LOCATION:Up-Beat First Aid Dawson Creek NEW\, 11000 8th Street\, Dawson Creek\, British Columbia\, V1G 4K6\, Canada
CATEGORIES:Emergency First Aid (EFA),OFA1
ORGANIZER;CN="Up-Beat First Aid & Safety Training":MAILTO:up-beat@live.ca
END:VEVENT
BEGIN:VEVENT
DTSTART;TZID=America/Dawson_Creek:20210806T080000
DTEND;TZID=America/Dawson_Creek:20210806T080000
DTSTAMP:20260422T031222
CREATED:20210719T222840Z
LAST-MODIFIED:20210719T222840Z
UID:3420-1628236800-1628236800@up-beatfirstaid.ca
SUMMARY:Work Place Emergency First Aid- OFA 1 equivalent  - Chetwynd
DESCRIPTION:
URL:https://up-beatfirstaid.ca/event/work-place-emergency-first-aid-ofa-1-equivalent-chetwynd-5/
LOCATION:Up-Beat First Aid Dawson Creek NEW\, 11000 8th Street\, Dawson Creek\, British Columbia\, V1G 4K6\, Canada
CATEGORIES:Emergency First Aid (EFA),OFA1
ORGANIZER;CN="Up-Beat First Aid & Safety Training":MAILTO:up-beat@live.ca
END:VEVENT
BEGIN:VEVENT
DTSTART;TZID=America/Dawson_Creek:20210805T091500
DTEND;TZID=America/Dawson_Creek:20210805T091500
DTSTAMP:20260422T031222
CREATED:20210625T194435Z
LAST-MODIFIED:20210625T194435Z
UID:3222-1628154900-1628154900@up-beatfirstaid.ca
SUMMARY:Work Place Emergency First Aid- OFA 1 equivalent  - Dawson Creek
DESCRIPTION:
URL:https://up-beatfirstaid.ca/event/work-place-emergency-first-aid-ofa-1-equivalent-dawson-creek-13/
LOCATION:Up-Beat First Aid Dawson Creek NEW\, 11000 8th Street\, Dawson Creek\, British Columbia\, V1G 4K6\, Canada
CATEGORIES:Emergency First Aid (EFA),OFA1
ORGANIZER;CN="Up-Beat First Aid & Safety Training":MAILTO:up-beat@live.ca
END:VEVENT
BEGIN:VEVENT
DTSTART;TZID=America/Dawson_Creek:20210803T091500
DTEND;TZID=America/Dawson_Creek:20210803T091500
DTSTAMP:20260422T031222
CREATED:20210622T212130Z
LAST-MODIFIED:20210728T183627Z
UID:3212-1627982100-1627982100@up-beatfirstaid.ca
SUMMARY:Work Place Emergency First Aid- OFA 1 equivalent  - Dawson Creek
DESCRIPTION:
URL:https://up-beatfirstaid.ca/event/work-place-emergency-first-aid-ofa-1-equivalent-dawson-creek-8/
LOCATION:Up-Beat First Aid Dawson Creek NEW\, 11000 8th Street\, Dawson Creek\, British Columbia\, V1G 4K6\, Canada
CATEGORIES:Emergency First Aid (EFA),OFA1
ORGANIZER;CN="Up-Beat First Aid & Safety Training":MAILTO:up-beat@live.ca
END:VEVENT
BEGIN:VEVENT
DTSTART;TZID=America/Dawson_Creek:20210729T091500
DTEND;TZID=America/Dawson_Creek:20210729T091500
DTSTAMP:20260422T031222
CREATED:20210603T182150Z
LAST-MODIFIED:20210728T191434Z
UID:3149-1627550100-1627550100@up-beatfirstaid.ca
SUMMARY:Workplace Emergency First Aid  ( OFA 1 Equivalent)- Dawson Creek
DESCRIPTION:
URL:https://up-beatfirstaid.ca/event/workplace-emergency-first-aid-dawson-creek-58/
LOCATION:Up-Beat First Aid Dawson Creek NEW\, 11000 8th Street\, Dawson Creek\, British Columbia\, V1G 4K6\, Canada
CATEGORIES:Emergency First Aid (EFA),OFA1
ORGANIZER;CN="Up-Beat First Aid & Safety Training":MAILTO:up-beat@live.ca
END:VEVENT
BEGIN:VEVENT
DTSTART;TZID=America/Dawson_Creek:20210727T091500
DTEND;TZID=America/Dawson_Creek:20210727T091500
DTSTAMP:20260422T031222
CREATED:20210603T182103Z
LAST-MODIFIED:20210603T212347Z
UID:3146-1627377300-1627377300@up-beatfirstaid.ca
SUMMARY:Workplace Emergency First Aid  ( OFA 1 Equivalent)- Dawson Creek
DESCRIPTION:
URL:https://up-beatfirstaid.ca/event/workplace-emergency-first-aid-dawson-creek-57/
LOCATION:Up-Beat First Aid Dawson Creek NEW\, 11000 8th Street\, Dawson Creek\, British Columbia\, V1G 4K6\, Canada
CATEGORIES:Emergency First Aid (EFA),OFA1
ORGANIZER;CN="Up-Beat First Aid & Safety Training":MAILTO:up-beat@live.ca
END:VEVENT
BEGIN:VEVENT
DTSTART;TZID=America/Dawson_Creek:20210723T080000
DTEND;TZID=America/Dawson_Creek:20210723T170000
DTSTAMP:20260422T031222
CREATED:20210603T205629Z
LAST-MODIFIED:20210603T205629Z
UID:3190-1627027200-1627059600@up-beatfirstaid.ca
SUMMARY:Workplace Emergency First Aid  (OFA 1 Equivalent) - Chetwynd
DESCRIPTION:
URL:https://up-beatfirstaid.ca/event/workplace-emergency-first-aid-ofa-1-equivalent-chetwynd-2/
LOCATION:Up-Beat First Aid Chetwynd\, 4717 – 51 St\, Chetwynd\, British Columbia\, V0C 1J0\, Canada
CATEGORIES:Emergency First Aid (EFA),OFA1
ORGANIZER;CN="Up-Beat First Aid & Safety Training":MAILTO:up-beat@live.ca
END:VEVENT
BEGIN:VEVENT
DTSTART;TZID=America/Dawson_Creek:20210722T091500
DTEND;TZID=America/Dawson_Creek:20210722T091500
DTSTAMP:20260422T031222
CREATED:20210603T181935Z
LAST-MODIFIED:20210603T212321Z
UID:3143-1626945300-1626945300@up-beatfirstaid.ca
SUMMARY:Workplace Emergency First Aid  ( OFA 1 Equivalent)- Dawson Creek
DESCRIPTION:
URL:https://up-beatfirstaid.ca/event/workplace-emergency-first-aid-dawson-creek-56/
LOCATION:Up-Beat First Aid Dawson Creek NEW\, 11000 8th Street\, Dawson Creek\, British Columbia\, V1G 4K6\, Canada
CATEGORIES:Emergency First Aid (EFA),OFA1
ORGANIZER;CN="Up-Beat First Aid & Safety Training":MAILTO:up-beat@live.ca
END:VEVENT
BEGIN:VEVENT
DTSTART;TZID=America/Dawson_Creek:20210720T091500
DTEND;TZID=America/Dawson_Creek:20210720T091500
DTSTAMP:20260422T031222
CREATED:20210603T181838Z
LAST-MODIFIED:20210719T152012Z
UID:3140-1626772500-1626772500@up-beatfirstaid.ca
SUMMARY:Workplace Emergency First Aid  ( OFA 1 Equivalent)- Dawson Creek
DESCRIPTION:
URL:https://up-beatfirstaid.ca/event/workplace-emergency-first-aid-dawson-creek-55/
LOCATION:Up-Beat First Aid Dawson Creek NEW\, 11000 8th Street\, Dawson Creek\, British Columbia\, V1G 4K6\, Canada
CATEGORIES:Emergency First Aid (EFA),OFA1
ORGANIZER;CN="Up-Beat First Aid & Safety Training":MAILTO:up-beat@live.ca
END:VEVENT
BEGIN:VEVENT
DTSTART;TZID=America/Dawson_Creek:20210715T091500
DTEND;TZID=America/Dawson_Creek:20210715T091500
DTSTAMP:20260422T031222
CREATED:20210603T181744Z
LAST-MODIFIED:20210603T205942Z
UID:3137-1626340500-1626340500@up-beatfirstaid.ca
SUMMARY:Workplace Emergency First Aid  ( OFA 1 Equivalent)- Dawson Creek
DESCRIPTION:
URL:https://up-beatfirstaid.ca/event/workplace-emergency-first-aid-dawson-creek-54/
LOCATION:Up-Beat First Aid Dawson Creek NEW\, 11000 8th Street\, Dawson Creek\, British Columbia\, V1G 4K6\, Canada
CATEGORIES:Emergency First Aid (EFA),OFA1
ORGANIZER;CN="Up-Beat First Aid & Safety Training":MAILTO:up-beat@live.ca
END:VEVENT
BEGIN:VEVENT
DTSTART;TZID=America/Dawson_Creek:20210713T091500
DTEND;TZID=America/Dawson_Creek:20210713T091500
DTSTAMP:20260422T031222
CREATED:20210603T181702Z
LAST-MODIFIED:20210603T205901Z
UID:3134-1626167700-1626167700@up-beatfirstaid.ca
SUMMARY:Workplace Emergency First Aid  ( OFA 1 Equivalent) - Dawson Creek
DESCRIPTION:
URL:https://up-beatfirstaid.ca/event/workplace-emergency-first-aid-dawson-creek-53/
LOCATION:Up-Beat First Aid Dawson Creek NEW\, 11000 8th Street\, Dawson Creek\, British Columbia\, V1G 4K6\, Canada
CATEGORIES:Emergency First Aid (EFA),OFA1
ORGANIZER;CN="Up-Beat First Aid & Safety Training":MAILTO:up-beat@live.ca
END:VEVENT
BEGIN:VEVENT
DTSTART;TZID=America/Dawson_Creek:20210709T080000
DTEND;TZID=America/Dawson_Creek:20210709T170000
DTSTAMP:20260422T031222
CREATED:20210603T205547Z
LAST-MODIFIED:20210603T205547Z
UID:3187-1625817600-1625850000@up-beatfirstaid.ca
SUMMARY:Workplace Emergency First Aid  (OFA 1 Equivalent) - Chetwynd
DESCRIPTION:
URL:https://up-beatfirstaid.ca/event/workplace-emergency-first-aid-ofa-1-equivalent-chetwynd/
LOCATION:Up-Beat First Aid Chetwynd\, 4717 – 51 St\, Chetwynd\, British Columbia\, V0C 1J0\, Canada
CATEGORIES:Emergency First Aid (EFA),OFA1
ORGANIZER;CN="Up-Beat First Aid & Safety Training":MAILTO:up-beat@live.ca
END:VEVENT
END:VCALENDAR