BEGIN:VCALENDAR
VERSION:2.0
PRODID:-//Up-Beat First Aid &amp; Safety Training Ltd. - ECPv6.15.20//NONSGML v1.0//EN
CALSCALE:GREGORIAN
METHOD:PUBLISH
X-ORIGINAL-URL:https://up-beatfirstaid.ca
X-WR-CALDESC:Events for Up-Beat First Aid &amp; Safety Training Ltd.
REFRESH-INTERVAL;VALUE=DURATION:PT1H
X-Robots-Tag:noindex
X-PUBLISHED-TTL:PT1H
BEGIN:VTIMEZONE
TZID:America/Dawson_Creek
BEGIN:STANDARD
TZOFFSETFROM:-0700
TZOFFSETTO:-0700
TZNAME:MST
DTSTART:20200101T000000
END:STANDARD
END:VTIMEZONE
BEGIN:VEVENT
DTSTART;TZID=America/Dawson_Creek:20210708T091500
DTEND;TZID=America/Dawson_Creek:20210708T091500
DTSTAMP:20260422T201923
CREATED:20210603T181535Z
LAST-MODIFIED:20210603T205832Z
UID:3131-1625735700-1625735700@up-beatfirstaid.ca
SUMMARY:Workplace Emergency First Aid  ( OFA 1 Equivalent) - Dawson Creek
DESCRIPTION:
URL:https://up-beatfirstaid.ca/event/workplace-emergency-first-aid-dawson-creek-52/
LOCATION:Up-Beat First Aid Dawson Creek NEW\, 11000 8th Street\, Dawson Creek\, British Columbia\, V1G 4K6\, Canada
CATEGORIES:Emergency First Aid (EFA),OFA1
ORGANIZER;CN="Up-Beat First Aid & Safety Training":MAILTO:up-beat@live.ca
END:VEVENT
BEGIN:VEVENT
DTSTART;TZID=America/Dawson_Creek:20210706T091500
DTEND;TZID=America/Dawson_Creek:20210706T091500
DTSTAMP:20260422T201923
CREATED:20210603T181440Z
LAST-MODIFIED:20210624T201427Z
UID:3128-1625562900-1625562900@up-beatfirstaid.ca
SUMMARY:Workplace Emergency First Aid ( OFA 1 Equivalent)- Dawson Creek
DESCRIPTION:
URL:https://up-beatfirstaid.ca/event/workplace-emergency-first-aid-dawson-creek-51/
LOCATION:Up-Beat First Aid Dawson Creek NEW\, 11000 8th Street\, Dawson Creek\, British Columbia\, V1G 4K6\, Canada
CATEGORIES:Emergency First Aid (EFA),OFA1
ORGANIZER;CN="Up-Beat First Aid & Safety Training":MAILTO:up-beat@live.ca
END:VEVENT
BEGIN:VEVENT
DTSTART;TZID=America/Dawson_Creek:20210629T091500
DTEND;TZID=America/Dawson_Creek:20210629T091500
DTSTAMP:20260422T201923
CREATED:20210423T181459Z
LAST-MODIFIED:20210622T215646Z
UID:3013-1624958100-1624958100@up-beatfirstaid.ca
SUMMARY:Emergency First Aid - Dawson Creek
DESCRIPTION:
URL:https://up-beatfirstaid.ca/event/emergency-first-aid-dawson-creek-23/
LOCATION:Up-Beat First Aid Dawson Creek NEW\, 11000 8th Street\, Dawson Creek\, British Columbia\, V1G 4K6\, Canada
CATEGORIES:Emergency First Aid (EFA),OFA1
ORGANIZER;CN="Up-Beat First Aid & Safety Training":MAILTO:up-beat@live.ca
END:VEVENT
BEGIN:VEVENT
DTSTART;TZID=America/Dawson_Creek:20210625T091500
DTEND;TZID=America/Dawson_Creek:20210625T091500
DTSTAMP:20260422T201923
CREATED:20210423T180642Z
LAST-MODIFIED:20210622T215527Z
UID:3010-1624612500-1624612500@up-beatfirstaid.ca
SUMMARY:Emergency First Aid - Dawson Creek
DESCRIPTION:
URL:https://up-beatfirstaid.ca/event/emergency-first-aid-dawson-creek-22/
LOCATION:Up-Beat First Aid Dawson Creek NEW\, 11000 8th Street\, Dawson Creek\, British Columbia\, V1G 4K6\, Canada
CATEGORIES:Emergency First Aid (EFA),OFA1
ORGANIZER;CN="Up-Beat First Aid & Safety Training":MAILTO:up-beat@live.ca
END:VEVENT
BEGIN:VEVENT
DTSTART;TZID=America/Dawson_Creek:20210622T091500
DTEND;TZID=America/Dawson_Creek:20210622T091500
DTSTAMP:20260422T201923
CREATED:20210423T180526Z
LAST-MODIFIED:20210616T192403Z
UID:3007-1624353300-1624353300@up-beatfirstaid.ca
SUMMARY:Emergency First Aid - Dawson Creek
DESCRIPTION:
URL:https://up-beatfirstaid.ca/event/emergency-first-aid-dawson-creek-21/
LOCATION:Up-Beat First Aid Dawson Creek NEW\, 11000 8th Street\, Dawson Creek\, British Columbia\, V1G 4K6\, Canada
CATEGORIES:Emergency First Aid (EFA),OFA1
ORGANIZER;CN="Up-Beat First Aid & Safety Training":MAILTO:up-beat@live.ca
END:VEVENT
BEGIN:VEVENT
DTSTART;TZID=America/Dawson_Creek:20210618T091500
DTEND;TZID=America/Dawson_Creek:20210618T091500
DTSTAMP:20260422T201923
CREATED:20210423T180448Z
LAST-MODIFIED:20210614T205402Z
UID:3004-1624007700-1624007700@up-beatfirstaid.ca
SUMMARY:Emergency First Aid - Dawson Creek
DESCRIPTION:
URL:https://up-beatfirstaid.ca/event/emergency-first-aid-dawson-creek-20/
LOCATION:Up-Beat First Aid Dawson Creek NEW\, 11000 8th Street\, Dawson Creek\, British Columbia\, V1G 4K6\, Canada
CATEGORIES:Emergency First Aid (EFA),OFA1
ORGANIZER;CN="Up-Beat First Aid & Safety Training":MAILTO:up-beat@live.ca
END:VEVENT
BEGIN:VEVENT
DTSTART;TZID=America/Dawson_Creek:20210615T091500
DTEND;TZID=America/Dawson_Creek:20210615T091500
DTSTAMP:20260422T201923
CREATED:20210423T180344Z
LAST-MODIFIED:20210614T170433Z
UID:3001-1623748500-1623748500@up-beatfirstaid.ca
SUMMARY:Emergency First Aid - Dawson Creek
DESCRIPTION:
URL:https://up-beatfirstaid.ca/event/emergency-first-aid-dawson-creek-19/
LOCATION:Up-Beat First Aid Dawson Creek NEW\, 11000 8th Street\, Dawson Creek\, British Columbia\, V1G 4K6\, Canada
CATEGORIES:Emergency First Aid (EFA),OFA1
ORGANIZER;CN="Up-Beat First Aid & Safety Training":MAILTO:up-beat@live.ca
END:VEVENT
BEGIN:VEVENT
DTSTART;TZID=America/Dawson_Creek:20210611T091500
DTEND;TZID=America/Dawson_Creek:20210611T091500
DTSTAMP:20260422T201923
CREATED:20210423T180308Z
LAST-MODIFIED:20210608T230239Z
UID:2998-1623402900-1623402900@up-beatfirstaid.ca
SUMMARY:Emergency First Aid - Dawson Creek
DESCRIPTION:
URL:https://up-beatfirstaid.ca/event/emergency-first-aid-dawson-creek-18/
LOCATION:Up-Beat First Aid Dawson Creek NEW\, 11000 8th Street\, Dawson Creek\, British Columbia\, V1G 4K6\, Canada
CATEGORIES:Emergency First Aid (EFA),OFA1
ORGANIZER;CN="Up-Beat First Aid & Safety Training":MAILTO:up-beat@live.ca
END:VEVENT
BEGIN:VEVENT
DTSTART;TZID=America/Dawson_Creek:20210608T091500
DTEND;TZID=America/Dawson_Creek:20210608T091500
DTSTAMP:20260422T201923
CREATED:20210423T180230Z
LAST-MODIFIED:20210423T180230Z
UID:2995-1623143700-1623143700@up-beatfirstaid.ca
SUMMARY:Emergency First Aid - Dawson Creek
DESCRIPTION:
URL:https://up-beatfirstaid.ca/event/emergency-first-aid-dawson-creek-17/
LOCATION:Up-Beat First Aid Dawson Creek NEW\, 11000 8th Street\, Dawson Creek\, British Columbia\, V1G 4K6\, Canada
CATEGORIES:Emergency First Aid (EFA),OFA1
ORGANIZER;CN="Up-Beat First Aid & Safety Training":MAILTO:up-beat@live.ca
END:VEVENT
BEGIN:VEVENT
DTSTART;TZID=America/Dawson_Creek:20210604T091500
DTEND;TZID=America/Dawson_Creek:20210604T091500
DTSTAMP:20260422T201923
CREATED:20210423T180149Z
LAST-MODIFIED:20210423T180149Z
UID:2992-1622798100-1622798100@up-beatfirstaid.ca
SUMMARY:Emergency First Aid - Dawson Creek
DESCRIPTION:
URL:https://up-beatfirstaid.ca/event/emergency-first-aid-dawson-creek-16/
LOCATION:Up-Beat First Aid Dawson Creek NEW\, 11000 8th Street\, Dawson Creek\, British Columbia\, V1G 4K6\, Canada
CATEGORIES:Emergency First Aid (EFA),OFA1
ORGANIZER;CN="Up-Beat First Aid & Safety Training":MAILTO:up-beat@live.ca
END:VEVENT
BEGIN:VEVENT
DTSTART;TZID=America/Dawson_Creek:20210601T091500
DTEND;TZID=America/Dawson_Creek:20210601T091500
DTSTAMP:20260422T201923
CREATED:20210423T180106Z
LAST-MODIFIED:20210423T180106Z
UID:2989-1622538900-1622538900@up-beatfirstaid.ca
SUMMARY:Emergency First Aid - Dawson Creek
DESCRIPTION:
URL:https://up-beatfirstaid.ca/event/emergency-first-aid-dawson-creek-15/
LOCATION:Up-Beat First Aid Dawson Creek NEW\, 11000 8th Street\, Dawson Creek\, British Columbia\, V1G 4K6\, Canada
CATEGORIES:Emergency First Aid (EFA),OFA1
ORGANIZER;CN="Up-Beat First Aid & Safety Training":MAILTO:up-beat@live.ca
END:VEVENT
BEGIN:VEVENT
DTSTART;TZID=America/Dawson_Creek:20210528T091500
DTEND;TZID=America/Dawson_Creek:20210528T160000
DTSTAMP:20260422T201923
CREATED:20210322T220904Z
LAST-MODIFIED:20210526T213345Z
UID:2882-1622193300-1622217600@up-beatfirstaid.ca
SUMMARY:Work Place Emergency First Aid - OFA 1 Equivalent - Dawson Creek
DESCRIPTION:
URL:https://up-beatfirstaid.ca/event/work-place-emergency-first-aid-ofa-1-equivalent-dawson-creek-12/
LOCATION:Up-Beat First Aid Dawson Creek NEW\, 11000 8th Street\, Dawson Creek\, British Columbia\, V1G 4K6\, Canada
CATEGORIES:Emergency First Aid (EFA),OFA1
ORGANIZER;CN="Up-Beat First Aid & Safety Training":MAILTO:up-beat@live.ca
END:VEVENT
BEGIN:VEVENT
DTSTART;TZID=America/Dawson_Creek:20210525T091500
DTEND;TZID=America/Dawson_Creek:20210525T160000
DTSTAMP:20260422T201923
CREATED:20210322T220712Z
LAST-MODIFIED:20210517T190157Z
UID:2878-1621934100-1621958400@up-beatfirstaid.ca
SUMMARY:Work Place Emergency First Aid - OFA 1 Equivalent - Dawson Creek
DESCRIPTION:
URL:https://up-beatfirstaid.ca/event/work-place-emergency-first-aid-ofa-1-equivalent-dawson-creek-11/
LOCATION:Up-Beat First Aid Dawson Creek NEW\, 11000 8th Street\, Dawson Creek\, British Columbia\, V1G 4K6\, Canada
CATEGORIES:Emergency First Aid (EFA),OFA1
ORGANIZER;CN="Up-Beat First Aid & Safety Training":MAILTO:up-beat@live.ca
END:VEVENT
BEGIN:VEVENT
DTSTART;TZID=America/Dawson_Creek:20210521T091500
DTEND;TZID=America/Dawson_Creek:20210521T160000
DTSTAMP:20260422T201923
CREATED:20210322T220627Z
LAST-MODIFIED:20210517T190048Z
UID:2875-1621588500-1621612800@up-beatfirstaid.ca
SUMMARY:Work Place Emergency First Aid - OFA 1 Equivalent - Dawson Creek
DESCRIPTION:
URL:https://up-beatfirstaid.ca/event/work-place-emergency-first-aid-ofa-1-equivalent-dawson-creek-10/
LOCATION:Up-Beat First Aid Dawson Creek NEW\, 11000 8th Street\, Dawson Creek\, British Columbia\, V1G 4K6\, Canada
CATEGORIES:Emergency First Aid (EFA),OFA1
ORGANIZER;CN="Up-Beat First Aid & Safety Training":MAILTO:up-beat@live.ca
END:VEVENT
BEGIN:VEVENT
DTSTART;TZID=America/Dawson_Creek:20210521T080000
DTEND;TZID=America/Dawson_Creek:20210521T160000
DTSTAMP:20260422T201923
CREATED:20210323T204135Z
LAST-MODIFIED:20210512T171231Z
UID:2914-1621584000-1621612800@up-beatfirstaid.ca
SUMMARY:Work Place Emergency First Aid - OFA 1 Equivalent - Chetwynd
DESCRIPTION:
URL:https://up-beatfirstaid.ca/event/work-place-emergency-first-aid-ofa-1-equivalent-chetwynd-4/
LOCATION:Up-Beat First Aid Chetwynd\, 4717 – 51 St\, Chetwynd\, British Columbia\, V0C 1J0\, Canada
CATEGORIES:Emergency First Aid (EFA),OFA1
ORGANIZER;CN="Up-Beat First Aid & Safety Training":MAILTO:up-beat@live.ca
END:VEVENT
BEGIN:VEVENT
DTSTART;TZID=America/Dawson_Creek:20210518T091500
DTEND;TZID=America/Dawson_Creek:20210518T160000
DTSTAMP:20260422T201923
CREATED:20210322T220546Z
LAST-MODIFIED:20210517T185943Z
UID:2872-1621329300-1621353600@up-beatfirstaid.ca
SUMMARY:Work Place Emergency First Aid - OFA 1 Equivalent - Dawson Creek
DESCRIPTION:
URL:https://up-beatfirstaid.ca/event/work-place-emergency-first-aid-ofa-1-equivalent-dawson-creek-9/
LOCATION:Up-Beat First Aid Dawson Creek NEW\, 11000 8th Street\, Dawson Creek\, British Columbia\, V1G 4K6\, Canada
CATEGORIES:Emergency First Aid (EFA),OFA1
ORGANIZER;CN="Up-Beat First Aid & Safety Training":MAILTO:up-beat@live.ca
END:VEVENT
BEGIN:VEVENT
DTSTART;TZID=America/Dawson_Creek:20210511T091500
DTEND;TZID=America/Dawson_Creek:20210511T160000
DTSTAMP:20260422T201923
CREATED:20210322T220345Z
LAST-MODIFIED:20210510T224438Z
UID:2864-1620724500-1620748800@up-beatfirstaid.ca
SUMMARY:Work Place Emergency First Aid - OFA 1 Equivalent - Dawson Creek
DESCRIPTION:
URL:https://up-beatfirstaid.ca/event/work-place-emergency-first-aid-ofa-1-equivalent-dawson-creek-7/
LOCATION:Up-Beat First Aid Dawson Creek NEW\, 11000 8th Street\, Dawson Creek\, British Columbia\, V1G 4K6\, Canada
CATEGORIES:Emergency First Aid (EFA),OFA1
ORGANIZER;CN="Up-Beat First Aid & Safety Training":MAILTO:up-beat@live.ca
END:VEVENT
BEGIN:VEVENT
DTSTART;TZID=America/Dawson_Creek:20210507T091500
DTEND;TZID=America/Dawson_Creek:20210507T160000
DTSTAMP:20260422T201923
CREATED:20210318T212342Z
LAST-MODIFIED:20210318T212342Z
UID:2855-1620378900-1620403200@up-beatfirstaid.ca
SUMMARY:Work Place Emergency First Aid - OFA 1 Equivalent - Dawson Creek
DESCRIPTION:
URL:https://up-beatfirstaid.ca/event/work-place-emergency-first-aid-ofa-1-equivalent-dawson-creek-6/
LOCATION:Up-Beat First Aid Dawson Creek NEW\, 11000 8th Street\, Dawson Creek\, British Columbia\, V1G 4K6\, Canada
CATEGORIES:Emergency First Aid (EFA),OFA1
ORGANIZER;CN="Up-Beat First Aid & Safety Training":MAILTO:up-beat@live.ca
END:VEVENT
BEGIN:VEVENT
DTSTART;TZID=America/Dawson_Creek:20210507T080000
DTEND;TZID=America/Dawson_Creek:20210507T160000
DTSTAMP:20260422T201923
CREATED:20210323T204053Z
LAST-MODIFIED:20210323T204053Z
UID:2911-1620374400-1620403200@up-beatfirstaid.ca
SUMMARY:Work Place Emergency First Aid - OFA 1 Equivalent - Chetwynd
DESCRIPTION:
URL:https://up-beatfirstaid.ca/event/work-place-emergency-first-aid-ofa-1-equivalent-chetwynd/
LOCATION:Up-Beat First Aid Chetwynd\, 4717 – 51 St\, Chetwynd\, British Columbia\, V0C 1J0\, Canada
CATEGORIES:Emergency First Aid (EFA),OFA1
ORGANIZER;CN="Up-Beat First Aid & Safety Training":MAILTO:up-beat@live.ca
END:VEVENT
BEGIN:VEVENT
DTSTART;TZID=America/Dawson_Creek:20210504T091500
DTEND;TZID=America/Dawson_Creek:20210504T160000
DTSTAMP:20260422T201923
CREATED:20210318T212252Z
LAST-MODIFIED:20210318T212252Z
UID:2852-1620119700-1620144000@up-beatfirstaid.ca
SUMMARY:Work Place Emergency First Aid - OFA 1 Equivalent - Dawson Creek
DESCRIPTION:
URL:https://up-beatfirstaid.ca/event/work-place-emergency-first-aid-ofa-1-equivalent-dawson-creek-5/
LOCATION:Up-Beat First Aid Dawson Creek NEW\, 11000 8th Street\, Dawson Creek\, British Columbia\, V1G 4K6\, Canada
CATEGORIES:Emergency First Aid (EFA),OFA1
ORGANIZER;CN="Up-Beat First Aid & Safety Training":MAILTO:up-beat@live.ca
END:VEVENT
BEGIN:VEVENT
DTSTART;TZID=America/Dawson_Creek:20210430T091500
DTEND;TZID=America/Dawson_Creek:20210430T170000
DTSTAMP:20260422T201923
CREATED:20210226T231803Z
LAST-MODIFIED:20210428T213444Z
UID:2764-1619774100-1619802000@up-beatfirstaid.ca
SUMMARY:Workplace Emergency First Aid- OFA 1 Equivalent -  Dawson Creek
DESCRIPTION:
URL:https://up-beatfirstaid.ca/event/workplace-emergency-first-aid-ofa-1-equivalent-dawson-creek-5/
LOCATION:Up-Beat First Aid Dawson Creek NEW\, 11000 8th Street\, Dawson Creek\, British Columbia\, V1G 4K6\, Canada
CATEGORIES:Emergency First Aid (EFA),OFA1
ORGANIZER;CN="Up-Beat First Aid & Safety Training":MAILTO:up-beat@live.ca
END:VEVENT
BEGIN:VEVENT
DTSTART;TZID=America/Dawson_Creek:20210430T080000
DTEND;TZID=America/Dawson_Creek:20210430T170000
DTSTAMP:20260422T201923
CREATED:20210226T233914Z
LAST-MODIFIED:20210428T213411Z
UID:2799-1619769600-1619802000@up-beatfirstaid.ca
SUMMARY:Work Place Emergency First Aid - OFA 1 equivalent - Chetwynd
DESCRIPTION:
URL:https://up-beatfirstaid.ca/event/work-place-emergency-first-aid-ofa-1-equivalent-chetwynd-3/
LOCATION:Up-Beat First Aid Chetwynd\, 4717 – 51 St\, Chetwynd\, British Columbia\, V0C 1J0\, Canada
CATEGORIES:Emergency First Aid (EFA)
ORGANIZER;CN="Up-Beat First Aid & Safety Training":MAILTO:up-beat@live.ca
END:VEVENT
BEGIN:VEVENT
DTSTART;TZID=America/Dawson_Creek:20210427T091500
DTEND;TZID=America/Dawson_Creek:20210427T170000
DTSTAMP:20260422T201923
CREATED:20210226T231710Z
LAST-MODIFIED:20210324T191447Z
UID:2761-1619514900-1619542800@up-beatfirstaid.ca
SUMMARY:Workplace Emergency First Aid- OFA 1 Equivalent -  Dawson Creek
DESCRIPTION:
URL:https://up-beatfirstaid.ca/event/workplace-emergency-first-aid-ofa-1-equivalent-dawson-creek-4/
LOCATION:Up-Beat First Aid Dawson Creek NEW\, 11000 8th Street\, Dawson Creek\, British Columbia\, V1G 4K6\, Canada
CATEGORIES:Emergency First Aid (EFA),OFA1
ORGANIZER;CN="Up-Beat First Aid & Safety Training":MAILTO:up-beat@live.ca
END:VEVENT
BEGIN:VEVENT
DTSTART;TZID=America/Dawson_Creek:20210420T091500
DTEND;TZID=America/Dawson_Creek:20210420T170000
DTSTAMP:20260422T201923
CREATED:20210226T231524Z
LAST-MODIFIED:20210324T191310Z
UID:2755-1618910100-1618938000@up-beatfirstaid.ca
SUMMARY:Workplace Emergency First Aid- OFA 1 Equivalent -  Dawson Creek
DESCRIPTION:
URL:https://up-beatfirstaid.ca/event/workplace-emergency-first-aid-ofa-1-equivalent-dawson-creek-2/
LOCATION:Up-Beat First Aid Dawson Creek NEW\, 11000 8th Street\, Dawson Creek\, British Columbia\, V1G 4K6\, Canada
CATEGORIES:Emergency First Aid (EFA),OFA1
ORGANIZER;CN="Up-Beat First Aid & Safety Training":MAILTO:up-beat@live.ca
END:VEVENT
BEGIN:VEVENT
DTSTART;TZID=America/Dawson_Creek:20210416T091500
DTEND;TZID=America/Dawson_Creek:20210416T170000
DTSTAMP:20260422T201923
CREATED:20210226T231342Z
LAST-MODIFIED:20210324T191210Z
UID:2751-1618564500-1618592400@up-beatfirstaid.ca
SUMMARY:Work Place Emergency First Aid - OFA 1 equivalent - Dawson Creek
DESCRIPTION:
URL:https://up-beatfirstaid.ca/event/work-place-emergency-first-aid-ofa-1-equivalent-dawson-creek-4/
LOCATION:Up-Beat First Aid Dawson Creek NEW\, 11000 8th Street\, Dawson Creek\, British Columbia\, V1G 4K6\, Canada
CATEGORIES:Emergency First Aid (EFA),OFA1
ORGANIZER;CN="Up-Beat First Aid & Safety Training":MAILTO:up-beat@live.ca
END:VEVENT
BEGIN:VEVENT
DTSTART;TZID=America/Dawson_Creek:20210416T080000
DTEND;TZID=America/Dawson_Creek:20210416T170000
DTSTAMP:20260422T201923
CREATED:20210226T233854Z
LAST-MODIFIED:20210226T234132Z
UID:2797-1618560000-1618592400@up-beatfirstaid.ca
SUMMARY:Work Place Emergency First Aid - OFA 1 equivalent - Chetwynd
DESCRIPTION:
URL:https://up-beatfirstaid.ca/event/work-place-emergency-first-aid-ofa-1-equivalent-chetwynd-2/
LOCATION:Up-Beat First Aid Chetwynd\, 4717 – 51 St\, Chetwynd\, British Columbia\, V0C 1J0\, Canada
CATEGORIES:Emergency First Aid (EFA)
ORGANIZER;CN="Up-Beat First Aid & Safety Training":MAILTO:up-beat@live.ca
END:VEVENT
BEGIN:VEVENT
DTSTART;TZID=America/Dawson_Creek:20210413T091500
DTEND;TZID=America/Dawson_Creek:20210413T170000
DTSTAMP:20260422T201923
CREATED:20210226T231229Z
LAST-MODIFIED:20210324T191135Z
UID:2748-1618305300-1618333200@up-beatfirstaid.ca
SUMMARY:Work Place Emergency First Aid - OFA 1 equivalent - Dawson Creek
DESCRIPTION:
URL:https://up-beatfirstaid.ca/event/work-place-emergency-first-aid-ofa-1-equivalent-dawson-creek-3/
LOCATION:Up-Beat First Aid Dawson Creek NEW\, 11000 8th Street\, Dawson Creek\, British Columbia\, V1G 4K6\, Canada
CATEGORIES:Emergency First Aid (EFA),OFA1
ORGANIZER;CN="Up-Beat First Aid & Safety Training":MAILTO:up-beat@live.ca
END:VEVENT
BEGIN:VEVENT
DTSTART;TZID=America/Dawson_Creek:20210409T091500
DTEND;TZID=America/Dawson_Creek:20210409T170000
DTSTAMP:20260422T201923
CREATED:20210226T231129Z
LAST-MODIFIED:20210324T191054Z
UID:2745-1617959700-1617987600@up-beatfirstaid.ca
SUMMARY:Work Place Emergency First Aid - OFA 1 equivalent - Dawson Creek
DESCRIPTION:
URL:https://up-beatfirstaid.ca/event/work-place-emergency-first-aid-ofa-1-equivalent-dawson-creek-2/
LOCATION:Up-Beat First Aid Dawson Creek NEW\, 11000 8th Street\, Dawson Creek\, British Columbia\, V1G 4K6\, Canada
CATEGORIES:Emergency First Aid (EFA),OFA1
ORGANIZER;CN="Up-Beat First Aid & Safety Training":MAILTO:up-beat@live.ca
END:VEVENT
BEGIN:VEVENT
DTSTART;TZID=America/Dawson_Creek:20210406T091500
DTEND;TZID=America/Dawson_Creek:20210406T170000
DTSTAMP:20260422T201923
CREATED:20210226T230810Z
LAST-MODIFIED:20210324T191004Z
UID:2741-1617700500-1617728400@up-beatfirstaid.ca
SUMMARY:Work Place Emergency First Aid - OFA 1 equivalent - Dawson Creek
DESCRIPTION:
URL:https://up-beatfirstaid.ca/event/work-place-emergency-first-aid-ofa-1-equivalent-dawson-creek/
LOCATION:Up-Beat First Aid Dawson Creek NEW\, 11000 8th Street\, Dawson Creek\, British Columbia\, V1G 4K6\, Canada
CATEGORIES:Emergency First Aid (EFA),OFA1
ORGANIZER;CN="Up-Beat First Aid & Safety Training":MAILTO:up-beat@live.ca
END:VEVENT
BEGIN:VEVENT
DTSTART;TZID=America/Dawson_Creek:20210330T091500
DTEND;TZID=America/Dawson_Creek:20210330T170000
DTSTAMP:20260422T201923
CREATED:20210128T210606Z
LAST-MODIFIED:20210128T210606Z
UID:2655-1617095700-1617123600@up-beatfirstaid.ca
SUMMARY:Workplace Emergency First Aid Dawson Creek
DESCRIPTION:
URL:https://up-beatfirstaid.ca/event/workplace-emergency-first-aid-dawson-creek-50/
LOCATION:Up-Beat First Aid Dawson Creek NEW\, 11000 8th Street\, Dawson Creek\, British Columbia\, V1G 4K6\, Canada
CATEGORIES:Emergency First Aid (EFA)
ORGANIZER;CN="Up-Beat First Aid & Safety Training":MAILTO:up-beat@live.ca
END:VEVENT
END:VCALENDAR