BEGIN:VCALENDAR
VERSION:2.0
PRODID:-//Up-Beat First Aid &amp; Safety Training Ltd. - ECPv6.15.20//NONSGML v1.0//EN
CALSCALE:GREGORIAN
METHOD:PUBLISH
X-ORIGINAL-URL:https://up-beatfirstaid.ca
X-WR-CALDESC:Events for Up-Beat First Aid &amp; Safety Training Ltd.
REFRESH-INTERVAL;VALUE=DURATION:PT1H
X-Robots-Tag:noindex
X-PUBLISHED-TTL:PT1H
BEGIN:VTIMEZONE
TZID:America/Dawson_Creek
BEGIN:STANDARD
TZOFFSETFROM:-0700
TZOFFSETTO:-0700
TZNAME:MST
DTSTART:20200101T000000
END:STANDARD
END:VTIMEZONE
BEGIN:VEVENT
DTSTART;TZID=America/Dawson_Creek:20210326T080000
DTEND;TZID=America/Dawson_Creek:20210326T170000
DTSTAMP:20260423T041729
CREATED:20210129T191804Z
LAST-MODIFIED:20210204T231510Z
UID:2687-1616745600-1616778000@up-beatfirstaid.ca
SUMMARY:Workplace Emergency First Aid Chetwynd
DESCRIPTION:
URL:https://up-beatfirstaid.ca/event/workplace-emergency-first-aid-chetwynd-17/
LOCATION:Up-Beat First Aid Chetwynd\, 4717 – 51 St\, Chetwynd\, British Columbia\, V0C 1J0\, Canada
CATEGORIES:Emergency First Aid (EFA)
ORGANIZER;CN="Up-Beat First Aid & Safety Training":MAILTO:up-beat@live.ca
END:VEVENT
BEGIN:VEVENT
DTSTART;TZID=America/Dawson_Creek:20210325T091500
DTEND;TZID=America/Dawson_Creek:20210325T170000
DTSTAMP:20260423T041729
CREATED:20210128T210519Z
LAST-MODIFIED:20210312T234201Z
UID:2652-1616663700-1616691600@up-beatfirstaid.ca
SUMMARY:Workplace Emergency First Aid Dawson Creek
DESCRIPTION:
URL:https://up-beatfirstaid.ca/event/workplace-emergency-first-aid-dawson-creek-49/
LOCATION:Up-Beat First Aid Dawson Creek NEW\, 11000 8th Street\, Dawson Creek\, British Columbia\, V1G 4K6\, Canada
CATEGORIES:Emergency First Aid (EFA)
ORGANIZER;CN="Up-Beat First Aid & Safety Training":MAILTO:up-beat@live.ca
END:VEVENT
BEGIN:VEVENT
DTSTART;TZID=America/Dawson_Creek:20210323T091500
DTEND;TZID=America/Dawson_Creek:20210323T170000
DTSTAMP:20260423T041729
CREATED:20210128T210428Z
LAST-MODIFIED:20210128T210428Z
UID:2649-1616490900-1616518800@up-beatfirstaid.ca
SUMMARY:Workplace Emergency First Aid Dawson Creek
DESCRIPTION:
URL:https://up-beatfirstaid.ca/event/workplace-emergency-first-aid-dawson-creek-48/
LOCATION:Up-Beat First Aid Dawson Creek NEW\, 11000 8th Street\, Dawson Creek\, British Columbia\, V1G 4K6\, Canada
CATEGORIES:Emergency First Aid (EFA)
ORGANIZER;CN="Up-Beat First Aid & Safety Training":MAILTO:up-beat@live.ca
END:VEVENT
BEGIN:VEVENT
DTSTART;TZID=America/Dawson_Creek:20210319T091500
DTEND;TZID=America/Dawson_Creek:20210319T170000
DTSTAMP:20260423T041729
CREATED:20210128T210338Z
LAST-MODIFIED:20210128T210338Z
UID:2646-1616145300-1616173200@up-beatfirstaid.ca
SUMMARY:Workplace Emergency First Aid Dawson Creek
DESCRIPTION:
URL:https://up-beatfirstaid.ca/event/workplace-emergency-first-aid-dawson-creek-47/
LOCATION:Up-Beat First Aid Dawson Creek NEW\, 11000 8th Street\, Dawson Creek\, British Columbia\, V1G 4K6\, Canada
CATEGORIES:Emergency First Aid (EFA)
ORGANIZER;CN="Up-Beat First Aid & Safety Training":MAILTO:up-beat@live.ca
END:VEVENT
BEGIN:VEVENT
DTSTART;TZID=America/Dawson_Creek:20210316T091500
DTEND;TZID=America/Dawson_Creek:20210316T170000
DTSTAMP:20260423T041729
CREATED:20210128T210252Z
LAST-MODIFIED:20210128T210252Z
UID:2643-1615886100-1615914000@up-beatfirstaid.ca
SUMMARY:Workplace Emergency First Aid Dawson Creek
DESCRIPTION:
URL:https://up-beatfirstaid.ca/event/workplace-emergency-first-aid-dawson-creek-46/
LOCATION:Up-Beat First Aid Dawson Creek NEW\, 11000 8th Street\, Dawson Creek\, British Columbia\, V1G 4K6\, Canada
CATEGORIES:Emergency First Aid (EFA)
ORGANIZER;CN="Up-Beat First Aid & Safety Training":MAILTO:up-beat@live.ca
END:VEVENT
BEGIN:VEVENT
DTSTART;TZID=America/Dawson_Creek:20210312T091500
DTEND;TZID=America/Dawson_Creek:20210312T170000
DTSTAMP:20260423T041729
CREATED:20210128T210013Z
LAST-MODIFIED:20210128T210013Z
UID:2640-1615540500-1615568400@up-beatfirstaid.ca
SUMMARY:Workplace Emergency First Aid Dawson Creek
DESCRIPTION:
URL:https://up-beatfirstaid.ca/event/workplace-emergency-first-aid-dawson-creek-45/
LOCATION:Up-Beat First Aid Dawson Creek NEW\, 11000 8th Street\, Dawson Creek\, British Columbia\, V1G 4K6\, Canada
CATEGORIES:Emergency First Aid (EFA)
ORGANIZER;CN="Up-Beat First Aid & Safety Training":MAILTO:up-beat@live.ca
END:VEVENT
BEGIN:VEVENT
DTSTART;TZID=America/Dawson_Creek:20210312T080000
DTEND;TZID=America/Dawson_Creek:20210312T170000
DTSTAMP:20260423T041729
CREATED:20210210T233509Z
LAST-MODIFIED:20210210T233509Z
UID:2722-1615536000-1615568400@up-beatfirstaid.ca
SUMMARY:Work Place Emergency First Aid - Chetwynd
DESCRIPTION:
URL:https://up-beatfirstaid.ca/event/work-place-emergency-first-aid-chetwynd-2/
LOCATION:Chetwynd Public Library\, 5012 46th St NE\, Chetwynd\, BC\, V0C1J0
CATEGORIES:Emergency First Aid (EFA)
ORGANIZER;CN="Up-Beat First Aid & Safety Training":MAILTO:up-beat@live.ca
END:VEVENT
BEGIN:VEVENT
DTSTART;TZID=America/Dawson_Creek:20210309T091500
DTEND;TZID=America/Dawson_Creek:20210309T170000
DTSTAMP:20260423T041729
CREATED:20210128T205913Z
LAST-MODIFIED:20210128T205913Z
UID:2637-1615281300-1615309200@up-beatfirstaid.ca
SUMMARY:Workplace Emergency First Aid Dawson Creek
DESCRIPTION:
URL:https://up-beatfirstaid.ca/event/workplace-emergency-first-aid-dawson-creek-44/
LOCATION:Up-Beat First Aid Dawson Creek NEW\, 11000 8th Street\, Dawson Creek\, British Columbia\, V1G 4K6\, Canada
CATEGORIES:Emergency First Aid (EFA)
ORGANIZER;CN="Up-Beat First Aid & Safety Training":MAILTO:up-beat@live.ca
END:VEVENT
BEGIN:VEVENT
DTSTART;TZID=America/Dawson_Creek:20210305T091500
DTEND;TZID=America/Dawson_Creek:20210305T170000
DTSTAMP:20260423T041729
CREATED:20210128T205820Z
LAST-MODIFIED:20210128T205820Z
UID:2634-1614935700-1614963600@up-beatfirstaid.ca
SUMMARY:Workplace Emergency First Aid Dawson Creek
DESCRIPTION:
URL:https://up-beatfirstaid.ca/event/workplace-emergency-first-aid-dawson-creek-43/
LOCATION:Up-Beat First Aid Dawson Creek NEW\, 11000 8th Street\, Dawson Creek\, British Columbia\, V1G 4K6\, Canada
CATEGORIES:Emergency First Aid (EFA)
ORGANIZER;CN="Up-Beat First Aid & Safety Training":MAILTO:up-beat@live.ca
END:VEVENT
BEGIN:VEVENT
DTSTART;TZID=America/Dawson_Creek:20210302T091500
DTEND;TZID=America/Dawson_Creek:20210302T170000
DTSTAMP:20260423T041729
CREATED:20210128T205722Z
LAST-MODIFIED:20210128T205722Z
UID:2631-1614676500-1614704400@up-beatfirstaid.ca
SUMMARY:Workplace Emergency First Aid Dawson Creek
DESCRIPTION:
URL:https://up-beatfirstaid.ca/event/workplace-emergency-first-aid-dawson-creek-42/
LOCATION:Up-Beat First Aid Dawson Creek NEW\, 11000 8th Street\, Dawson Creek\, British Columbia\, V1G 4K6\, Canada
CATEGORIES:Emergency First Aid (EFA)
ORGANIZER;CN="Up-Beat First Aid & Safety Training":MAILTO:up-beat@live.ca
END:VEVENT
BEGIN:VEVENT
DTSTART;TZID=America/Dawson_Creek:20210226T091500
DTEND;TZID=America/Dawson_Creek:20210226T170000
DTSTAMP:20260423T041729
CREATED:20210108T184519Z
LAST-MODIFIED:20210108T184519Z
UID:2564-1614330900-1614358800@up-beatfirstaid.ca
SUMMARY:Workplace Emergency First Aid Dawson Creek
DESCRIPTION:
URL:https://up-beatfirstaid.ca/event/workplace-emergency-first-aid-dawson-creek-39/
LOCATION:Up-Beat First Aid Dawson Creek NEW\, 11000 8th Street\, Dawson Creek\, British Columbia\, V1G 4K6\, Canada
CATEGORIES:Emergency First Aid (EFA)
ORGANIZER;CN="Up-Beat First Aid & Safety Training":MAILTO:up-beat@live.ca
END:VEVENT
BEGIN:VEVENT
DTSTART;TZID=America/Dawson_Creek:20210226T080000
DTEND;TZID=America/Dawson_Creek:20210226T170000
DTSTAMP:20260423T041729
CREATED:20210108T191152Z
LAST-MODIFIED:20210219T213317Z
UID:2573-1614326400-1614358800@up-beatfirstaid.ca
SUMMARY:Workplace Emergency First Aid Chetwynd
DESCRIPTION:
URL:https://up-beatfirstaid.ca/event/workplace-emergency-first-aid-chetwynd-15/
LOCATION:Up-Beat First Aid Chetwynd\, 4717 – 51 St\, Chetwynd\, British Columbia\, V0C 1J0\, Canada
CATEGORIES:Emergency First Aid (EFA)
ORGANIZER;CN="Up-Beat First Aid & Safety Training":MAILTO:up-beat@live.ca
END:VEVENT
BEGIN:VEVENT
DTSTART;TZID=America/Dawson_Creek:20210223T091500
DTEND;TZID=America/Dawson_Creek:20210223T170000
DTSTAMP:20260423T041729
CREATED:20210108T184127Z
LAST-MODIFIED:20210108T184127Z
UID:2561-1614071700-1614099600@up-beatfirstaid.ca
SUMMARY:Workplace Emergency First Aid Dawson Creek
DESCRIPTION:
URL:https://up-beatfirstaid.ca/event/workplace-emergency-first-aid-dawson-creek-38/
LOCATION:Up-Beat First Aid Dawson Creek NEW\, 11000 8th Street\, Dawson Creek\, British Columbia\, V1G 4K6\, Canada
CATEGORIES:Emergency First Aid (EFA)
ORGANIZER;CN="Up-Beat First Aid & Safety Training":MAILTO:up-beat@live.ca
END:VEVENT
BEGIN:VEVENT
DTSTART;TZID=America/Dawson_Creek:20210219T091500
DTEND;TZID=America/Dawson_Creek:20210219T170000
DTSTAMP:20260423T041729
CREATED:20210108T184624Z
LAST-MODIFIED:20210108T184624Z
UID:2567-1613726100-1613754000@up-beatfirstaid.ca
SUMMARY:Workplace Emergency First Aid Dawson Creek
DESCRIPTION:
URL:https://up-beatfirstaid.ca/event/workplace-emergency-first-aid-dawson-creek-40/
LOCATION:Up-Beat First Aid Dawson Creek NEW\, 11000 8th Street\, Dawson Creek\, British Columbia\, V1G 4K6\, Canada
CATEGORIES:Emergency First Aid (EFA)
ORGANIZER;CN="Up-Beat First Aid & Safety Training":MAILTO:up-beat@live.ca
END:VEVENT
BEGIN:VEVENT
DTSTART;TZID=America/Dawson_Creek:20210217T091500
DTEND;TZID=America/Dawson_Creek:20210217T170000
DTSTAMP:20260423T041729
CREATED:20210108T203346Z
LAST-MODIFIED:20210108T203346Z
UID:2578-1613553300-1613581200@up-beatfirstaid.ca
SUMMARY:Standard First Aid Dawson Creek
DESCRIPTION:
URL:https://up-beatfirstaid.ca/event/standard-first-aid-dawson-creek-10/
LOCATION:Up-Beat First Aid Dawson Creek NEW\, 11000 8th Street\, Dawson Creek\, British Columbia\, V1G 4K6\, Canada
CATEGORIES:Emergency First Aid (EFA)
ORGANIZER;CN="Up-Beat First Aid & Safety Training":MAILTO:up-beat@live.ca
END:VEVENT
BEGIN:VEVENT
DTSTART;TZID=America/Dawson_Creek:20210216T091500
DTEND;TZID=America/Dawson_Creek:20210216T170000
DTSTAMP:20260423T041729
CREATED:20210108T184027Z
LAST-MODIFIED:20210211T192534Z
UID:2558-1613466900-1613494800@up-beatfirstaid.ca
SUMMARY:Workplace Emergency First Aid Dawson Creek
DESCRIPTION:
URL:https://up-beatfirstaid.ca/event/workplace-emergency-first-aid-dawson-creek-37/
LOCATION:Up-Beat First Aid Dawson Creek NEW\, 11000 8th Street\, Dawson Creek\, British Columbia\, V1G 4K6\, Canada
CATEGORIES:Emergency First Aid (EFA)
ORGANIZER;CN="Up-Beat First Aid & Safety Training":MAILTO:up-beat@live.ca
END:VEVENT
BEGIN:VEVENT
DTSTART;TZID=America/Dawson_Creek:20210212T091500
DTEND;TZID=America/Dawson_Creek:20210212T170000
DTSTAMP:20260423T041729
CREATED:20210108T183925Z
LAST-MODIFIED:20210211T192439Z
UID:2555-1613121300-1613149200@up-beatfirstaid.ca
SUMMARY:Workplace Emergency First Aid Dawson Creek
DESCRIPTION:
URL:https://up-beatfirstaid.ca/event/workplace-emergency-first-aid-dawson-creek-36/
LOCATION:Up-Beat First Aid Dawson Creek NEW\, 11000 8th Street\, Dawson Creek\, British Columbia\, V1G 4K6\, Canada
CATEGORIES:Emergency First Aid (EFA)
ORGANIZER;CN="Up-Beat First Aid & Safety Training":MAILTO:up-beat@live.ca
END:VEVENT
BEGIN:VEVENT
DTSTART;TZID=America/Dawson_Creek:20210212T080000
DTEND;TZID=America/Dawson_Creek:20210212T170000
DTSTAMP:20260423T041729
CREATED:20210108T184927Z
LAST-MODIFIED:20210204T214827Z
UID:2570-1613116800-1613149200@up-beatfirstaid.ca
SUMMARY:Workplace Emergency First Aid Chetywnd
DESCRIPTION:
URL:https://up-beatfirstaid.ca/event/workplace-emergency-first-aid-chetywnd/
LOCATION:Up-Beat First Aid Chetwynd\, 4717 – 51 St\, Chetwynd\, British Columbia\, V0C 1J0\, Canada
CATEGORIES:Emergency First Aid (EFA)
ORGANIZER;CN="Up-Beat First Aid & Safety Training":MAILTO:up-beat@live.ca
END:VEVENT
BEGIN:VEVENT
DTSTART;TZID=America/Dawson_Creek:20210209T091500
DTEND;TZID=America/Dawson_Creek:20210209T170000
DTSTAMP:20260423T041729
CREATED:20210108T183822Z
LAST-MODIFIED:20210108T183822Z
UID:2552-1612862100-1612890000@up-beatfirstaid.ca
SUMMARY:Workplace Emergency First Aid Dawson Creek
DESCRIPTION:
URL:https://up-beatfirstaid.ca/event/workplace-emergency-first-aid-dawson-creek-35/
LOCATION:Up-Beat First Aid Dawson Creek NEW\, 11000 8th Street\, Dawson Creek\, British Columbia\, V1G 4K6\, Canada
CATEGORIES:Emergency First Aid (EFA)
ORGANIZER;CN="Up-Beat First Aid & Safety Training":MAILTO:up-beat@live.ca
END:VEVENT
BEGIN:VEVENT
DTSTART;TZID=America/Dawson_Creek:20210205T091500
DTEND;TZID=America/Dawson_Creek:20210205T170000
DTSTAMP:20260423T041729
CREATED:20210108T183610Z
LAST-MODIFIED:20210108T183610Z
UID:2546-1612516500-1612544400@up-beatfirstaid.ca
SUMMARY:Workplace Emergency First Aid Dawson Creek
DESCRIPTION:
URL:https://up-beatfirstaid.ca/event/workplace-emergency-first-aid-dawson-creek-34/
LOCATION:Up-Beat First Aid Dawson Creek NEW\, 11000 8th Street\, Dawson Creek\, British Columbia\, V1G 4K6\, Canada
CATEGORIES:Emergency First Aid (EFA)
ORGANIZER;CN="Up-Beat First Aid & Safety Training":MAILTO:up-beat@live.ca
END:VEVENT
BEGIN:VEVENT
DTSTART;TZID=America/Dawson_Creek:20210202T091500
DTEND;TZID=America/Dawson_Creek:20210202T170000
DTSTAMP:20260423T041729
CREATED:20210108T183511Z
LAST-MODIFIED:20210128T223510Z
UID:2543-1612257300-1612285200@up-beatfirstaid.ca
SUMMARY:Workplace Emergency First Aid Dawson Creek
DESCRIPTION:
URL:https://up-beatfirstaid.ca/event/workplace-emergency-first-aid-dawson-creek-32/
LOCATION:Up-Beat First Aid Dawson Creek NEW\, 11000 8th Street\, Dawson Creek\, British Columbia\, V1G 4K6\, Canada
CATEGORIES:Emergency First Aid (EFA)
ORGANIZER;CN="Up-Beat First Aid & Safety Training":MAILTO:up-beat@live.ca
END:VEVENT
BEGIN:VEVENT
DTSTART;TZID=America/Dawson_Creek:20210129T091500
DTEND;TZID=America/Dawson_Creek:20210129T170000
DTSTAMP:20260423T041729
CREATED:20201201T190309Z
LAST-MODIFIED:20201230T175605Z
UID:2450-1611911700-1611939600@up-beatfirstaid.ca
SUMMARY:Workplace Emergency First Aid Dawson Creek
DESCRIPTION:
URL:https://up-beatfirstaid.ca/event/workplace-emergency-first-aid-dawson-creek-33/
LOCATION:Up-Beat First Aid Dawson Creek NEW\, 11000 8th Street\, Dawson Creek\, British Columbia\, V1G 4K6\, Canada
CATEGORIES:Emergency First Aid (EFA)
ORGANIZER;CN="Up-Beat First Aid & Safety Training":MAILTO:up-beat@live.ca
END:VEVENT
BEGIN:VEVENT
DTSTART;TZID=America/Dawson_Creek:20210126T091500
DTEND;TZID=America/Dawson_Creek:20210126T170000
DTSTAMP:20260423T041729
CREATED:20210119T214626Z
LAST-MODIFIED:20210119T214626Z
UID:2621-1611652500-1611680400@up-beatfirstaid.ca
SUMMARY:Workplace Emergency First Aid - Dawson Creek
DESCRIPTION:
URL:https://up-beatfirstaid.ca/event/workplace-emergency-first-aid-dawson-creek-41/
LOCATION:Up-Beat First Aid Dawson Creek NEW\, 11000 8th Street\, Dawson Creek\, British Columbia\, V1G 4K6\, Canada
CATEGORIES:Emergency First Aid (EFA)
ORGANIZER;CN="Up-Beat First Aid & Safety Training":MAILTO:up-beat@live.ca
END:VEVENT
BEGIN:VEVENT
DTSTART;TZID=America/Dawson_Creek:20210123T080000
DTEND;TZID=America/Dawson_Creek:20210123T170000
DTSTAMP:20260423T041729
CREATED:20201201T193652Z
LAST-MODIFIED:20201230T181707Z
UID:2479-1611388800-1611421200@up-beatfirstaid.ca
SUMMARY:Workplace Emergency First Aid - Chetwynd
DESCRIPTION:
URL:https://up-beatfirstaid.ca/event/workplace-emergency-first-aid-chetwynd-14/
LOCATION:Up-Beat First Aid Chetwynd\, 4717 – 51 St\, Chetwynd\, British Columbia\, V0C 1J0\, Canada
CATEGORIES:Emergency First Aid (EFA)
ORGANIZER;CN="Up-Beat First Aid & Safety Training":MAILTO:up-beat@live.ca
END:VEVENT
BEGIN:VEVENT
DTSTART;TZID=America/Dawson_Creek:20210122T091500
DTEND;TZID=America/Dawson_Creek:20210122T170000
DTSTAMP:20260423T041729
CREATED:20201201T185850Z
LAST-MODIFIED:20201230T175323Z
UID:2443-1611306900-1611334800@up-beatfirstaid.ca
SUMMARY:Workplace Emergency First Aid Dawson Creek
DESCRIPTION:
URL:https://up-beatfirstaid.ca/event/workplace-emergency-first-aid-dawson-creek-31/
LOCATION:Up-Beat First Aid Dawson Creek NEW\, 11000 8th Street\, Dawson Creek\, British Columbia\, V1G 4K6\, Canada
CATEGORIES:Emergency First Aid (EFA)
ORGANIZER;CN="Up-Beat First Aid & Safety Training":MAILTO:up-beat@live.ca
END:VEVENT
BEGIN:VEVENT
DTSTART;TZID=America/Dawson_Creek:20210119T091500
DTEND;TZID=America/Dawson_Creek:20210119T170000
DTSTAMP:20260423T041729
CREATED:20201201T185751Z
LAST-MODIFIED:20201230T174931Z
UID:2440-1611047700-1611075600@up-beatfirstaid.ca
SUMMARY:Workplace Emergency First Aid Dawson Creek
DESCRIPTION:
URL:https://up-beatfirstaid.ca/event/workplace-emergency-first-aid-dawson-creek-30/
LOCATION:Up-Beat First Aid Dawson Creek NEW\, 11000 8th Street\, Dawson Creek\, British Columbia\, V1G 4K6\, Canada
CATEGORIES:Emergency First Aid (EFA)
ORGANIZER;CN="Up-Beat First Aid & Safety Training":MAILTO:up-beat@live.ca
END:VEVENT
BEGIN:VEVENT
DTSTART;TZID=America/Dawson_Creek:20210115T091500
DTEND;TZID=America/Dawson_Creek:20210115T170000
DTSTAMP:20260423T041729
CREATED:20201201T185659Z
LAST-MODIFIED:20201230T174526Z
UID:2437-1610702100-1610730000@up-beatfirstaid.ca
SUMMARY:Workplace Emergency First Aid Dawson Creek
DESCRIPTION:
URL:https://up-beatfirstaid.ca/event/workplace-emergency-first-aid-dawson-creek-29/
LOCATION:Up-Beat First Aid Dawson Creek NEW\, 11000 8th Street\, Dawson Creek\, British Columbia\, V1G 4K6\, Canada
CATEGORIES:Emergency First Aid (EFA)
ORGANIZER;CN="Up-Beat First Aid & Safety Training":MAILTO:up-beat@live.ca
END:VEVENT
BEGIN:VEVENT
DTSTART;TZID=America/Dawson_Creek:20210112T091500
DTEND;TZID=America/Dawson_Creek:20210112T170000
DTSTAMP:20260423T041729
CREATED:20201201T184733Z
LAST-MODIFIED:20201230T174336Z
UID:2434-1610442900-1610470800@up-beatfirstaid.ca
SUMMARY:Workplace Emergency First Aid Dawson Creek
DESCRIPTION:
URL:https://up-beatfirstaid.ca/event/workplace-emergency-first-aid-dawson-creek-28/
LOCATION:Up-Beat First Aid Dawson Creek NEW\, 11000 8th Street\, Dawson Creek\, British Columbia\, V1G 4K6\, Canada
CATEGORIES:Emergency First Aid (EFA)
ORGANIZER;CN="Up-Beat First Aid & Safety Training":MAILTO:up-beat@live.ca
END:VEVENT
BEGIN:VEVENT
DTSTART;TZID=America/Dawson_Creek:20210109T080000
DTEND;TZID=America/Dawson_Creek:20210109T170000
DTSTAMP:20260423T041729
CREATED:20201201T193536Z
LAST-MODIFIED:20210106T174635Z
UID:2476-1610179200-1610211600@up-beatfirstaid.ca
SUMMARY:Workplace Emergency First Aid - Chetwynd
DESCRIPTION:
URL:https://up-beatfirstaid.ca/event/workplace-emergency-first-aid-chetwynd-13/
LOCATION:Up-Beat First Aid Chetwynd\, 4717 – 51 St\, Chetwynd\, British Columbia\, V0C 1J0\, Canada
CATEGORIES:Emergency First Aid (EFA)
ORGANIZER;CN="Up-Beat First Aid & Safety Training":MAILTO:up-beat@live.ca
END:VEVENT
BEGIN:VEVENT
DTSTART;TZID=America/Dawson_Creek:20210108T091500
DTEND;TZID=America/Dawson_Creek:20210108T170000
DTSTAMP:20260423T041729
CREATED:20201201T184623Z
LAST-MODIFIED:20201230T173714Z
UID:2431-1610097300-1610125200@up-beatfirstaid.ca
SUMMARY:Workplace Emergency First Aid Dawson Creek
DESCRIPTION:
URL:https://up-beatfirstaid.ca/event/workplace-emergency-first-aid-dawson-creek-27/
LOCATION:Up-Beat First Aid Dawson Creek NEW\, 11000 8th Street\, Dawson Creek\, British Columbia\, V1G 4K6\, Canada
CATEGORIES:Emergency First Aid (EFA)
ORGANIZER;CN="Up-Beat First Aid & Safety Training":MAILTO:up-beat@live.ca
END:VEVENT
END:VCALENDAR