BEGIN:VCALENDAR
VERSION:2.0
PRODID:-//Up-Beat First Aid &amp; Safety Training Ltd. - ECPv6.15.20//NONSGML v1.0//EN
CALSCALE:GREGORIAN
METHOD:PUBLISH
X-ORIGINAL-URL:https://up-beatfirstaid.ca
X-WR-CALDESC:Events for Up-Beat First Aid &amp; Safety Training Ltd.
REFRESH-INTERVAL;VALUE=DURATION:PT1H
X-Robots-Tag:noindex
X-PUBLISHED-TTL:PT1H
BEGIN:VTIMEZONE
TZID:America/Dawson_Creek
BEGIN:STANDARD
TZOFFSETFROM:-0700
TZOFFSETTO:-0700
TZNAME:MST
DTSTART:20190101T000000
END:STANDARD
END:VTIMEZONE
BEGIN:VEVENT
DTSTART;TZID=America/Dawson_Creek:20201127T091500
DTEND;TZID=America/Dawson_Creek:20201127T170000
DTSTAMP:20260423T150919
CREATED:20201015T174026Z
LAST-MODIFIED:20201015T174026Z
UID:2330-1606468500-1606496400@up-beatfirstaid.ca
SUMMARY:Emergency First Aid Dawson Creek
DESCRIPTION:
URL:https://up-beatfirstaid.ca/event/emergency-first-aid-dawson-creek-14/
LOCATION:Up-Beat First Aid Dawson Creek NEW\, 11000 8th Street\, Dawson Creek\, British Columbia\, V1G 4K6\, Canada
CATEGORIES:Emergency First Aid (EFA)
ORGANIZER;CN="Up-Beat First Aid & Safety Training":MAILTO:up-beat@live.ca
END:VEVENT
BEGIN:VEVENT
DTSTART;TZID=America/Dawson_Creek:20201127T080000
DTEND;TZID=America/Dawson_Creek:20201127T170000
DTSTAMP:20260423T150919
CREATED:20201015T174302Z
LAST-MODIFIED:20201015T174302Z
UID:2333-1606464000-1606496400@up-beatfirstaid.ca
SUMMARY:Workplace Emergency First Aid Chetwynd
DESCRIPTION:
URL:https://up-beatfirstaid.ca/event/workplace-emergency-first-aid-chetwynd-11/
LOCATION:Up-Beat First Aid Chetwynd\, 4717 – 51 St\, Chetwynd\, British Columbia\, V0C 1J0\, Canada
CATEGORIES:Emergency First Aid (EFA)
ORGANIZER;CN="Up-Beat First Aid & Safety Training":MAILTO:up-beat@live.ca
END:VEVENT
BEGIN:VEVENT
DTSTART;TZID=America/Dawson_Creek:20201120T091500
DTEND;TZID=America/Dawson_Creek:20201120T170000
DTSTAMP:20260423T150919
CREATED:20201015T172643Z
LAST-MODIFIED:20201015T172643Z
UID:2317-1605863700-1605891600@up-beatfirstaid.ca
SUMMARY:Workplace Emergency First Aid Dawson Creek
DESCRIPTION:
URL:https://up-beatfirstaid.ca/event/workplace-emergency-first-aid-dawson-creek-17/
LOCATION:Up-Beat First Aid Dawson Creek NEW\, 11000 8th Street\, Dawson Creek\, British Columbia\, V1G 4K6\, Canada
CATEGORIES:Emergency First Aid (EFA)
ORGANIZER;CN="Up-Beat First Aid & Safety Training":MAILTO:up-beat@live.ca
END:VEVENT
BEGIN:VEVENT
DTSTART;TZID=America/Dawson_Creek:20201117T091500
DTEND;TZID=America/Dawson_Creek:20201117T170000
DTSTAMP:20260423T150919
CREATED:20201015T172059Z
LAST-MODIFIED:20201015T172059Z
UID:2309-1605604500-1605632400@up-beatfirstaid.ca
SUMMARY:Workplace Emergency First Aid Dawson Creek
DESCRIPTION:
URL:https://up-beatfirstaid.ca/event/workplace-emergency-first-aid-dawson-creek-16/
LOCATION:Up-Beat First Aid Dawson Creek NEW\, 11000 8th Street\, Dawson Creek\, British Columbia\, V1G 4K6\, Canada
CATEGORIES:Emergency First Aid (EFA)
ORGANIZER;CN="Up-Beat First Aid & Safety Training":MAILTO:up-beat@live.ca
END:VEVENT
BEGIN:VEVENT
DTSTART;TZID=America/Dawson_Creek:20201113T091500
DTEND;TZID=America/Dawson_Creek:20201113T170000
DTSTAMP:20260423T150919
CREATED:20201015T170838Z
LAST-MODIFIED:20201015T170838Z
UID:2302-1605258900-1605286800@up-beatfirstaid.ca
SUMMARY:Workplace Emergency First Aid Dawson Creek
DESCRIPTION:
URL:https://up-beatfirstaid.ca/event/workplace-emergency-first-aid-dawson-creek-13/
LOCATION:Up-Beat First Aid Dawson Creek NEW\, 11000 8th Street\, Dawson Creek\, British Columbia\, V1G 4K6\, Canada
CATEGORIES:Emergency First Aid (EFA)
ORGANIZER;CN="Up-Beat First Aid & Safety Training":MAILTO:up-beat@live.ca
END:VEVENT
BEGIN:VEVENT
DTSTART;TZID=America/Dawson_Creek:20201113T080000
DTEND;TZID=America/Dawson_Creek:20201113T170000
DTSTAMP:20260423T150919
CREATED:20201015T171057Z
LAST-MODIFIED:20201015T171057Z
UID:2306-1605254400-1605286800@up-beatfirstaid.ca
SUMMARY:Workplace Emergency First Aid Chetwynd
DESCRIPTION:
URL:https://up-beatfirstaid.ca/event/workplace-emergency-first-aid-chetwynd-10/
LOCATION:Up-Beat First Aid Chetwynd\, 4717 – 51 St\, Chetwynd\, British Columbia\, V0C 1J0\, Canada
CATEGORIES:Emergency First Aid (EFA)
ORGANIZER;CN="Up-Beat First Aid & Safety Training":MAILTO:up-beat@live.ca
END:VEVENT
BEGIN:VEVENT
DTSTART;TZID=America/Dawson_Creek:20201110T091500
DTEND;TZID=America/Dawson_Creek:20201110T170000
DTSTAMP:20260423T150919
CREATED:20201015T170047Z
LAST-MODIFIED:20201015T170047Z
UID:2296-1604999700-1605027600@up-beatfirstaid.ca
SUMMARY:Workplace Emergency First Aid Dawson Creek
DESCRIPTION:
URL:https://up-beatfirstaid.ca/event/workplace-emergency-first-aid-dawson-creek-12/
LOCATION:Up-Beat First Aid Dawson Creek NEW\, 11000 8th Street\, Dawson Creek\, British Columbia\, V1G 4K6\, Canada
CATEGORIES:Emergency First Aid (EFA)
ORGANIZER;CN="Up-Beat First Aid & Safety Training":MAILTO:up-beat@live.ca
END:VEVENT
BEGIN:VEVENT
DTSTART;TZID=America/Dawson_Creek:20201106T091500
DTEND;TZID=America/Dawson_Creek:20201106T170000
DTSTAMP:20260423T150919
CREATED:20201015T164611Z
LAST-MODIFIED:20201015T164611Z
UID:2287-1604654100-1604682000@up-beatfirstaid.ca
SUMMARY:Workplace Emergency First Aid Dawson Creek
DESCRIPTION:
URL:https://up-beatfirstaid.ca/event/workplace-emergency-first-aid-dawson-creek-11/
LOCATION:Up-Beat First Aid Dawson Creek NEW\, 11000 8th Street\, Dawson Creek\, British Columbia\, V1G 4K6\, Canada
CATEGORIES:Emergency First Aid (EFA)
ORGANIZER;CN="Up-Beat First Aid & Safety Training":MAILTO:up-beat@live.ca
END:VEVENT
BEGIN:VEVENT
DTSTART;TZID=America/Dawson_Creek:20201103T091500
DTEND;TZID=America/Dawson_Creek:20201103T170000
DTSTAMP:20260423T150919
CREATED:20201015T163659Z
LAST-MODIFIED:20201015T163659Z
UID:2279-1604394900-1604422800@up-beatfirstaid.ca
SUMMARY:Emergency First Aid Dawson Creek
DESCRIPTION:
URL:https://up-beatfirstaid.ca/event/emergency-first-aid-dawson-creek-13/
LOCATION:Up-Beat First Aid Dawson Creek NEW\, 11000 8th Street\, Dawson Creek\, British Columbia\, V1G 4K6\, Canada
CATEGORIES:Emergency First Aid (EFA)
ORGANIZER;CN="Up-Beat First Aid & Safety Training":MAILTO:up-beat@live.ca
END:VEVENT
BEGIN:VEVENT
DTSTART;TZID=America/Dawson_Creek:20201030T091500
DTEND;TZID=America/Dawson_Creek:20201030T170000
DTSTAMP:20260423T150919
CREATED:20200909T222345Z
LAST-MODIFIED:20200909T222345Z
UID:2222-1604049300-1604077200@up-beatfirstaid.ca
SUMMARY:Workplace Emergency First Aid Dawson Creek
DESCRIPTION:
URL:https://up-beatfirstaid.ca/event/workplace-emergency-first-aid-dawson-creek-10/
LOCATION:Up-Beat First Aid Dawson Creek NEW\, 11000 8th Street\, Dawson Creek\, British Columbia\, V1G 4K6\, Canada
CATEGORIES:Emergency First Aid (EFA)
ORGANIZER;CN="Up-Beat First Aid & Safety Training":MAILTO:up-beat@live.ca
END:VEVENT
BEGIN:VEVENT
DTSTART;TZID=America/Dawson_Creek:20201030T080000
DTEND;TZID=America/Dawson_Creek:20201030T170000
DTSTAMP:20260423T150919
CREATED:20200909T222525Z
LAST-MODIFIED:20200909T222525Z
UID:2225-1604044800-1604077200@up-beatfirstaid.ca
SUMMARY:Workplace Emergency First Aid Chetwynd
DESCRIPTION:
URL:https://up-beatfirstaid.ca/event/workplace-emergency-first-aid-chetwynd-9/
LOCATION:Up-Beat First Aid Chetwynd\, 4717 – 51 St\, Chetwynd\, British Columbia\, V0C 1J0\, Canada
CATEGORIES:Emergency First Aid (EFA)
ORGANIZER;CN="Up-Beat First Aid & Safety Training":MAILTO:up-beat@live.ca
END:VEVENT
BEGIN:VEVENT
DTSTART;TZID=America/Dawson_Creek:20201023T091500
DTEND;TZID=America/Dawson_Creek:20201023T170000
DTSTAMP:20260423T150919
CREATED:20200909T221459Z
LAST-MODIFIED:20200909T221459Z
UID:2210-1603444500-1603472400@up-beatfirstaid.ca
SUMMARY:Workplace emergency first aid Dawson Creek
DESCRIPTION:
URL:https://up-beatfirstaid.ca/event/workplace-emergency-first-aid-dawson-creek-9/
LOCATION:Up-Beat First Aid Dawson Creek NEW\, 11000 8th Street\, Dawson Creek\, British Columbia\, V1G 4K6\, Canada
CATEGORIES:Emergency First Aid (EFA)
ORGANIZER;CN="Up-Beat First Aid & Safety Training":MAILTO:up-beat@live.ca
END:VEVENT
BEGIN:VEVENT
DTSTART;TZID=America/Dawson_Creek:20201023T080000
DTEND;TZID=America/Dawson_Creek:20201023T170000
DTSTAMP:20260423T150919
CREATED:20200909T221728Z
LAST-MODIFIED:20200909T221728Z
UID:2213-1603440000-1603472400@up-beatfirstaid.ca
SUMMARY:Workplace Emergency First Aid Chetwynd
DESCRIPTION:
URL:https://up-beatfirstaid.ca/event/workplace-emergency-first-aid-chetwynd-8/
LOCATION:Up-Beat First Aid Chetwynd\, 4717 – 51 St\, Chetwynd\, British Columbia\, V0C 1J0\, Canada
CATEGORIES:Emergency First Aid (EFA)
ORGANIZER;CN="Up-Beat First Aid & Safety Training":MAILTO:up-beat@live.ca
END:VEVENT
BEGIN:VEVENT
DTSTART;TZID=America/Dawson_Creek:20201022T091500
DTEND;TZID=America/Dawson_Creek:20201022T170000
DTSTAMP:20260423T150919
CREATED:20200909T221236Z
LAST-MODIFIED:20201020T202105Z
UID:2207-1603358100-1603386000@up-beatfirstaid.ca
SUMMARY:H2S Alive Dawson Creek
DESCRIPTION:
URL:https://up-beatfirstaid.ca/event/h2s-alive-dawson-creek-16/
LOCATION:Up-Beat First Aid Dawson Creek NEW\, 11000 8th Street\, Dawson Creek\, British Columbia\, V1G 4K6\, Canada
CATEGORIES:Emergency First Aid (EFA)
ORGANIZER;CN="Up-Beat First Aid & Safety Training":MAILTO:up-beat@live.ca
END:VEVENT
BEGIN:VEVENT
DTSTART;TZID=America/Dawson_Creek:20201020T091500
DTEND;TZID=America/Dawson_Creek:20201020T170000
DTSTAMP:20260423T150919
CREATED:20200909T215837Z
LAST-MODIFIED:20200909T215837Z
UID:2201-1603185300-1603213200@up-beatfirstaid.ca
SUMMARY:Workplace Emergency First Aid Dawson Creek
DESCRIPTION:
URL:https://up-beatfirstaid.ca/event/workplace-emergency-first-aid-dawson-creek-8/
LOCATION:Up-Beat First Aid Dawson Creek NEW\, 11000 8th Street\, Dawson Creek\, British Columbia\, V1G 4K6\, Canada
CATEGORIES:Emergency First Aid (EFA)
ORGANIZER;CN="Up-Beat First Aid & Safety Training":MAILTO:up-beat@live.ca
END:VEVENT
BEGIN:VEVENT
DTSTART;TZID=America/Dawson_Creek:20201019T091500
DTEND;TZID=America/Dawson_Creek:20201019T170000
DTSTAMP:20260423T150919
CREATED:20200909T214911Z
LAST-MODIFIED:20200909T214911Z
UID:2198-1603098900-1603126800@up-beatfirstaid.ca
SUMMARY:Workplace emergency first aid Dawson Creek
DESCRIPTION:
URL:https://up-beatfirstaid.ca/event/workplace-emergency-first-aid-dawson-creek-7/
LOCATION:Up-Beat First Aid Dawson Creek NEW\, 11000 8th Street\, Dawson Creek\, British Columbia\, V1G 4K6\, Canada
CATEGORIES:Emergency First Aid (EFA)
ORGANIZER;CN="Up-Beat First Aid & Safety Training":MAILTO:up-beat@live.ca
END:VEVENT
BEGIN:VEVENT
DTSTART;TZID=America/Dawson_Creek:20201016T091500
DTEND;TZID=America/Dawson_Creek:20201016T170000
DTSTAMP:20260423T150919
CREATED:20200909T214105Z
LAST-MODIFIED:20200909T214105Z
UID:2186-1602839700-1602867600@up-beatfirstaid.ca
SUMMARY:Workplace emergency first aid Dawson Creek
DESCRIPTION:
URL:https://up-beatfirstaid.ca/event/workplace-emergency-first-aid-dawson-creek-6/
LOCATION:Up-Beat First Aid Dawson Creek NEW\, 11000 8th Street\, Dawson Creek\, British Columbia\, V1G 4K6\, Canada
CATEGORIES:Emergency First Aid (EFA)
ORGANIZER;CN="Up-Beat First Aid & Safety Training":MAILTO:up-beat@live.ca
END:VEVENT
BEGIN:VEVENT
DTSTART;TZID=America/Dawson_Creek:20201016T080000
DTEND;TZID=America/Dawson_Creek:20201016T170000
DTSTAMP:20260423T150919
CREATED:20200909T214317Z
LAST-MODIFIED:20201007T201740Z
UID:2189-1602835200-1602867600@up-beatfirstaid.ca
SUMMARY:Workplace emergency first aid Chetwynd
DESCRIPTION:
URL:https://up-beatfirstaid.ca/event/workplace-emergency-first-aid-chetwynd-6/
LOCATION:Up-Beat First Aid Chetwynd\, 4717 – 51 St\, Chetwynd\, British Columbia\, V0C 1J0\, Canada
CATEGORIES:Emergency First Aid (EFA)
ORGANIZER;CN="Up-Beat First Aid & Safety Training":MAILTO:up-beat@live.ca
END:VEVENT
BEGIN:VEVENT
DTSTART;TZID=America/Dawson_Creek:20201013T091500
DTEND;TZID=America/Dawson_Creek:20201013T170000
DTSTAMP:20260423T150919
CREATED:20200909T213612Z
LAST-MODIFIED:20200909T213612Z
UID:2177-1602580500-1602608400@up-beatfirstaid.ca
SUMMARY:Workplace Emergency First Aid Dawson Creek
DESCRIPTION:
URL:https://up-beatfirstaid.ca/event/workplace-emergency-first-aid-dawson-creek-5/
LOCATION:Up-Beat First Aid Dawson Creek NEW\, 11000 8th Street\, Dawson Creek\, British Columbia\, V1G 4K6\, Canada
CATEGORIES:Emergency First Aid (EFA)
ORGANIZER;CN="Up-Beat First Aid & Safety Training":MAILTO:up-beat@live.ca
END:VEVENT
BEGIN:VEVENT
DTSTART;TZID=America/Dawson_Creek:20201009T091500
DTEND;TZID=America/Dawson_Creek:20201009T170000
DTSTAMP:20260423T150919
CREATED:20200909T211850Z
LAST-MODIFIED:20200909T211850Z
UID:2171-1602234900-1602262800@up-beatfirstaid.ca
SUMMARY:Workplace emergency first aid Dawson Creek
DESCRIPTION:
URL:https://up-beatfirstaid.ca/event/workplace-emergency-first-aid-dawson-creek-4/
LOCATION:Up-Beat First Aid Dawson Creek NEW\, 11000 8th Street\, Dawson Creek\, British Columbia\, V1G 4K6\, Canada
CATEGORIES:Emergency First Aid (EFA)
ORGANIZER;CN="Up-Beat First Aid & Safety Training":MAILTO:up-beat@live.ca
END:VEVENT
BEGIN:VEVENT
DTSTART;TZID=America/Dawson_Creek:20201009T080000
DTEND;TZID=America/Dawson_Creek:20201009T170000
DTSTAMP:20260423T150919
CREATED:20200909T212030Z
LAST-MODIFIED:20200909T212030Z
UID:2174-1602230400-1602262800@up-beatfirstaid.ca
SUMMARY:Workplace emergency first aid Chetwynd
DESCRIPTION:
URL:https://up-beatfirstaid.ca/event/workplace-emergency-first-aid-chetwynd-5/
LOCATION:Up-Beat First Aid Chetwynd\, 4717 – 51 St\, Chetwynd\, British Columbia\, V0C 1J0\, Canada
CATEGORIES:Emergency First Aid (EFA)
ORGANIZER;CN="Up-Beat First Aid & Safety Training":MAILTO:up-beat@live.ca
END:VEVENT
BEGIN:VEVENT
DTSTART;TZID=America/Dawson_Creek:20201006T091500
DTEND;TZID=America/Dawson_Creek:20201006T170000
DTSTAMP:20260423T150919
CREATED:20200909T211302Z
LAST-MODIFIED:20200909T211302Z
UID:2163-1601975700-1602003600@up-beatfirstaid.ca
SUMMARY:WorkPlace Emergency First Aid Dawson Creek
DESCRIPTION:
URL:https://up-beatfirstaid.ca/event/workplace-emergency-first-aid-dawson-creek-3/
LOCATION:Up-Beat First Aid Dawson Creek NEW\, 11000 8th Street\, Dawson Creek\, British Columbia\, V1G 4K6\, Canada
CATEGORIES:Emergency First Aid (EFA)
ORGANIZER;CN="Up-Beat First Aid & Safety Training":MAILTO:up-beat@live.ca
END:VEVENT
BEGIN:VEVENT
DTSTART;TZID=America/Dawson_Creek:20201002T091500
DTEND;TZID=America/Dawson_Creek:20201002T170000
DTSTAMP:20260423T150919
CREATED:20200908T172127Z
LAST-MODIFIED:20200930T180237Z
UID:2153-1601630100-1601658000@up-beatfirstaid.ca
SUMMARY:Work Place Emergency First Aid Dawson Creek
DESCRIPTION:
URL:https://up-beatfirstaid.ca/event/work-place-emergency-first-aid-dawson-creek/
LOCATION:Up-Beat First Aid Dawson Creek NEW\, 11000 8th Street\, Dawson Creek\, British Columbia\, V1G 4K6\, Canada
CATEGORIES:Emergency First Aid (EFA)
ORGANIZER;CN="Up-Beat First Aid & Safety Training":MAILTO:up-beat@live.ca
END:VEVENT
BEGIN:VEVENT
DTSTART;TZID=America/Dawson_Creek:20201002T080000
DTEND;TZID=America/Dawson_Creek:20201002T170000
DTSTAMP:20260423T150919
CREATED:20200908T171937Z
LAST-MODIFIED:20200908T171937Z
UID:2150-1601625600-1601658000@up-beatfirstaid.ca
SUMMARY:Work Place Emergency First Aid Chetwynd
DESCRIPTION:
URL:https://up-beatfirstaid.ca/event/work-place-emergency-first-aid-chetwynd/
LOCATION:Up-Beat First Aid Chetwynd\, 4717 – 51 St\, Chetwynd\, British Columbia\, V0C 1J0\, Canada
CATEGORIES:Emergency First Aid (EFA)
ORGANIZER;CN="Up-Beat First Aid & Safety Training":MAILTO:up-beat@live.ca
END:VEVENT
BEGIN:VEVENT
DTSTART;TZID=America/Dawson_Creek:20200925T090000
DTEND;TZID=America/Dawson_Creek:20200925T170000
DTSTAMP:20260423T150919
CREATED:20200812T053806Z
LAST-MODIFIED:20200812T144754Z
UID:2047-1601024400-1601053200@up-beatfirstaid.ca
SUMMARY:WorkPlace Emergency First Aid Dawson Creek
DESCRIPTION:
URL:https://up-beatfirstaid.ca/event/workplace-emergency-first-aid-dawson-creek-15/
LOCATION:Up-Beat First Aid Dawson Creek NEW\, 11000 8th Street\, Dawson Creek\, British Columbia\, V1G 4K6\, Canada
CATEGORIES:Emergency First Aid (EFA)
ORGANIZER;CN="Up-Beat First Aid & Safety Training":MAILTO:up-beat@live.ca
END:VEVENT
BEGIN:VEVENT
DTSTART;TZID=America/Dawson_Creek:20200925T080000
DTEND;TZID=America/Dawson_Creek:20200925T170000
DTSTAMP:20260423T150919
CREATED:20200812T053851Z
LAST-MODIFIED:20200924T172729Z
UID:2049-1601020800-1601053200@up-beatfirstaid.ca
SUMMARY:WorkPlace Emergency First Aid Chetwynd
DESCRIPTION:
URL:https://up-beatfirstaid.ca/event/workplace-emergency-first-aid-chetwynd-7/
LOCATION:Up-Beat First Aid Chetwynd\, 4717 – 51 St\, Chetwynd\, British Columbia\, V0C 1J0\, Canada
CATEGORIES:Emergency First Aid (EFA)
ORGANIZER;CN="Up-Beat First Aid & Safety Training":MAILTO:up-beat@live.ca
END:VEVENT
BEGIN:VEVENT
DTSTART;TZID=America/Dawson_Creek:20200923T090000
DTEND;TZID=America/Dawson_Creek:20200923T170000
DTSTAMP:20260423T150919
CREATED:20200812T053608Z
LAST-MODIFIED:20200812T144905Z
UID:2042-1600851600-1600880400@up-beatfirstaid.ca
SUMMARY:Workplace Emergency First Aid Dawson Creek
DESCRIPTION:
URL:https://up-beatfirstaid.ca/event/workplace-emergency-first-aid-dawson-creek-14/
LOCATION:Up-Beat First Aid Dawson Creek NEW\, 11000 8th Street\, Dawson Creek\, British Columbia\, V1G 4K6\, Canada
CATEGORIES:Emergency First Aid (EFA)
ORGANIZER;CN="Up-Beat First Aid & Safety Training":MAILTO:up-beat@live.ca
END:VEVENT
BEGIN:VEVENT
DTSTART;TZID=America/Dawson_Creek:20200918T080000
DTEND;TZID=America/Dawson_Creek:20200918T170000
DTSTAMP:20260423T150919
CREATED:20200812T052941Z
LAST-MODIFIED:20200812T145000Z
UID:2032-1600416000-1600448400@up-beatfirstaid.ca
SUMMARY:Workplace Emergency First Aid Chetwynd
DESCRIPTION:
URL:https://up-beatfirstaid.ca/event/emergency-first-aid-chetwynd-6/
LOCATION:Up-Beat First Aid Chetwynd\, 4717 – 51 St\, Chetwynd\, British Columbia\, V0C 1J0\, Canada
CATEGORIES:Emergency First Aid (EFA)
ORGANIZER;CN="Up-Beat First Aid & Safety Training":MAILTO:up-beat@live.ca
END:VEVENT
BEGIN:VEVENT
DTSTART;TZID=America/Dawson_Creek:20200916T090000
DTEND;TZID=America/Dawson_Creek:20200916T170000
DTSTAMP:20260423T150919
CREATED:20200812T052456Z
LAST-MODIFIED:20200812T145021Z
UID:2023-1600246800-1600275600@up-beatfirstaid.ca
SUMMARY:Workplace Emergency First Aid Dawson Creek
DESCRIPTION:
URL:https://up-beatfirstaid.ca/event/emergency-first-aid-dawson-creek-12/
LOCATION:Up-Beat First Aid Dawson Creek NEW\, 11000 8th Street\, Dawson Creek\, British Columbia\, V1G 4K6\, Canada
CATEGORIES:Emergency First Aid (EFA)
ORGANIZER;CN="Up-Beat First Aid & Safety Training":MAILTO:up-beat@live.ca
END:VEVENT
BEGIN:VEVENT
DTSTART;TZID=America/Dawson_Creek:20200911T080000
DTEND;TZID=America/Dawson_Creek:20200911T170000
DTSTAMP:20260423T150919
CREATED:20200812T033958Z
LAST-MODIFIED:20200812T145042Z
UID:2010-1599811200-1599843600@up-beatfirstaid.ca
SUMMARY:Workplace Emergency First Aid Chetwynd
DESCRIPTION:
URL:https://up-beatfirstaid.ca/event/emergency-first-aid-chetwynd-5/
LOCATION:Up-Beat First Aid Chetwynd\, 4717 – 51 St\, Chetwynd\, British Columbia\, V0C 1J0\, Canada
CATEGORIES:Emergency First Aid (EFA)
ORGANIZER;CN="Up-Beat First Aid & Safety Training":MAILTO:up-beat@live.ca
END:VEVENT
END:VCALENDAR