BEGIN:VCALENDAR
VERSION:2.0
PRODID:-//Up-Beat First Aid &amp; Safety Training Ltd. - ECPv6.15.20//NONSGML v1.0//EN
CALSCALE:GREGORIAN
METHOD:PUBLISH
X-ORIGINAL-URL:https://up-beatfirstaid.ca
X-WR-CALDESC:Events for Up-Beat First Aid &amp; Safety Training Ltd.
REFRESH-INTERVAL;VALUE=DURATION:PT1H
X-Robots-Tag:noindex
X-PUBLISHED-TTL:PT1H
BEGIN:VTIMEZONE
TZID:America/Dawson_Creek
BEGIN:STANDARD
TZOFFSETFROM:-0700
TZOFFSETTO:-0700
TZNAME:MST
DTSTART:20190101T000000
END:STANDARD
END:VTIMEZONE
BEGIN:VEVENT
DTSTART;TZID=America/Dawson_Creek:20200911T080000
DTEND;TZID=America/Dawson_Creek:20200911T170000
DTSTAMP:20260424T022112
CREATED:20200812T033958Z
LAST-MODIFIED:20200812T145042Z
UID:2010-1599811200-1599843600@up-beatfirstaid.ca
SUMMARY:Workplace Emergency First Aid Chetwynd
DESCRIPTION:
URL:https://up-beatfirstaid.ca/event/emergency-first-aid-chetwynd-5/
LOCATION:Up-Beat First Aid Chetwynd\, 4717 – 51 St\, Chetwynd\, British Columbia\, V0C 1J0\, Canada
CATEGORIES:Emergency First Aid (EFA)
ORGANIZER;CN="Up-Beat First Aid & Safety Training":MAILTO:up-beat@live.ca
END:VEVENT
BEGIN:VEVENT
DTSTART;TZID=America/Dawson_Creek:20200910T090000
DTEND;TZID=America/Dawson_Creek:20200910T170000
DTSTAMP:20260424T022112
CREATED:20200812T032822Z
LAST-MODIFIED:20200812T145059Z
UID:2001-1599728400-1599757200@up-beatfirstaid.ca
SUMMARY:Workplace Emergency First Aid Dawson Creek
DESCRIPTION:
URL:https://up-beatfirstaid.ca/event/emergency-first-aid-dawson-creek-11/
LOCATION:Up-Beat First Aid Dawson Creek NEW\, 11000 8th Street\, Dawson Creek\, British Columbia\, V1G 4K6\, Canada
CATEGORIES:Emergency First Aid (EFA)
ORGANIZER;CN="Up-Beat First Aid & Safety Training":MAILTO:up-beat@live.ca
END:VEVENT
BEGIN:VEVENT
DTSTART;TZID=America/Dawson_Creek:20200908T090000
DTEND;TZID=America/Dawson_Creek:20200908T170000
DTSTAMP:20260424T022112
CREATED:20200812T024519Z
LAST-MODIFIED:20200812T145414Z
UID:1995-1599555600-1599584400@up-beatfirstaid.ca
SUMMARY:Workplace Emergency First Aid Dawson Creek
DESCRIPTION:
URL:https://up-beatfirstaid.ca/event/emergency-first-aid-dawson-creek-10/
LOCATION:Up-Beat First Aid Dawson Creek NEW\, 11000 8th Street\, Dawson Creek\, British Columbia\, V1G 4K6\, Canada
CATEGORIES:Emergency First Aid (EFA)
ORGANIZER;CN="Up-Beat First Aid & Safety Training":MAILTO:up-beat@live.ca
END:VEVENT
BEGIN:VEVENT
DTSTART;TZID=America/Dawson_Creek:20200904T080000
DTEND;TZID=America/Dawson_Creek:20200904T170000
DTSTAMP:20260424T022112
CREATED:20200812T005530Z
LAST-MODIFIED:20200812T145440Z
UID:1989-1599206400-1599238800@up-beatfirstaid.ca
SUMMARY:Workplace Emergency First Aid Chetwynd
DESCRIPTION:
URL:https://up-beatfirstaid.ca/event/emergency-first-aid-chetwynd-4/
LOCATION:Up-Beat First Aid Chetwynd\, 4717 – 51 St\, Chetwynd\, British Columbia\, V0C 1J0\, Canada
CATEGORIES:Emergency First Aid (EFA)
ORGANIZER;CN="Up-Beat First Aid & Safety Training":MAILTO:up-beat@live.ca
END:VEVENT
BEGIN:VEVENT
DTSTART;TZID=America/Dawson_Creek:20200826T080000
DTEND;TZID=America/Dawson_Creek:20200826T170000
DTSTAMP:20260424T022112
CREATED:20200704T185034Z
LAST-MODIFIED:20200704T185034Z
UID:1906-1598428800-1598461200@up-beatfirstaid.ca
SUMMARY:Workplace Emergency First Aid Chetwynd
DESCRIPTION:
URL:https://up-beatfirstaid.ca/event/workplace-emergency-first-aid-chetwynd-4/
LOCATION:Up-Beat First Aid Chetwynd\, 4717 – 51 St\, Chetwynd\, British Columbia\, V0C 1J0\, Canada
CATEGORIES:Emergency First Aid (EFA)
ORGANIZER;CN="Up-Beat First Aid & Safety Training":MAILTO:up-beat@live.ca
END:VEVENT
BEGIN:VEVENT
DTSTART;TZID=America/Dawson_Creek:20200822T080000
DTEND;TZID=America/Dawson_Creek:20200822T170000
DTSTAMP:20260424T022112
CREATED:20200704T184802Z
LAST-MODIFIED:20200704T184802Z
UID:1900-1598083200-1598115600@up-beatfirstaid.ca
SUMMARY:Workplace Emergency First Aid Chetwynd
DESCRIPTION:
URL:https://up-beatfirstaid.ca/event/workplace-emergency-first-aid-chetwynd-3/
LOCATION:Up-Beat First Aid Chetwynd\, 4717 – 51 St\, Chetwynd\, British Columbia\, V0C 1J0\, Canada
CATEGORIES:Emergency First Aid (EFA)
ORGANIZER;CN="Up-Beat First Aid & Safety Training":MAILTO:up-beat@live.ca
END:VEVENT
BEGIN:VEVENT
DTSTART;TZID=America/Dawson_Creek:20200815T080000
DTEND;TZID=America/Dawson_Creek:20200815T170000
DTSTAMP:20260424T022112
CREATED:20200704T184412Z
LAST-MODIFIED:20200704T184412Z
UID:1894-1597478400-1597510800@up-beatfirstaid.ca
SUMMARY:Workplace Emergency First Aid Chetwynd
DESCRIPTION:
URL:https://up-beatfirstaid.ca/event/workplace-emergency-first-aid-chetwynd-2/
LOCATION:Up-Beat First Aid Chetwynd\, 4717 – 51 St\, Chetwynd\, British Columbia\, V0C 1J0\, Canada
CATEGORIES:Emergency First Aid (EFA)
ORGANIZER;CN="Up-Beat First Aid & Safety Training":MAILTO:up-beat@live.ca
END:VEVENT
BEGIN:VEVENT
DTSTART;TZID=America/Dawson_Creek:20200810T083000
DTEND;TZID=America/Dawson_Creek:20200810T170000
DTSTAMP:20260424T022112
CREATED:20200704T183950Z
LAST-MODIFIED:20200704T183950Z
UID:1888-1597048200-1597078800@up-beatfirstaid.ca
SUMMARY:Workplace Emergency First Aid Dawson Creek
DESCRIPTION:
URL:https://up-beatfirstaid.ca/event/workplace-emergency-first-aid-dawson-creek-2/
LOCATION:British Columbia\, Canada
CATEGORIES:Emergency First Aid (EFA)
ORGANIZER;CN="Up-Beat First Aid & Safety Training":MAILTO:up-beat@live.ca
END:VEVENT
BEGIN:VEVENT
DTSTART;TZID=America/Dawson_Creek:20200805T080000
DTEND;TZID=America/Dawson_Creek:20200805T170000
DTSTAMP:20260424T022112
CREATED:20200704T183726Z
LAST-MODIFIED:20200704T183726Z
UID:1884-1596614400-1596646800@up-beatfirstaid.ca
SUMMARY:Workplace Emergency First Aid Chetwynd
DESCRIPTION:
URL:https://up-beatfirstaid.ca/event/workplace-emergency-first-aid-chetwynd/
LOCATION:Up-Beat First Aid Chetwynd\, 4717 – 51 St\, Chetwynd\, British Columbia\, V0C 1J0\, Canada
CATEGORIES:Emergency First Aid (EFA)
ORGANIZER;CN="Up-Beat First Aid & Safety Training":MAILTO:up-beat@live.ca
END:VEVENT
BEGIN:VEVENT
DTSTART;TZID=America/Dawson_Creek:20200804T083000
DTEND;TZID=America/Dawson_Creek:20200804T170000
DTSTAMP:20260424T022112
CREATED:20200704T183510Z
LAST-MODIFIED:20200704T183510Z
UID:1882-1596529800-1596560400@up-beatfirstaid.ca
SUMMARY:Workplace Emergency First Aid Dawson Creek
DESCRIPTION:
URL:https://up-beatfirstaid.ca/event/workplace-emergency-first-aid-dawson-creek/
LOCATION:British Columbia\, Canada
CATEGORIES:Emergency First Aid (EFA)
ORGANIZER;CN="Up-Beat First Aid & Safety Training":MAILTO:up-beat@live.ca
END:VEVENT
BEGIN:VEVENT
DTSTART;TZID=America/Dawson_Creek:20200726T083000
DTEND;TZID=America/Dawson_Creek:20200726T170000
DTSTAMP:20260424T022112
CREATED:20200614T212902Z
LAST-MODIFIED:20200703T060638Z
UID:1820-1595752200-1595782800@up-beatfirstaid.ca
SUMMARY:Workplace Emergency First Aid Dawson Creek
DESCRIPTION:
URL:https://up-beatfirstaid.ca/event/emergency-first-aid-dawson-creek-9/
LOCATION:British Columbia\, Canada
CATEGORIES:Emergency First Aid (EFA)
ORGANIZER;CN="Up-Beat First Aid & Safety Training":MAILTO:up-beat@live.ca
END:VEVENT
BEGIN:VEVENT
DTSTART;TZID=America/Dawson_Creek:20200719T083000
DTEND;TZID=America/Dawson_Creek:20200719T170000
DTSTAMP:20260424T022112
CREATED:20200614T212339Z
LAST-MODIFIED:20200703T060415Z
UID:1808-1595147400-1595178000@up-beatfirstaid.ca
SUMMARY:Workplace Emergency First Aid Dawson Creek
DESCRIPTION:
URL:https://up-beatfirstaid.ca/event/emergency-first-aid-dawson-creek-8/
LOCATION:British Columbia\, Canada
CATEGORIES:Emergency First Aid (EFA)
ORGANIZER;CN="Up-Beat First Aid & Safety Training":MAILTO:up-beat@live.ca
END:VEVENT
BEGIN:VEVENT
DTSTART;TZID=America/Dawson_Creek:20200715T080000
DTEND;TZID=America/Dawson_Creek:20200715T170000
DTSTAMP:20260424T022112
CREATED:20200614T212001Z
LAST-MODIFIED:20200713T174153Z
UID:1804-1594800000-1594832400@up-beatfirstaid.ca
SUMMARY:Workplace Standard & Emergency Day 1\, First Aid Chetwynd
DESCRIPTION:
URL:https://up-beatfirstaid.ca/event/emergency-first-aid-chetwynd-3/
LOCATION:Up-Beat First Aid Chetwynd\, 4717 – 51 St\, Chetwynd\, British Columbia\, V0C 1J0\, Canada
CATEGORIES:Emergency First Aid (EFA)
ORGANIZER;CN="Up-Beat First Aid & Safety Training":MAILTO:up-beat@live.ca
END:VEVENT
BEGIN:VEVENT
DTSTART;TZID=America/Dawson_Creek:20200713T083000
DTEND;TZID=America/Dawson_Creek:20200713T170000
DTSTAMP:20260424T022112
CREATED:20200614T211729Z
LAST-MODIFIED:20200703T055507Z
UID:1798-1594629000-1594659600@up-beatfirstaid.ca
SUMMARY:Workplace Emergency First Aid Dawson Creek
DESCRIPTION:
URL:https://up-beatfirstaid.ca/event/emergency-first-aid-dawson-creek-7/
LOCATION:British Columbia\, Canada
CATEGORIES:Emergency First Aid (EFA)
ORGANIZER;CN="Up-Beat First Aid & Safety Training":MAILTO:up-beat@live.ca
END:VEVENT
BEGIN:VEVENT
DTSTART;TZID=America/Dawson_Creek:20200708T080000
DTEND;TZID=America/Dawson_Creek:20200708T170000
DTSTAMP:20260424T022112
CREATED:20200614T211325Z
LAST-MODIFIED:20200703T055353Z
UID:1792-1594195200-1594227600@up-beatfirstaid.ca
SUMMARY:Workplace Emergency First Aid Chetwynd
DESCRIPTION:
URL:https://up-beatfirstaid.ca/event/emergency-first-aid-chetwynd-2/
LOCATION:Up-Beat First Aid Chetwynd\, 4717 – 51 St\, Chetwynd\, British Columbia\, V0C 1J0\, Canada
CATEGORIES:Emergency First Aid (EFA)
ORGANIZER;CN="Up-Beat First Aid & Safety Training":MAILTO:up-beat@live.ca
END:VEVENT
BEGIN:VEVENT
DTSTART;TZID=America/Dawson_Creek:20200706T083000
DTEND;TZID=America/Dawson_Creek:20200706T170000
DTSTAMP:20260424T022112
CREATED:20200614T211042Z
LAST-MODIFIED:20200703T055136Z
UID:1788-1594024200-1594054800@up-beatfirstaid.ca
SUMMARY:Workplace Emergency First Aid Dawson Creek
DESCRIPTION:
URL:https://up-beatfirstaid.ca/event/emergency-first-aid-dawson-creek-6/
LOCATION:British Columbia\, Canada
CATEGORIES:Emergency First Aid (EFA)
ORGANIZER;CN="Up-Beat First Aid & Safety Training":MAILTO:up-beat@live.ca
END:VEVENT
BEGIN:VEVENT
DTSTART;TZID=America/Dawson_Creek:20200629T083000
DTEND;TZID=America/Dawson_Creek:20200629T170000
DTSTAMP:20260424T022112
CREATED:20200604T035100Z
LAST-MODIFIED:20200604T035100Z
UID:1759-1593419400-1593450000@up-beatfirstaid.ca
SUMMARY:Emergency First Aid Dawson Creek
DESCRIPTION:
URL:https://up-beatfirstaid.ca/event/emergency-first-aid-dawson-creek-4/
LOCATION:British Columbia\, Canada
CATEGORIES:Emergency First Aid (EFA)
ORGANIZER;CN="Up-Beat First Aid & Safety Training":MAILTO:up-beat@live.ca
END:VEVENT
BEGIN:VEVENT
DTSTART;TZID=America/Dawson_Creek:20200622T083000
DTEND;TZID=America/Dawson_Creek:20200622T170000
DTSTAMP:20260424T022112
CREATED:20200604T034823Z
LAST-MODIFIED:20200604T034823Z
UID:1753-1592814600-1592845200@up-beatfirstaid.ca
SUMMARY:Emergency First Aid Dawson Creek
DESCRIPTION:
URL:https://up-beatfirstaid.ca/event/emergency-first-aid-dawson-creek-3/
LOCATION:British Columbia\, Canada
CATEGORIES:Emergency First Aid (EFA)
ORGANIZER;CN="Up-Beat First Aid & Safety Training":MAILTO:up-beat@live.ca
END:VEVENT
BEGIN:VEVENT
DTSTART;TZID=America/Dawson_Creek:20200621T083000
DTEND;TZID=America/Dawson_Creek:20200621T170000
DTSTAMP:20260424T022112
CREATED:20200604T152154Z
LAST-MODIFIED:20200604T152154Z
UID:1767-1592728200-1592758800@up-beatfirstaid.ca
SUMMARY:Emergency First Aid & CPR C Chetwynd
DESCRIPTION:
URL:https://up-beatfirstaid.ca/event/emergency-first-aid-cpr-c-chetwynd/
LOCATION:Up-Beat First Aid Chetwynd\, 4717 – 51 St\, Chetwynd\, British Columbia\, V0C 1J0\, Canada
CATEGORIES:CPR C,Emergency First Aid (EFA)
ORGANIZER;CN="Up-Beat First Aid & Safety Training":MAILTO:up-beat@live.ca
END:VEVENT
BEGIN:VEVENT
DTSTART;TZID=America/Dawson_Creek:20200616T083000
DTEND;TZID=America/Dawson_Creek:20200616T170000
DTSTAMP:20260424T022112
CREATED:20200604T151956Z
LAST-MODIFIED:20200609T230401Z
UID:1765-1592296200-1592326800@up-beatfirstaid.ca
SUMMARY:Emergency First Aid Dawson Creek
DESCRIPTION:
URL:https://up-beatfirstaid.ca/event/emergency-first-aid-dawson-creek-5/
LOCATION:British Columbia\, Canada
CATEGORIES:Emergency First Aid (EFA)
ORGANIZER;CN="Up-Beat First Aid & Safety Training":MAILTO:up-beat@live.ca
END:VEVENT
BEGIN:VEVENT
DTSTART;TZID=America/Dawson_Creek:20200317T083000
DTEND;TZID=America/Dawson_Creek:20200317T170000
DTSTAMP:20260424T022112
CREATED:20200113T165403Z
LAST-MODIFIED:20200206T015455Z
UID:505-1584433800-1584464400@up-beatfirstaid.ca
SUMMARY:Emergency First Aid (Dawson Creek)
DESCRIPTION:Course Description: FactSheet_TP_EFA_2017_EN
URL:https://up-beatfirstaid.ca/event/emergency-first-aid-dawson-creek-2020-03-17/
LOCATION:British Columbia\, Canada
CATEGORIES:Emergency First Aid (EFA)
ORGANIZER;CN="Up-Beat First Aid & Safety Training":MAILTO:up-beat@live.ca
END:VEVENT
BEGIN:VEVENT
DTSTART;TZID=America/Dawson_Creek:20200311T083000
DTEND;TZID=America/Dawson_Creek:20200311T170000
DTSTAMP:20260424T022112
CREATED:20200113T165403Z
LAST-MODIFIED:20200206T015217Z
UID:504-1583915400-1583946000@up-beatfirstaid.ca
SUMMARY:Emergency First Aid (Dawson Creek)
DESCRIPTION:Course Description: FactSheet_TP_EFA_2017_EN
URL:https://up-beatfirstaid.ca/event/emergency-first-aid-dawson-creek-2020-03-11/
LOCATION:British Columbia\, Canada
CATEGORIES:Emergency First Aid (EFA)
ORGANIZER;CN="Up-Beat First Aid & Safety Training":MAILTO:up-beat@live.ca
END:VEVENT
BEGIN:VEVENT
DTSTART;TZID=America/Dawson_Creek:20200304T083000
DTEND;TZID=America/Dawson_Creek:20200304T170000
DTSTAMP:20260424T022112
CREATED:20200113T165403Z
LAST-MODIFIED:20200206T015030Z
UID:503-1583310600-1583341200@up-beatfirstaid.ca
SUMMARY:Emergency First Aid (Dawson Creek)
DESCRIPTION:Course Description: FactSheet_TP_EFA_2017_EN
URL:https://up-beatfirstaid.ca/event/emergency-first-aid-dawson-creek-2020-03-04/
LOCATION:British Columbia\, Canada
CATEGORIES:Emergency First Aid (EFA)
ORGANIZER;CN="Up-Beat First Aid & Safety Training":MAILTO:up-beat@live.ca
END:VEVENT
BEGIN:VEVENT
DTSTART;TZID=America/Dawson_Creek:20200225T083000
DTEND;TZID=America/Dawson_Creek:20200225T170000
DTSTAMP:20260424T022112
CREATED:20200113T165403Z
LAST-MODIFIED:20200206T012356Z
UID:502-1582619400-1582650000@up-beatfirstaid.ca
SUMMARY:Emergency First Aid (Dawson Creek)
DESCRIPTION:Course Description: FactSheet_TP_EFA_2017_EN
URL:https://up-beatfirstaid.ca/event/emergency-first-aid-dawson-creek-2020-02-25/
LOCATION:British Columbia\, Canada
CATEGORIES:Emergency First Aid (EFA)
ORGANIZER;CN="Up-Beat First Aid & Safety Training":MAILTO:up-beat@live.ca
END:VEVENT
BEGIN:VEVENT
DTSTART;TZID=America/Dawson_Creek:20200218T083000
DTEND;TZID=America/Dawson_Creek:20200218T170000
DTSTAMP:20260424T022112
CREATED:20200113T165403Z
LAST-MODIFIED:20200205T212700Z
UID:501-1582014600-1582045200@up-beatfirstaid.ca
SUMMARY:Emergency First Aid (Dawson Creek)
DESCRIPTION:Course Description: FactSheet_TP_EFA_2017_EN
URL:https://up-beatfirstaid.ca/event/emergency-first-aid-dawson-creek-2020-02-18/
LOCATION:British Columbia\, Canada
CATEGORIES:Emergency First Aid (EFA)
ORGANIZER;CN="Up-Beat First Aid & Safety Training":MAILTO:up-beat@live.ca
END:VEVENT
BEGIN:VEVENT
DTSTART;TZID=America/Dawson_Creek:20200211T083000
DTEND;TZID=America/Dawson_Creek:20200211T170000
DTSTAMP:20260424T022112
CREATED:20200113T165403Z
LAST-MODIFIED:20200205T211434Z
UID:500-1581409800-1581440400@up-beatfirstaid.ca
SUMMARY:Emergency First Aid (Dawson Creek)
DESCRIPTION:Course Description: FactSheet_TP_EFA_2017_EN
URL:https://up-beatfirstaid.ca/event/emergency-first-aid-dawson-creek-2020-02-11/
LOCATION:British Columbia\, Canada
CATEGORIES:Emergency First Aid (EFA)
ORGANIZER;CN="Up-Beat First Aid & Safety Training":MAILTO:up-beat@live.ca
END:VEVENT
BEGIN:VEVENT
DTSTART;TZID=America/Dawson_Creek:20200204T083000
DTEND;TZID=America/Dawson_Creek:20200204T170000
DTSTAMP:20260424T022112
CREATED:20200113T165403Z
LAST-MODIFIED:20200205T041834Z
UID:499-1580805000-1580835600@up-beatfirstaid.ca
SUMMARY:Emergency First Aid (Dawson Creek)
DESCRIPTION:Course Description: FactSheet_TP_EFA_2017_EN
URL:https://up-beatfirstaid.ca/event/emergency-first-aid-dawson-creek-2020-02-04/
LOCATION:British Columbia\, Canada
CATEGORIES:Emergency First Aid (EFA)
ORGANIZER;CN="Up-Beat First Aid & Safety Training":MAILTO:up-beat@live.ca
END:VEVENT
BEGIN:VEVENT
DTSTART;TZID=America/Dawson_Creek:20200128T080000
DTEND;TZID=America/Dawson_Creek:20200128T170000
DTSTAMP:20260424T022112
CREATED:20200113T165403Z
LAST-MODIFIED:20200131T221616Z
UID:498-1580198400-1580230800@up-beatfirstaid.ca
SUMMARY:Emergency First Aid (Dawson Creek)
DESCRIPTION:Course Description: FactSheet_TP_EFA_2017_EN
URL:https://up-beatfirstaid.ca/event/emergency-first-aid-dawson-creek-2020-01-28/
LOCATION:British Columbia\, Canada
CATEGORIES:Emergency First Aid (EFA)
ORGANIZER;CN="Up-Beat First Aid & Safety Training":MAILTO:up-beat@live.ca
END:VEVENT
BEGIN:VEVENT
DTSTART;TZID=America/Dawson_Creek:20200121T080000
DTEND;TZID=America/Dawson_Creek:20200121T170000
DTSTAMP:20260424T022112
CREATED:20200113T165403Z
LAST-MODIFIED:20200131T222021Z
UID:497-1579593600-1579626000@up-beatfirstaid.ca
SUMMARY:Emergency First Aid (Dawson Creek)
DESCRIPTION:Course Description: FactSheet_TP_EFA_2017_EN
URL:https://up-beatfirstaid.ca/event/emergency-first-aid-dawson-creek-2020-01-21/
LOCATION:British Columbia\, Canada
CATEGORIES:Emergency First Aid (EFA)
ORGANIZER;CN="Up-Beat First Aid & Safety Training":MAILTO:up-beat@live.ca
END:VEVENT
BEGIN:VEVENT
DTSTART;TZID=America/Dawson_Creek:20200117T080000
DTEND;TZID=America/Dawson_Creek:20200117T170000
DTSTAMP:20260424T022112
CREATED:20200113T180520Z
LAST-MODIFIED:20200113T180520Z
UID:517-1579248000-1579280400@up-beatfirstaid.ca
SUMMARY:Emergency First Aid (Chetwynd)
DESCRIPTION:Course Description: FactSheet_TP_EFA_2017_EN
URL:https://up-beatfirstaid.ca/event/emergency-first-aid-chetwynd/
LOCATION:Up-Beat First Aid Chetwynd\, 4717 – 51 St\, Chetwynd\, British Columbia\, V0C 1J0\, Canada
CATEGORIES:Emergency First Aid (EFA)
ORGANIZER;CN="Up-Beat First Aid & Safety Training":MAILTO:up-beat@live.ca
END:VEVENT
END:VCALENDAR