BEGIN:VCALENDAR
VERSION:2.0
PRODID:-//Up-Beat First Aid &amp; Safety Training Ltd. - ECPv6.15.20//NONSGML v1.0//EN
CALSCALE:GREGORIAN
METHOD:PUBLISH
X-WR-CALNAME:Up-Beat First Aid &amp; Safety Training Ltd.
X-ORIGINAL-URL:https://up-beatfirstaid.ca
X-WR-CALDESC:Events for Up-Beat First Aid &amp; Safety Training Ltd.
REFRESH-INTERVAL;VALUE=DURATION:PT1H
X-Robots-Tag:noindex
X-PUBLISHED-TTL:PT1H
BEGIN:VTIMEZONE
TZID:America/Dawson_Creek
BEGIN:STANDARD
TZOFFSETFROM:-0700
TZOFFSETTO:-0700
TZNAME:MST
DTSTART:20190101T000000
END:STANDARD
END:VTIMEZONE
BEGIN:VEVENT
DTSTART;TZID=America/Dawson_Creek:20200317T083000
DTEND;TZID=America/Dawson_Creek:20200317T170000
DTSTAMP:20260424T063649
CREATED:20200113T165403Z
LAST-MODIFIED:20200206T015455Z
UID:505-1584433800-1584464400@up-beatfirstaid.ca
SUMMARY:Emergency First Aid (Dawson Creek)
DESCRIPTION:Course Description: FactSheet_TP_EFA_2017_EN
URL:https://up-beatfirstaid.ca/event/emergency-first-aid-dawson-creek-2020-03-17/
LOCATION:British Columbia\, Canada
CATEGORIES:Emergency First Aid (EFA)
ORGANIZER;CN="Up-Beat First Aid & Safety Training":MAILTO:up-beat@live.ca
END:VEVENT
BEGIN:VEVENT
DTSTART;TZID=America/Dawson_Creek:20200311T083000
DTEND;TZID=America/Dawson_Creek:20200311T170000
DTSTAMP:20260424T063649
CREATED:20200113T165403Z
LAST-MODIFIED:20200206T015217Z
UID:504-1583915400-1583946000@up-beatfirstaid.ca
SUMMARY:Emergency First Aid (Dawson Creek)
DESCRIPTION:Course Description: FactSheet_TP_EFA_2017_EN
URL:https://up-beatfirstaid.ca/event/emergency-first-aid-dawson-creek-2020-03-11/
LOCATION:British Columbia\, Canada
CATEGORIES:Emergency First Aid (EFA)
ORGANIZER;CN="Up-Beat First Aid & Safety Training":MAILTO:up-beat@live.ca
END:VEVENT
BEGIN:VEVENT
DTSTART;TZID=America/Dawson_Creek:20200304T083000
DTEND;TZID=America/Dawson_Creek:20200304T170000
DTSTAMP:20260424T063649
CREATED:20200113T165403Z
LAST-MODIFIED:20200206T015030Z
UID:503-1583310600-1583341200@up-beatfirstaid.ca
SUMMARY:Emergency First Aid (Dawson Creek)
DESCRIPTION:Course Description: FactSheet_TP_EFA_2017_EN
URL:https://up-beatfirstaid.ca/event/emergency-first-aid-dawson-creek-2020-03-04/
LOCATION:British Columbia\, Canada
CATEGORIES:Emergency First Aid (EFA)
ORGANIZER;CN="Up-Beat First Aid & Safety Training":MAILTO:up-beat@live.ca
END:VEVENT
BEGIN:VEVENT
DTSTART;TZID=America/Dawson_Creek:20200225T083000
DTEND;TZID=America/Dawson_Creek:20200225T170000
DTSTAMP:20260424T063649
CREATED:20200113T165403Z
LAST-MODIFIED:20200206T012356Z
UID:502-1582619400-1582650000@up-beatfirstaid.ca
SUMMARY:Emergency First Aid (Dawson Creek)
DESCRIPTION:Course Description: FactSheet_TP_EFA_2017_EN
URL:https://up-beatfirstaid.ca/event/emergency-first-aid-dawson-creek-2020-02-25/
LOCATION:British Columbia\, Canada
CATEGORIES:Emergency First Aid (EFA)
ORGANIZER;CN="Up-Beat First Aid & Safety Training":MAILTO:up-beat@live.ca
END:VEVENT
BEGIN:VEVENT
DTSTART;TZID=America/Dawson_Creek:20200218T083000
DTEND;TZID=America/Dawson_Creek:20200218T170000
DTSTAMP:20260424T063649
CREATED:20200113T165403Z
LAST-MODIFIED:20200205T212700Z
UID:501-1582014600-1582045200@up-beatfirstaid.ca
SUMMARY:Emergency First Aid (Dawson Creek)
DESCRIPTION:Course Description: FactSheet_TP_EFA_2017_EN
URL:https://up-beatfirstaid.ca/event/emergency-first-aid-dawson-creek-2020-02-18/
LOCATION:British Columbia\, Canada
CATEGORIES:Emergency First Aid (EFA)
ORGANIZER;CN="Up-Beat First Aid & Safety Training":MAILTO:up-beat@live.ca
END:VEVENT
BEGIN:VEVENT
DTSTART;TZID=America/Dawson_Creek:20200211T083000
DTEND;TZID=America/Dawson_Creek:20200211T170000
DTSTAMP:20260424T063649
CREATED:20200113T165403Z
LAST-MODIFIED:20200205T211434Z
UID:500-1581409800-1581440400@up-beatfirstaid.ca
SUMMARY:Emergency First Aid (Dawson Creek)
DESCRIPTION:Course Description: FactSheet_TP_EFA_2017_EN
URL:https://up-beatfirstaid.ca/event/emergency-first-aid-dawson-creek-2020-02-11/
LOCATION:British Columbia\, Canada
CATEGORIES:Emergency First Aid (EFA)
ORGANIZER;CN="Up-Beat First Aid & Safety Training":MAILTO:up-beat@live.ca
END:VEVENT
BEGIN:VEVENT
DTSTART;TZID=America/Dawson_Creek:20200204T083000
DTEND;TZID=America/Dawson_Creek:20200204T170000
DTSTAMP:20260424T063649
CREATED:20200113T165403Z
LAST-MODIFIED:20200205T041834Z
UID:499-1580805000-1580835600@up-beatfirstaid.ca
SUMMARY:Emergency First Aid (Dawson Creek)
DESCRIPTION:Course Description: FactSheet_TP_EFA_2017_EN
URL:https://up-beatfirstaid.ca/event/emergency-first-aid-dawson-creek-2020-02-04/
LOCATION:British Columbia\, Canada
CATEGORIES:Emergency First Aid (EFA)
ORGANIZER;CN="Up-Beat First Aid & Safety Training":MAILTO:up-beat@live.ca
END:VEVENT
BEGIN:VEVENT
DTSTART;TZID=America/Dawson_Creek:20200128T080000
DTEND;TZID=America/Dawson_Creek:20200128T170000
DTSTAMP:20260424T063649
CREATED:20200113T165403Z
LAST-MODIFIED:20200131T221616Z
UID:498-1580198400-1580230800@up-beatfirstaid.ca
SUMMARY:Emergency First Aid (Dawson Creek)
DESCRIPTION:Course Description: FactSheet_TP_EFA_2017_EN
URL:https://up-beatfirstaid.ca/event/emergency-first-aid-dawson-creek-2020-01-28/
LOCATION:British Columbia\, Canada
CATEGORIES:Emergency First Aid (EFA)
ORGANIZER;CN="Up-Beat First Aid & Safety Training":MAILTO:up-beat@live.ca
END:VEVENT
BEGIN:VEVENT
DTSTART;TZID=America/Dawson_Creek:20200121T080000
DTEND;TZID=America/Dawson_Creek:20200121T170000
DTSTAMP:20260424T063649
CREATED:20200113T165403Z
LAST-MODIFIED:20200131T222021Z
UID:497-1579593600-1579626000@up-beatfirstaid.ca
SUMMARY:Emergency First Aid (Dawson Creek)
DESCRIPTION:Course Description: FactSheet_TP_EFA_2017_EN
URL:https://up-beatfirstaid.ca/event/emergency-first-aid-dawson-creek-2020-01-21/
LOCATION:British Columbia\, Canada
CATEGORIES:Emergency First Aid (EFA)
ORGANIZER;CN="Up-Beat First Aid & Safety Training":MAILTO:up-beat@live.ca
END:VEVENT
BEGIN:VEVENT
DTSTART;TZID=America/Dawson_Creek:20200117T080000
DTEND;TZID=America/Dawson_Creek:20200117T170000
DTSTAMP:20260424T063649
CREATED:20200113T180520Z
LAST-MODIFIED:20200113T180520Z
UID:517-1579248000-1579280400@up-beatfirstaid.ca
SUMMARY:Emergency First Aid (Chetwynd)
DESCRIPTION:Course Description: FactSheet_TP_EFA_2017_EN
URL:https://up-beatfirstaid.ca/event/emergency-first-aid-chetwynd/
LOCATION:Up-Beat First Aid Chetwynd\, 4717 – 51 St\, Chetwynd\, British Columbia\, V0C 1J0\, Canada
CATEGORIES:Emergency First Aid (EFA)
ORGANIZER;CN="Up-Beat First Aid & Safety Training":MAILTO:up-beat@live.ca
END:VEVENT
BEGIN:VEVENT
DTSTART;TZID=America/Dawson_Creek:20200117T080000
DTEND;TZID=America/Dawson_Creek:20200117T170000
DTSTAMP:20260424T063649
CREATED:20200113T175054Z
LAST-MODIFIED:20200113T175054Z
UID:494-1579248000-1579280400@up-beatfirstaid.ca
SUMMARY:Emergency First Aid (Dawson Creek)
DESCRIPTION:Course Description: FactSheet_TP_EFA_2017_EN
URL:https://up-beatfirstaid.ca/event/emergency-first-aid-dawson-creek-2/
LOCATION:British Columbia\, Canada
CATEGORIES:Emergency First Aid (EFA)
ORGANIZER;CN="Up-Beat First Aid & Safety Training":MAILTO:up-beat@live.ca
END:VEVENT
BEGIN:VEVENT
DTSTART;TZID=America/Dawson_Creek:20200114T080000
DTEND;TZID=America/Dawson_Creek:20200114T170000
DTSTAMP:20260424T063649
CREATED:20200113T165403Z
LAST-MODIFIED:20200113T175336Z
UID:443-1578988800-1579021200@up-beatfirstaid.ca
SUMMARY:Emergency First Aid (Dawson Creek)
DESCRIPTION:Course Description: FactSheet_TP_EFA_2017_EN
URL:https://up-beatfirstaid.ca/event/emergency-first-aid-dawson-creek/
LOCATION:British Columbia\, Canada
CATEGORIES:Emergency First Aid (EFA)
ORGANIZER;CN="Up-Beat First Aid & Safety Training":MAILTO:up-beat@live.ca
END:VEVENT
END:VCALENDAR