BEGIN:VCALENDAR
VERSION:2.0
PRODID:-//Up-Beat First Aid &amp; Safety Training Ltd. - ECPv6.15.20//NONSGML v1.0//EN
CALSCALE:GREGORIAN
METHOD:PUBLISH
X-ORIGINAL-URL:https://up-beatfirstaid.ca
X-WR-CALDESC:Events for Up-Beat First Aid &amp; Safety Training Ltd.
REFRESH-INTERVAL;VALUE=DURATION:PT1H
X-Robots-Tag:noindex
X-PUBLISHED-TTL:PT1H
BEGIN:VTIMEZONE
TZID:America/Dawson_Creek
BEGIN:STANDARD
TZOFFSETFROM:-0700
TZOFFSETTO:-0700
TZNAME:MST
DTSTART:20230101T000000
END:STANDARD
END:VTIMEZONE
BEGIN:VEVENT
DTSTART;TZID=America/Dawson_Creek:20240507T091500
DTEND;TZID=America/Dawson_Creek:20240507T170000
DTSTAMP:20260420T014643
CREATED:20240408T190037Z
LAST-MODIFIED:20240503T221732Z
UID:9513-1715073300-1715101200@up-beatfirstaid.ca
SUMMARY:Level 1 First Aid – Dawson Creek
DESCRIPTION:WorkPlace Emergency First Aid – OFA 1 Equivalent
URL:https://up-beatfirstaid.ca/event/level-1-first-aid-dawson-creek-157/
LOCATION:Up-Beat First Aid Dawson Creek NEW\, 11000 8th Street\, Dawson Creek\, British Columbia\, V1G 4K6\, Canada
CATEGORIES:Emergency First Aid (EFA)
ORGANIZER;CN="Up-Beat First Aid & Safety Training":MAILTO:up-beat@live.ca
END:VEVENT
BEGIN:VEVENT
DTSTART;TZID=America/Dawson_Creek:20240507T080000
DTEND;TZID=America/Dawson_Creek:20240507T160000
DTSTAMP:20260420T014643
CREATED:20240412T220409Z
LAST-MODIFIED:20240424T182535Z
UID:9545-1715068800-1715097600@up-beatfirstaid.ca
SUMMARY:Level 1 First Aid – Chetwynd
DESCRIPTION:WorkPlace Emergency First Aid – OFA 1 Equivalent
URL:https://up-beatfirstaid.ca/event/level-1-first-aid-chetwynd-39/
LOCATION:Up-Beat First Aid Chetwynd\, 4717 – 51 St\, Chetwynd\, British Columbia\, V0C 1J0\, Canada
CATEGORIES:Emergency First Aid (EFA)
ORGANIZER;CN="Up-Beat First Aid & Safety Training":MAILTO:up-beat@live.ca
END:VEVENT
BEGIN:VEVENT
DTSTART;TZID=America/Dawson_Creek:20240501T091500
DTEND;TZID=America/Dawson_Creek:20240501T170000
DTSTAMP:20260420T014643
CREATED:20240412T221509Z
LAST-MODIFIED:20240426T225124Z
UID:9518-1714554900-1714582800@up-beatfirstaid.ca
SUMMARY:Level 1 First Aid – Dawson Creek
DESCRIPTION:WorkPlace Emergency First Aid – OFA 1 Equivalent
URL:https://up-beatfirstaid.ca/event/level-1-first-aid-dawson-creek-160/
LOCATION:Up-Beat First Aid Dawson Creek NEW\, 11000 8th Street\, Dawson Creek\, British Columbia\, V1G 4K6\, Canada
CATEGORIES:Emergency First Aid (EFA)
ORGANIZER;CN="Up-Beat First Aid & Safety Training":MAILTO:up-beat@live.ca
END:VEVENT
BEGIN:VEVENT
DTSTART;TZID=America/Dawson_Creek:20240430T091500
DTEND;TZID=America/Dawson_Creek:20240430T170000
DTSTAMP:20260420T014643
CREATED:20240308T223730Z
LAST-MODIFIED:20240422T215321Z
UID:9415-1714468500-1714496400@up-beatfirstaid.ca
SUMMARY:Level 1 First Aid – Dawson Creek
DESCRIPTION:WorkPlace Emergency First Aid – OFA 1 Equivalent
URL:https://up-beatfirstaid.ca/event/level-1-first-aid-dawson-creek-154/
LOCATION:Up-Beat First Aid Dawson Creek NEW\, 11000 8th Street\, Dawson Creek\, British Columbia\, V1G 4K6\, Canada
CATEGORIES:Emergency First Aid (EFA)
ORGANIZER;CN="Up-Beat First Aid & Safety Training":MAILTO:up-beat@live.ca
END:VEVENT
BEGIN:VEVENT
DTSTART;TZID=America/Dawson_Creek:20240425T091500
DTEND;TZID=America/Dawson_Creek:20240425T170000
DTSTAMP:20260420T014643
CREATED:20240405T223433Z
LAST-MODIFIED:20240405T223433Z
UID:9505-1714036500-1714064400@up-beatfirstaid.ca
SUMMARY:Level 1 First Aid – Dawson Creek
DESCRIPTION:WorkPlace Emergency First Aid – OFA 1 Equivalent
URL:https://up-beatfirstaid.ca/event/level-1-first-aid-dawson-creek-156/
LOCATION:Up-Beat First Aid Dawson Creek NEW\, 11000 8th Street\, Dawson Creek\, British Columbia\, V1G 4K6\, Canada
CATEGORIES:Emergency First Aid (EFA)
ORGANIZER;CN="Up-Beat First Aid & Safety Training":MAILTO:up-beat@live.ca
END:VEVENT
BEGIN:VEVENT
DTSTART;TZID=America/Dawson_Creek:20240425T080000
DTEND;TZID=America/Dawson_Creek:20240425T160000
DTSTAMP:20260420T014643
CREATED:20240314T214023Z
LAST-MODIFIED:20240423T192956Z
UID:9450-1714032000-1714060800@up-beatfirstaid.ca
SUMMARY:Level 1 First Aid – Chetwynd
DESCRIPTION:WorkPlace Emergency First Aid – OFA 1 Equivalent
URL:https://up-beatfirstaid.ca/event/level-1-first-aid-chetwynd-38/
LOCATION:Up-Beat First Aid Chetwynd\, 4717 – 51 St\, Chetwynd\, British Columbia\, V0C 1J0\, Canada
CATEGORIES:Emergency First Aid (EFA)
ORGANIZER;CN="Up-Beat First Aid & Safety Training":MAILTO:up-beat@live.ca
END:VEVENT
BEGIN:VEVENT
DTSTART;TZID=America/Dawson_Creek:20240416T091500
DTEND;TZID=America/Dawson_Creek:20240416T170000
DTSTAMP:20260420T014643
CREATED:20240308T223604Z
LAST-MODIFIED:20240308T223613Z
UID:9409-1713258900-1713286800@up-beatfirstaid.ca
SUMMARY:Level 1 First Aid – Dawson Creek
DESCRIPTION:WorkPlace Emergency First Aid – OFA 1 Equivalent
URL:https://up-beatfirstaid.ca/event/level-1-first-aid-dawson-creek-146/
LOCATION:Up-Beat First Aid Dawson Creek NEW\, 11000 8th Street\, Dawson Creek\, British Columbia\, V1G 4K6\, Canada
CATEGORIES:Emergency First Aid (EFA)
ORGANIZER;CN="Up-Beat First Aid & Safety Training":MAILTO:up-beat@live.ca
END:VEVENT
BEGIN:VEVENT
DTSTART;TZID=America/Dawson_Creek:20240411T080000
DTEND;TZID=America/Dawson_Creek:20240411T160000
DTSTAMP:20260420T014643
CREATED:20240321T190044Z
LAST-MODIFIED:20240321T190044Z
UID:9465-1712822400-1712851200@up-beatfirstaid.ca
SUMMARY:Level 1 First Aid – Chetwynd
DESCRIPTION:WorkPlace Emergency First Aid – OFA 1 Equivalent
URL:https://up-beatfirstaid.ca/event/level-1-first-aid-chetwynd-37/
LOCATION:Up-Beat First Aid Chetwynd\, 4717 – 51 St\, Chetwynd\, British Columbia\, V0C 1J0\, Canada
CATEGORIES:Emergency First Aid (EFA)
ORGANIZER;CN="Up-Beat First Aid & Safety Training":MAILTO:up-beat@live.ca
END:VEVENT
BEGIN:VEVENT
DTSTART;TZID=America/Dawson_Creek:20240409T091500
DTEND;TZID=America/Dawson_Creek:20240409T170000
DTSTAMP:20260420T014643
CREATED:20240308T223516Z
LAST-MODIFIED:20240408T162607Z
UID:9406-1712654100-1712682000@up-beatfirstaid.ca
SUMMARY:Level 1 First Aid – Dawson Creek
DESCRIPTION:WorkPlace Emergency First Aid – OFA 1 Equivalent
URL:https://up-beatfirstaid.ca/event/level-1-first-aid-dawson-creek-145/
LOCATION:Up-Beat First Aid Dawson Creek NEW\, 11000 8th Street\, Dawson Creek\, British Columbia\, V1G 4K6\, Canada
CATEGORIES:Emergency First Aid (EFA)
ORGANIZER;CN="Up-Beat First Aid & Safety Training":MAILTO:up-beat@live.ca
END:VEVENT
BEGIN:VEVENT
DTSTART;TZID=America/Dawson_Creek:20240404T091500
DTEND;TZID=America/Dawson_Creek:20240404T170000
DTSTAMP:20260420T014643
CREATED:20240403T211328Z
LAST-MODIFIED:20240403T211328Z
UID:9498-1712222100-1712250000@up-beatfirstaid.ca
SUMMARY:Level 1 First Aid – Dawson Creek
DESCRIPTION:WorkPlace Emergency First Aid – OFA 1 Equivalent
URL:https://up-beatfirstaid.ca/event/level-1-first-aid-dawson-creek-153/
LOCATION:Up-Beat First Aid Dawson Creek NEW\, 11000 8th Street\, Dawson Creek\, British Columbia\, V1G 4K6\, Canada
CATEGORIES:Emergency First Aid (EFA)
ORGANIZER;CN="Up-Beat First Aid & Safety Training":MAILTO:up-beat@live.ca
END:VEVENT
BEGIN:VEVENT
DTSTART;TZID=America/Dawson_Creek:20240402T091500
DTEND;TZID=America/Dawson_Creek:20240402T170000
DTSTAMP:20260420T014643
CREATED:20240307T193600Z
LAST-MODIFIED:20240307T193701Z
UID:9395-1712049300-1712077200@up-beatfirstaid.ca
SUMMARY:Level 1 First Aid – Dawson Creek
DESCRIPTION:WorkPlace Emergency First Aid – OFA 1 Equivalent
URL:https://up-beatfirstaid.ca/event/level-1-first-aid-dawson-creek-137/
LOCATION:Up-Beat First Aid Dawson Creek NEW\, 11000 8th Street\, Dawson Creek\, British Columbia\, V1G 4K6\, Canada
CATEGORIES:Emergency First Aid (EFA)
ORGANIZER;CN="Up-Beat First Aid & Safety Training":MAILTO:up-beat@live.ca
END:VEVENT
BEGIN:VEVENT
DTSTART;TZID=America/Dawson_Creek:20240328T080000
DTEND;TZID=America/Dawson_Creek:20240328T160000
DTSTAMP:20260420T014643
CREATED:20240202T194631Z
LAST-MODIFIED:20240322T205246Z
UID:9264-1711612800-1711641600@up-beatfirstaid.ca
SUMMARY:Level 1 First Aid – Chetwynd
DESCRIPTION:WorkPlace Emergency First Aid – OFA 1 Equivalent
URL:https://up-beatfirstaid.ca/event/level-1-first-aid-chetwynd-36/
LOCATION:Up-Beat First Aid Chetwynd\, 4717 – 51 St\, Chetwynd\, British Columbia\, V0C 1J0\, Canada
CATEGORIES:Emergency First Aid (EFA)
ORGANIZER;CN="Up-Beat First Aid & Safety Training":MAILTO:up-beat@live.ca
END:VEVENT
BEGIN:VEVENT
DTSTART;TZID=America/Dawson_Creek:20240326T080000
DTEND;TZID=America/Dawson_Creek:20240326T170000
DTSTAMP:20260420T014643
CREATED:20240202T200647Z
LAST-MODIFIED:20240325T223222Z
UID:9276-1711440000-1711472400@up-beatfirstaid.ca
SUMMARY:Level 1 First Aid – Dawson Creek
DESCRIPTION:WorkPlace Emergency First Aid – OFA 1 Equivalent
URL:https://up-beatfirstaid.ca/event/level-1-first-aid-dawson-creek-150/
LOCATION:Up-Beat First Aid Dawson Creek NEW\, 11000 8th Street\, Dawson Creek\, British Columbia\, V1G 4K6\, Canada
CATEGORIES:Emergency First Aid (EFA)
ORGANIZER;CN="Up-Beat First Aid & Safety Training":MAILTO:up-beat@live.ca
END:VEVENT
BEGIN:VEVENT
DTSTART;TZID=America/Dawson_Creek:20240319T091500
DTEND;TZID=America/Dawson_Creek:20240319T170000
DTSTAMP:20260420T014643
CREATED:20240202T200516Z
LAST-MODIFIED:20240202T200516Z
UID:9273-1710839700-1710867600@up-beatfirstaid.ca
SUMMARY:Level 1 First Aid – Dawson Creek
DESCRIPTION:WorkPlace Emergency First Aid – OFA 1 Equivalent
URL:https://up-beatfirstaid.ca/event/level-1-first-aid-dawson-creek-149/
LOCATION:Up-Beat First Aid Dawson Creek NEW\, 11000 8th Street\, Dawson Creek\, British Columbia\, V1G 4K6\, Canada
CATEGORIES:Emergency First Aid (EFA)
ORGANIZER;CN="Up-Beat First Aid & Safety Training":MAILTO:up-beat@live.ca
END:VEVENT
BEGIN:VEVENT
DTSTART;TZID=America/Dawson_Creek:20240314T091500
DTEND;TZID=America/Dawson_Creek:20240314T170000
DTSTAMP:20260420T014643
CREATED:20240202T201402Z
LAST-MODIFIED:20240312T220200Z
UID:9282-1710407700-1710435600@up-beatfirstaid.ca
SUMMARY:Level 1 First Aid – Dawson Creek
DESCRIPTION:WorkPlace Emergency First Aid – OFA 1 Equivalent
URL:https://up-beatfirstaid.ca/event/level-1-first-aid-dawson-creek-152/
LOCATION:Up-Beat First Aid Dawson Creek NEW\, 11000 8th Street\, Dawson Creek\, British Columbia\, V1G 4K6\, Canada
CATEGORIES:Emergency First Aid (EFA)
ORGANIZER;CN="Up-Beat First Aid & Safety Training":MAILTO:up-beat@live.ca
END:VEVENT
BEGIN:VEVENT
DTSTART;TZID=America/Dawson_Creek:20240314T080000
DTEND;TZID=America/Dawson_Creek:20240314T160000
DTSTAMP:20260420T014643
CREATED:20240202T194523Z
LAST-MODIFIED:20240202T194523Z
UID:9261-1710403200-1710432000@up-beatfirstaid.ca
SUMMARY:Level 1 First Aid – Chetwynd
DESCRIPTION:WorkPlace Emergency First Aid – OFA 1 Equivalent
URL:https://up-beatfirstaid.ca/event/level-1-first-aid-chetwynd-35/
LOCATION:Up-Beat First Aid Chetwynd\, 4717 – 51 St\, Chetwynd\, British Columbia\, V0C 1J0\, Canada
CATEGORIES:Emergency First Aid (EFA)
ORGANIZER;CN="Up-Beat First Aid & Safety Training":MAILTO:up-beat@live.ca
END:VEVENT
BEGIN:VEVENT
DTSTART;TZID=America/Dawson_Creek:20240312T091500
DTEND;TZID=America/Dawson_Creek:20240312T170000
DTSTAMP:20260420T014643
CREATED:20240202T195228Z
LAST-MODIFIED:20240308T222454Z
UID:9270-1710234900-1710262800@up-beatfirstaid.ca
SUMMARY:Level 1 First Aid – Dawson Creek
DESCRIPTION:WorkPlace Emergency First Aid – OFA 1 Equivalent
URL:https://up-beatfirstaid.ca/event/level-1-first-aid-dawson-creek-148/
LOCATION:Up-Beat First Aid Dawson Creek NEW\, 11000 8th Street\, Dawson Creek\, British Columbia\, V1G 4K6\, Canada
CATEGORIES:Emergency First Aid (EFA)
ORGANIZER;CN="Up-Beat First Aid & Safety Training":MAILTO:up-beat@live.ca
END:VEVENT
BEGIN:VEVENT
DTSTART;TZID=America/Dawson_Creek:20240305T080000
DTEND;TZID=America/Dawson_Creek:20240305T160000
DTSTAMP:20260420T014643
CREATED:20240202T195017Z
LAST-MODIFIED:20240304T153454Z
UID:9267-1709625600-1709654400@up-beatfirstaid.ca
SUMMARY:Level 1 First Aid – Dawson Creek
DESCRIPTION:WorkPlace Emergency First Aid – OFA 1 Equivalent
URL:https://up-beatfirstaid.ca/event/level-1-first-aid-dawson-creek-147/
LOCATION:Up-Beat First Aid Dawson Creek NEW\, 11000 8th Street\, Dawson Creek\, British Columbia\, V1G 4K6\, Canada
CATEGORIES:Emergency First Aid (EFA)
ORGANIZER;CN="Up-Beat First Aid & Safety Training":MAILTO:up-beat@live.ca
END:VEVENT
BEGIN:VEVENT
DTSTART;TZID=America/Dawson_Creek:20240229T080000
DTEND;TZID=America/Dawson_Creek:20240229T160000
DTSTAMP:20260420T014643
CREATED:20240111T181757Z
LAST-MODIFIED:20240227T185624Z
UID:9181-1709193600-1709222400@up-beatfirstaid.ca
SUMMARY:Level 1 First Aid – Chetwynd
DESCRIPTION:WorkPlace Emergency First Aid – OFA 1 Equivalent
URL:https://up-beatfirstaid.ca/event/level-1-first-aid-chetwynd-34/
LOCATION:Up-Beat First Aid Chetwynd\, 4717 – 51 St\, Chetwynd\, British Columbia\, V0C 1J0\, Canada
CATEGORIES:Emergency First Aid (EFA)
ORGANIZER;CN="Up-Beat First Aid & Safety Training":MAILTO:up-beat@live.ca
END:VEVENT
BEGIN:VEVENT
DTSTART;TZID=America/Dawson_Creek:20240227T080000
DTEND;TZID=America/Dawson_Creek:20240227T160000
DTSTAMP:20260420T014643
CREATED:20240109T192259Z
LAST-MODIFIED:20240222T181208Z
UID:9153-1709020800-1709049600@up-beatfirstaid.ca
SUMMARY:Level 1 First Aid – Dawson Creek
DESCRIPTION:WorkPlace Emergency First Aid – OFA 1 Equivalent
URL:https://up-beatfirstaid.ca/event/level-1-first-aid-dawson-creek-144/
LOCATION:Up-Beat First Aid Dawson Creek NEW\, 11000 8th Street\, Dawson Creek\, British Columbia\, V1G 4K6\, Canada
CATEGORIES:Emergency First Aid (EFA)
ORGANIZER;CN="Up-Beat First Aid & Safety Training":MAILTO:up-beat@live.ca
END:VEVENT
BEGIN:VEVENT
DTSTART;TZID=America/Dawson_Creek:20240220T091500
DTEND;TZID=America/Dawson_Creek:20240220T170000
DTSTAMP:20260420T014643
CREATED:20240109T192209Z
LAST-MODIFIED:20240109T192209Z
UID:9141-1708420500-1708448400@up-beatfirstaid.ca
SUMMARY:Level 1 First Aid – Dawson Creek
DESCRIPTION:WorkPlace Emergency First Aid – OFA 1 Equivalent
URL:https://up-beatfirstaid.ca/event/level-1-first-aid-dawson-creek-143/
LOCATION:Up-Beat First Aid Dawson Creek NEW\, 11000 8th Street\, Dawson Creek\, British Columbia\, V1G 4K6\, Canada
CATEGORIES:Emergency First Aid (EFA)
ORGANIZER;CN="Up-Beat First Aid & Safety Training":MAILTO:up-beat@live.ca
END:VEVENT
BEGIN:VEVENT
DTSTART;TZID=America/Dawson_Creek:20240215T080000
DTEND;TZID=America/Dawson_Creek:20240215T160000
DTSTAMP:20260420T014643
CREATED:20240111T181637Z
LAST-MODIFIED:20240111T181637Z
UID:9178-1707984000-1708012800@up-beatfirstaid.ca
SUMMARY:Level 1 First Aid – Chetwynd
DESCRIPTION:WorkPlace Emergency First Aid – OFA 1 Equivalent
URL:https://up-beatfirstaid.ca/event/level-1-first-aid-chetwynd-32/
LOCATION:Up-Beat First Aid Chetwynd\, 4717 – 51 St\, Chetwynd\, British Columbia\, V0C 1J0\, Canada
CATEGORIES:Emergency First Aid (EFA)
ORGANIZER;CN="Up-Beat First Aid & Safety Training":MAILTO:up-beat@live.ca
END:VEVENT
BEGIN:VEVENT
DTSTART;TZID=America/Dawson_Creek:20240213T091500
DTEND;TZID=America/Dawson_Creek:20240213T170000
DTSTAMP:20260420T014643
CREATED:20240108T224717Z
LAST-MODIFIED:20240205T165724Z
UID:9138-1707815700-1707843600@up-beatfirstaid.ca
SUMMARY:Level 1 First Aid – Dawson Creek
DESCRIPTION:WorkPlace Emergency First Aid – OFA 1 Equivalent
URL:https://up-beatfirstaid.ca/event/level-1-first-aid-dawson-creek-142/
LOCATION:Up-Beat First Aid Dawson Creek NEW\, 11000 8th Street\, Dawson Creek\, British Columbia\, V1G 4K6\, Canada
CATEGORIES:Emergency First Aid (EFA)
ORGANIZER;CN="Up-Beat First Aid & Safety Training":MAILTO:up-beat@live.ca
END:VEVENT
BEGIN:VEVENT
DTSTART;TZID=America/Dawson_Creek:20240206T091500
DTEND;TZID=America/Dawson_Creek:20240206T170000
DTSTAMP:20260420T014643
CREATED:20240108T224531Z
LAST-MODIFIED:20240205T224514Z
UID:9135-1707210900-1707238800@up-beatfirstaid.ca
SUMMARY:Level 1 First Aid – Dawson Creek
DESCRIPTION:WorkPlace Emergency First Aid – OFA 1 Equivalent
URL:https://up-beatfirstaid.ca/event/level-1-first-aid-dawson-creek-136/
LOCATION:Up-Beat First Aid Dawson Creek NEW\, 11000 8th Street\, Dawson Creek\, British Columbia\, V1G 4K6\, Canada
CATEGORIES:Emergency First Aid (EFA)
ORGANIZER;CN="Up-Beat First Aid & Safety Training":MAILTO:up-beat@live.ca
END:VEVENT
BEGIN:VEVENT
DTSTART;TZID=America/Dawson_Creek:20240131T091500
DTEND;TZID=America/Dawson_Creek:20240131T160000
DTSTAMP:20260420T014643
CREATED:20231215T213208Z
LAST-MODIFIED:20240126T201356Z
UID:9055-1706692500-1706716800@up-beatfirstaid.ca
SUMMARY:Level 1 First Aid – Dawson Creek
DESCRIPTION:WorkPlace Emergency First Aid – OFA 1 Equivalent
URL:https://up-beatfirstaid.ca/event/level-1-first-aid-dawson-creek-140/
LOCATION:Up-Beat First Aid Dawson Creek NEW\, 11000 8th Street\, Dawson Creek\, British Columbia\, V1G 4K6\, Canada
CATEGORIES:Emergency First Aid (EFA)
ORGANIZER;CN="Up-Beat First Aid & Safety Training":MAILTO:up-beat@live.ca
END:VEVENT
BEGIN:VEVENT
DTSTART;TZID=America/Dawson_Creek:20240125T091500
DTEND;TZID=America/Dawson_Creek:20240125T170000
DTSTAMP:20260420T014643
CREATED:20231215T213125Z
LAST-MODIFIED:20240103T221431Z
UID:9052-1706174100-1706202000@up-beatfirstaid.ca
SUMMARY:Level 1 First Aid – Dawson Creek
DESCRIPTION:WorkPlace Emergency First Aid – OFA 1 Equivalent
URL:https://up-beatfirstaid.ca/event/level-1-first-aid-dawson-creek-139/
LOCATION:Up-Beat First Aid Dawson Creek NEW\, 11000 8th Street\, Dawson Creek\, British Columbia\, V1G 4K6\, Canada
CATEGORIES:Emergency First Aid (EFA)
ORGANIZER;CN="Up-Beat First Aid & Safety Training":MAILTO:up-beat@live.ca
END:VEVENT
BEGIN:VEVENT
DTSTART;TZID=America/Dawson_Creek:20240123T091500
DTEND;TZID=America/Dawson_Creek:20240123T170000
DTSTAMP:20260420T014643
CREATED:20231129T223446Z
LAST-MODIFIED:20240103T221836Z
UID:9018-1706001300-1706029200@up-beatfirstaid.ca
SUMMARY:Level 1 First Aid – Dawson Creek
DESCRIPTION:WorkPlace Emergency First Aid – OFA 1 Equivalent
URL:https://up-beatfirstaid.ca/event/level-1-first-aid-dawson-creek-135/
LOCATION:Up-Beat First Aid Dawson Creek NEW\, 11000 8th Street\, Dawson Creek\, British Columbia\, V1G 4K6\, Canada
CATEGORIES:Emergency First Aid (EFA)
ORGANIZER;CN="Up-Beat First Aid & Safety Training":MAILTO:up-beat@live.ca
END:VEVENT
BEGIN:VEVENT
DTSTART;TZID=America/Dawson_Creek:20240118T091500
DTEND;TZID=America/Dawson_Creek:20240118T170000
DTSTAMP:20260420T014643
CREATED:20231215T212758Z
LAST-MODIFIED:20240103T223511Z
UID:9049-1705569300-1705597200@up-beatfirstaid.ca
SUMMARY:Level 1 First Aid – Dawson Creek
DESCRIPTION:WorkPlace Emergency First Aid – OFA 1 Equivalent
URL:https://up-beatfirstaid.ca/event/level-1-first-aid-dawson-creek-138/
LOCATION:Up-Beat First Aid Dawson Creek NEW\, 11000 8th Street\, Dawson Creek\, British Columbia\, V1G 4K6\, Canada
CATEGORIES:Emergency First Aid (EFA)
ORGANIZER;CN="Up-Beat First Aid & Safety Training":MAILTO:up-beat@live.ca
END:VEVENT
BEGIN:VEVENT
DTSTART;TZID=America/Dawson_Creek:20240118T080000
DTEND;TZID=America/Dawson_Creek:20240118T160000
DTSTAMP:20260420T014643
CREATED:20231215T214210Z
LAST-MODIFIED:20231215T214210Z
UID:9066-1705564800-1705593600@up-beatfirstaid.ca
SUMMARY:Level 1 First Aid – Chetwynd
DESCRIPTION:WorkPlace Emergency First Aid – OFA 1 Equivalent
URL:https://up-beatfirstaid.ca/event/level-1-first-aid-chetwynd-33/
LOCATION:Up-Beat First Aid Chetwynd\, 4717 – 51 St\, Chetwynd\, British Columbia\, V0C 1J0\, Canada
CATEGORIES:Emergency First Aid (EFA)
ORGANIZER;CN="Up-Beat First Aid & Safety Training":MAILTO:up-beat@live.ca
END:VEVENT
BEGIN:VEVENT
DTSTART;TZID=America/Dawson_Creek:20240116T091500
DTEND;TZID=America/Dawson_Creek:20240116T170000
DTSTAMP:20260420T014643
CREATED:20231129T223303Z
LAST-MODIFIED:20240112T210647Z
UID:9015-1705396500-1705424400@up-beatfirstaid.ca
SUMMARY:Level 1 First Aid – Dawson Creek
DESCRIPTION:WorkPlace Emergency First Aid – OFA 1 Equivalent
URL:https://up-beatfirstaid.ca/event/level-1-first-aid-dawson-creek-134/
LOCATION:Up-Beat First Aid Dawson Creek NEW\, 11000 8th Street\, Dawson Creek\, British Columbia\, V1G 4K6\, Canada
CATEGORIES:Emergency First Aid (EFA)
ORGANIZER;CN="Up-Beat First Aid & Safety Training":MAILTO:up-beat@live.ca
END:VEVENT
END:VCALENDAR