BEGIN:VCALENDAR
VERSION:2.0
PRODID:-//Up-Beat First Aid &amp; Safety Training Ltd. - ECPv6.15.20//NONSGML v1.0//EN
CALSCALE:GREGORIAN
METHOD:PUBLISH
X-WR-CALNAME:Up-Beat First Aid &amp; Safety Training Ltd.
X-ORIGINAL-URL:https://up-beatfirstaid.ca
X-WR-CALDESC:Events for Up-Beat First Aid &amp; Safety Training Ltd.
REFRESH-INTERVAL;VALUE=DURATION:PT1H
X-Robots-Tag:noindex
X-PUBLISHED-TTL:PT1H
BEGIN:VTIMEZONE
TZID:America/Dawson_Creek
BEGIN:STANDARD
TZOFFSETFROM:-0700
TZOFFSETTO:-0700
TZNAME:MST
DTSTART:20220101T000000
END:STANDARD
END:VTIMEZONE
BEGIN:VEVENT
DTSTART;TZID=America/Dawson_Creek:20250929T091500
DTEND;TZID=America/Dawson_Creek:20251010T163000
DTSTAMP:20260419T134859
CREATED:20250113T212930Z
LAST-MODIFIED:20250508T225327Z
UID:10522-1759137300-1760113800@up-beatfirstaid.ca
SUMMARY:EMR Bridge
DESCRIPTION:Pre-requisite for this course is a valid OFA3 ticket. \nCost of the course is $1450 + $250 for the manuals \n 
URL:https://up-beatfirstaid.ca/event/emr-bridge-5/
LOCATION:Up-Beat First Aid Dawson Creek NEW\, 11000 8th Street\, Dawson Creek\, British Columbia\, V1G 4K6\, Canada
CATEGORIES:EMR Bridging Course
ORGANIZER;CN="Up-Beat First Aid & Safety Training":MAILTO:up-beat@live.ca
END:VEVENT
BEGIN:VEVENT
DTSTART;TZID=America/Dawson_Creek:20241125T091500
DTEND;TZID=America/Dawson_Creek:20241206T170000
DTSTAMP:20260419T134859
CREATED:20241112T224732Z
LAST-MODIFIED:20241112T224732Z
UID:10302-1732526100-1733504400@up-beatfirstaid.ca
SUMMARY:EMR Bridge
DESCRIPTION:Pre-requisite for this course is a valid OFA3 ticket. \nCost of the course is $1450 + $250 for the manuals \n 
URL:https://up-beatfirstaid.ca/event/emr-bridge-3/
LOCATION:Up-Beat First Aid Dawson Creek NEW\, 11000 8th Street\, Dawson Creek\, British Columbia\, V1G 4K6\, Canada
CATEGORIES:EMR Bridging Course
ORGANIZER;CN="Up-Beat First Aid & Safety Training":MAILTO:up-beat@live.ca
END:VEVENT
BEGIN:VEVENT
DTSTART;TZID=America/Dawson_Creek:20240930T091500
DTEND;TZID=America/Dawson_Creek:20241011T170000
DTSTAMP:20260419T134859
CREATED:20240405T223606Z
LAST-MODIFIED:20240815T204030Z
UID:9510-1727687700-1728666000@up-beatfirstaid.ca
SUMMARY:EMR Bridge
DESCRIPTION:Pre-requisite for this course is a valid OFA3 ticket. \nCost of the course is $1450 + $250 for the manuals \n 
URL:https://up-beatfirstaid.ca/event/emr-bridge-2/
LOCATION:Up-Beat First Aid Dawson Creek NEW\, 11000 8th Street\, Dawson Creek\, British Columbia\, V1G 4K6\, Canada
CATEGORIES:EMR Bridging Course
ORGANIZER;CN="Up-Beat First Aid & Safety Training":MAILTO:up-beat@live.ca
END:VEVENT
BEGIN:VEVENT
DTSTART;TZID=America/Dawson_Creek:20240304T091500
DTEND;TZID=America/Dawson_Creek:20240315T163000
DTSTAMP:20260419T134859
CREATED:20240201T214616Z
LAST-MODIFIED:20240201T214957Z
UID:9235-1709543700-1710520200@up-beatfirstaid.ca
SUMMARY:EMR Bridging Course
DESCRIPTION:March 4-15 \nThis EMR Bridge course is a 10 day course\, Monday to Friday \nPrice cost is $1450 + $250 for the manuals. \nTo register\, please contact 250-795-2776 or send an email to emr@up-beatfirstaid.com
URL:https://up-beatfirstaid.ca/event/emr-bridge/
LOCATION:Up-Beat First Aid Dawson Creek NEW\, 11000 8th Street\, Dawson Creek\, British Columbia\, V1G 4K6\, Canada
CATEGORIES:EMR Bridging Course
ORGANIZER;CN="Up-Beat First Aid & Safety Training":MAILTO:up-beat@live.ca
END:VEVENT
BEGIN:VEVENT
DTSTART;TZID=America/Dawson_Creek:20240122T090000
DTEND;TZID=America/Dawson_Creek:20240122T160000
DTSTAMP:20260419T134859
CREATED:20231129T210030Z
LAST-MODIFIED:20231129T210058Z
UID:9010-1705914000-1705939200@up-beatfirstaid.ca
SUMMARY:EMR Bridging Course (Examination Day)
DESCRIPTION:Pre-requisite: Valid OFA3 ticket \nEMR Bridge Schedule – January 15-19\, 2024 \nExam Date : January 22\, 2024 \nTo reserve a seat\, please email emr@up-beatfirstaid.com or call 250-795-2776
URL:https://up-beatfirstaid.ca/event/emr-bridging-course-examination-day/
LOCATION:Up-Beat First Aid Dawson Creek NEW\, 11000 8th Street\, Dawson Creek\, British Columbia\, V1G 4K6\, Canada
CATEGORIES:EMR Bridging Course
ORGANIZER;CN="Up-Beat First Aid & Safety Training":MAILTO:up-beat@live.ca
END:VEVENT
BEGIN:VEVENT
DTSTART;TZID=America/Dawson_Creek:20240115T090000
DTEND;TZID=America/Dawson_Creek:20240119T150000
DTSTAMP:20260419T134859
CREATED:20231129T205706Z
LAST-MODIFIED:20231129T205706Z
UID:9008-1705309200-1705676400@up-beatfirstaid.ca
SUMMARY:EMR Bridging Course
DESCRIPTION:Pre-requisite: Valid OFA3 ticket \nEMR Bridge Schedule – January 15-19\, 2024 \nExam Date : January 22\, 2024 \nTo reserve a seat\, please email emr@up-beatfirstaid.com or call 250-795-2776
URL:https://up-beatfirstaid.ca/event/emr-bridging-course-2/
LOCATION:Up-Beat First Aid Dawson Creek NEW\, 11000 8th Street\, Dawson Creek\, British Columbia\, V1G 4K6\, Canada
CATEGORIES:EMR Bridging Course
ORGANIZER;CN="Up-Beat First Aid & Safety Training":MAILTO:up-beat@live.ca
END:VEVENT
BEGIN:VEVENT
DTSTART;TZID=America/Dawson_Creek:20231023T080000
DTEND;TZID=America/Dawson_Creek:20231027T170000
DTSTAMP:20260419T134859
CREATED:20230803T215259Z
LAST-MODIFIED:20230803T215259Z
UID:8352-1698048000-1698426000@up-beatfirstaid.ca
SUMMARY:EMR Bridging Course
DESCRIPTION:You need to have a valid OFA3 ticket to join this class. \nKindly send your inquiry to emr@up-beatfirstaid.com or you can call 250-795-2776.
URL:https://up-beatfirstaid.ca/event/emr-bridging-course/
LOCATION:Up-Beat First Aid Dawson Creek NEW\, 11000 8th Street\, Dawson Creek\, British Columbia\, V1G 4K6\, Canada
CATEGORIES:EMR Bridging Course
ORGANIZER;CN="Up-Beat First Aid & Safety Training":MAILTO:up-beat@live.ca
END:VEVENT
END:VCALENDAR