BEGIN:VCALENDAR
VERSION:2.0
PRODID:-//Up-Beat First Aid &amp; Safety Training Ltd. - ECPv6.15.20//NONSGML v1.0//EN
CALSCALE:GREGORIAN
METHOD:PUBLISH
X-ORIGINAL-URL:https://up-beatfirstaid.ca
X-WR-CALDESC:Events for Up-Beat First Aid &amp; Safety Training Ltd.
REFRESH-INTERVAL;VALUE=DURATION:PT1H
X-Robots-Tag:noindex
X-PUBLISHED-TTL:PT1H
BEGIN:VTIMEZONE
TZID:America/Dawson_Creek
BEGIN:STANDARD
TZOFFSETFROM:-0700
TZOFFSETTO:-0700
TZNAME:MST
DTSTART:20190101T000000
END:STANDARD
END:VTIMEZONE
BEGIN:VEVENT
DTSTART;TZID=America/Dawson_Creek:20260220T083000
DTEND;TZID=America/Dawson_Creek:20260220T163000
DTSTAMP:20260421T064913
CREATED:20260127T184234Z
LAST-MODIFIED:20260127T184234Z
UID:11429-1771576200-1771605000@up-beatfirstaid.ca
SUMMARY:Fall Protection (Energy Safety Canada )- Dawson Creek
DESCRIPTION:
URL:https://up-beatfirstaid.ca/event/fall-protection-energy-safety-canada-dawson-creek-7/
LOCATION:Up-Beat First Aid Dawson Creek NEW\, 11000 8th Street\, Dawson Creek\, British Columbia\, V1G 4K6\, Canada
CATEGORIES:Fall Protection
ORGANIZER;CN="Up-Beat First Aid & Safety Training":MAILTO:up-beat@live.ca
END:VEVENT
BEGIN:VEVENT
DTSTART;TZID=America/Dawson_Creek:20251107T083000
DTEND;TZID=America/Dawson_Creek:20251107T163000
DTSTAMP:20260421T064913
CREATED:20251028T224904Z
LAST-MODIFIED:20251028T225149Z
UID:11261-1762504200-1762533000@up-beatfirstaid.ca
SUMMARY:Fall Protection (ABCS)- Dawson Creek
DESCRIPTION:
URL:https://up-beatfirstaid.ca/event/fall-protection-energy-safety-canada-dawson-creek-6/
LOCATION:Up-Beat First Aid Dawson Creek NEW\, 11000 8th Street\, Dawson Creek\, British Columbia\, V1G 4K6\, Canada
CATEGORIES:Fall Protection
ORGANIZER;CN="Up-Beat First Aid & Safety Training":MAILTO:up-beat@live.ca
END:VEVENT
BEGIN:VEVENT
DTSTART;TZID=America/Dawson_Creek:20250317T083000
DTEND;TZID=America/Dawson_Creek:20250317T163000
DTSTAMP:20260421T064913
CREATED:20250314T212406Z
LAST-MODIFIED:20250314T212406Z
UID:10835-1742200200-1742229000@up-beatfirstaid.ca
SUMMARY:Fall Protection (Energy Safety Canada )- Dawson Creek
DESCRIPTION:
URL:https://up-beatfirstaid.ca/event/fall-protection-energy-safety-canada-dawson-creek-5/
LOCATION:Up-Beat First Aid Dawson Creek NEW\, 11000 8th Street\, Dawson Creek\, British Columbia\, V1G 4K6\, Canada
CATEGORIES:Fall Protection
ORGANIZER;CN="Up-Beat First Aid & Safety Training":MAILTO:up-beat@live.ca
END:VEVENT
BEGIN:VEVENT
DTSTART;TZID=America/Dawson_Creek:20240927T083000
DTEND;TZID=America/Dawson_Creek:20240927T163000
DTSTAMP:20260421T064913
CREATED:20240808T225152Z
LAST-MODIFIED:20240808T225152Z
UID:9990-1727425800-1727454600@up-beatfirstaid.ca
SUMMARY:Fall Protection (Energy Safety Canada )- Dawson Creek
DESCRIPTION:
URL:https://up-beatfirstaid.ca/event/fall-protection-energy-safety-canada-dawson-creek-4/
LOCATION:Up-Beat First Aid Dawson Creek NEW\, 11000 8th Street\, Dawson Creek\, British Columbia\, V1G 4K6\, Canada
CATEGORIES:Fall Protection
ORGANIZER;CN="Up-Beat First Aid & Safety Training":MAILTO:up-beat@live.ca
END:VEVENT
BEGIN:VEVENT
DTSTART;TZID=America/Dawson_Creek:20240725T083000
DTEND;TZID=America/Dawson_Creek:20240725T170000
DTSTAMP:20260421T064913
CREATED:20240717T162738Z
LAST-MODIFIED:20240717T162738Z
UID:9914-1721896200-1721926800@up-beatfirstaid.ca
SUMMARY:ESC Fall Protection - Dawson Creek
DESCRIPTION:
URL:https://up-beatfirstaid.ca/event/esc-fall-protection-dawson-creek/
LOCATION:British Columbia
CATEGORIES:Fall Protection
ORGANIZER;CN="Up-Beat First Aid & Safety Training":MAILTO:up-beat@live.ca
END:VEVENT
BEGIN:VEVENT
DTSTART;TZID=America/Dawson_Creek:20240620T083000
DTEND;TZID=America/Dawson_Creek:20240620T163000
DTSTAMP:20260421T064913
CREATED:20240517T222909Z
LAST-MODIFIED:20240619T225151Z
UID:9725-1718872200-1718901000@up-beatfirstaid.ca
SUMMARY:Fall Protection (Energy Safety Canada )- Dawson Creek
DESCRIPTION:
URL:https://up-beatfirstaid.ca/event/fall-protection-energy-safety-canada-dawson-creek-2/
LOCATION:Up-Beat First Aid Dawson Creek NEW\, 11000 8th Street\, Dawson Creek\, British Columbia\, V1G 4K6\, Canada
CATEGORIES:Fall Protection
ORGANIZER;CN="Up-Beat First Aid & Safety Training":MAILTO:up-beat@live.ca
END:VEVENT
BEGIN:VEVENT
DTSTART;TZID=America/Dawson_Creek:20240426T083000
DTEND;TZID=America/Dawson_Creek:20240426T163000
DTSTAMP:20260421T064913
CREATED:20240322T211111Z
LAST-MODIFIED:20240409T162508Z
UID:9471-1714120200-1714149000@up-beatfirstaid.ca
SUMMARY:Fall Protection (Energy Safety Canada )- Dawson Creek
DESCRIPTION:
URL:https://up-beatfirstaid.ca/event/fall-protection-energy-safety-canada-dawson-creek-3/
LOCATION:Up-Beat First Aid Dawson Creek NEW\, 11000 8th Street\, Dawson Creek\, British Columbia\, V1G 4K6\, Canada
CATEGORIES:Fall Protection
ORGANIZER;CN="Up-Beat First Aid & Safety Training":MAILTO:up-beat@live.ca
END:VEVENT
BEGIN:VEVENT
DTSTART;TZID=America/Dawson_Creek:20240215T083000
DTEND;TZID=America/Dawson_Creek:20240215T163000
DTSTAMP:20260421T064913
CREATED:20240131T201253Z
LAST-MODIFIED:20240212T205058Z
UID:9221-1707985800-1708014600@up-beatfirstaid.ca
SUMMARY:Fall Protection (Energy Safety Canada )- Dawson Creek
DESCRIPTION:
URL:https://up-beatfirstaid.ca/event/fall-protection-energy-safety-canada-dawson-creek/
LOCATION:Up-Beat First Aid Dawson Creek NEW\, 11000 8th Street\, Dawson Creek\, British Columbia\, V1G 4K6\, Canada
CATEGORIES:Fall Protection
ORGANIZER;CN="Up-Beat First Aid & Safety Training":MAILTO:up-beat@live.ca
END:VEVENT
BEGIN:VEVENT
DTSTART;TZID=America/Dawson_Creek:20240118T083000
DTEND;TZID=America/Dawson_Creek:20240118T163000
DTSTAMP:20260421T064913
CREATED:20240112T211034Z
LAST-MODIFIED:20240112T211122Z
UID:9184-1705566600-1705595400@up-beatfirstaid.ca
SUMMARY:Fall Protection- Dawson Creek
DESCRIPTION:Energy Safety Canada- Fall Protection course
URL:https://up-beatfirstaid.ca/event/fall-protection-dawson-creek-january/
LOCATION:Up-Beat First Aid Dawson Creek NEW\, 11000 8th Street\, Dawson Creek\, British Columbia\, V1G 4K6\, Canada
CATEGORIES:Fall Protection
ORGANIZER;CN="Up-Beat First Aid & Safety Training":MAILTO:up-beat@live.ca
END:VEVENT
BEGIN:VEVENT
DTSTART;TZID=America/Dawson_Creek:20231205T083000
DTEND;TZID=America/Dawson_Creek:20231205T163000
DTSTAMP:20260421T064913
CREATED:20231121T190556Z
LAST-MODIFIED:20231201T182400Z
UID:8930-1701765000-1701793800@up-beatfirstaid.ca
SUMMARY:Fall Protection- Dawson Creek
DESCRIPTION:Fall Protection- Energy Safety Canada
URL:https://up-beatfirstaid.ca/event/fall-protection-dawson-creek-11-05/
LOCATION:Up-Beat First Aid Dawson Creek NEW\, 11000 8th Street\, Dawson Creek\, British Columbia\, V1G 4K6\, Canada
CATEGORIES:Fall Protection
ORGANIZER;CN="Up-Beat First Aid & Safety Training":MAILTO:up-beat@live.ca
END:VEVENT
BEGIN:VEVENT
DTSTART;TZID=America/Dawson_Creek:20231117T083000
DTEND;TZID=America/Dawson_Creek:20231117T163000
DTSTAMP:20260421T064913
CREATED:20231114T165101Z
LAST-MODIFIED:20231114T165247Z
UID:8863-1700209800-1700238600@up-beatfirstaid.ca
SUMMARY:Fall Protection
DESCRIPTION:
URL:https://up-beatfirstaid.ca/event/fall-protection-5/
LOCATION:Up-Beat First Aid Dawson Creek NEW\, 11000 8th Street\, Dawson Creek\, British Columbia\, V1G 4K6\, Canada
CATEGORIES:Fall Protection
ORGANIZER;CN="Up-Beat First Aid & Safety Training":MAILTO:up-beat@live.ca
END:VEVENT
BEGIN:VEVENT
DTSTART;TZID=America/Dawson_Creek:20230518T083000
DTEND;TZID=America/Dawson_Creek:20230518T170000
DTSTAMP:20260421T064913
CREATED:20230505T224136Z
LAST-MODIFIED:20230505T224501Z
UID:7951-1684398600-1684429200@up-beatfirstaid.ca
SUMMARY:Fall Protection-Dawson Creek
DESCRIPTION:
URL:https://up-beatfirstaid.ca/event/fall-protection-4/
LOCATION:Up-Beat First Aid Dawson Creek NEW\, 11000 8th Street\, Dawson Creek\, British Columbia\, V1G 4K6\, Canada
CATEGORIES:Fall Protection
ORGANIZER;CN="Up-Beat First Aid & Safety Training":MAILTO:up-beat@live.ca
END:VEVENT
BEGIN:VEVENT
DTSTART;TZID=America/Dawson_Creek:20221124T083000
DTEND;TZID=America/Dawson_Creek:20221124T170000
DTSTAMP:20260421T064913
CREATED:20221005T213648Z
LAST-MODIFIED:20221108T223131Z
UID:7204-1669278600-1669309200@up-beatfirstaid.ca
SUMMARY:Fall Protection
DESCRIPTION:
URL:https://up-beatfirstaid.ca/event/fall-protection-3/
LOCATION:Up-Beat First Aid Dawson Creek NEW\, 11000 8th Street\, Dawson Creek\, British Columbia\, V1G 4K6\, Canada
CATEGORIES:Fall Protection
ORGANIZER;CN="Up-Beat First Aid & Safety Training":MAILTO:up-beat@live.ca
END:VEVENT
BEGIN:VEVENT
DTSTART;TZID=America/Dawson_Creek:20220526T083000
DTEND;TZID=America/Dawson_Creek:20220526T170000
DTSTAMP:20260421T064913
CREATED:20220329T211738Z
LAST-MODIFIED:20220425T171853Z
UID:6068-1653553800-1653584400@up-beatfirstaid.ca
SUMMARY:Fall Protection - Dawson Creek
DESCRIPTION:
URL:https://up-beatfirstaid.ca/event/fall-protection-dawson-creek-10/
LOCATION:Up-Beat First Aid Dawson Creek NEW\, 11000 8th Street\, Dawson Creek\, British Columbia\, V1G 4K6\, Canada
CATEGORIES:Fall Protection
ORGANIZER;CN="Up-Beat First Aid & Safety Training":MAILTO:up-beat@live.ca
END:VEVENT
BEGIN:VEVENT
DTSTART;TZID=America/Dawson_Creek:20220407T083000
DTEND;TZID=America/Dawson_Creek:20220407T083000
DTSTAMP:20260421T064913
CREATED:20220308T213547Z
LAST-MODIFIED:20220308T213547Z
UID:5668-1649320200-1649320200@up-beatfirstaid.ca
SUMMARY:Fall Protection - Dawson Creek
DESCRIPTION:
URL:https://up-beatfirstaid.ca/event/fall-protection-dawson-creek-9/
LOCATION:Up-Beat First Aid Dawson Creek NEW\, 11000 8th Street\, Dawson Creek\, British Columbia\, V1G 4K6\, Canada
CATEGORIES:Fall Protection
ORGANIZER;CN="Up-Beat First Aid & Safety Training":MAILTO:up-beat@live.ca
END:VEVENT
BEGIN:VEVENT
DTSTART;TZID=America/Dawson_Creek:20220225T083000
DTEND;TZID=America/Dawson_Creek:20220225T170000
DTSTAMP:20260421T064913
CREATED:20220110T205230Z
LAST-MODIFIED:20220223T173358Z
UID:4031-1645777800-1645808400@up-beatfirstaid.ca
SUMMARY:Fall Protection - Dawson Creek
DESCRIPTION:
URL:https://up-beatfirstaid.ca/event/fall-protection-dawson-creek-8/
LOCATION:Up-Beat First Aid Dawson Creek NEW\, 11000 8th Street\, Dawson Creek\, British Columbia\, V1G 4K6\, Canada
CATEGORIES:Fall Protection
ORGANIZER;CN="Up-Beat First Aid & Safety Training":MAILTO:up-beat@live.ca
END:VEVENT
BEGIN:VEVENT
DTSTART;TZID=America/Dawson_Creek:20220114T083000
DTEND;TZID=America/Dawson_Creek:20220114T083000
DTSTAMP:20260421T064913
CREATED:20211123T183758Z
LAST-MODIFIED:20220112T195641Z
UID:3975-1642149000-1642149000@up-beatfirstaid.ca
SUMMARY:Fall Protection - Dawson Creek
DESCRIPTION:
URL:https://up-beatfirstaid.ca/event/fall-protection-dawson-creek-7/
LOCATION:Up-Beat First Aid Dawson Creek NEW\, 11000 8th Street\, Dawson Creek\, British Columbia\, V1G 4K6\, Canada
CATEGORIES:Fall Protection
ORGANIZER;CN="Up-Beat First Aid & Safety Training":MAILTO:up-beat@live.ca
END:VEVENT
BEGIN:VEVENT
DTSTART;TZID=America/Dawson_Creek:20211015T083000
DTEND;TZID=America/Dawson_Creek:20211015T083000
DTSTAMP:20260421T064913
CREATED:20211005T194306Z
LAST-MODIFIED:20211005T194306Z
UID:3720-1634286600-1634286600@up-beatfirstaid.ca
SUMMARY:Fall Protection -Dawson Creek
DESCRIPTION:
URL:https://up-beatfirstaid.ca/event/fall-protection-dawson-creek-5/
LOCATION:Up-Beat First Aid Dawson Creek NEW\, 11000 8th Street\, Dawson Creek\, British Columbia\, V1G 4K6\, Canada
CATEGORIES:Fall Protection
ORGANIZER;CN="Up-Beat First Aid & Safety Training":MAILTO:up-beat@live.ca
END:VEVENT
BEGIN:VEVENT
DTSTART;TZID=America/Dawson_Creek:20210906T083000
DTEND;TZID=America/Dawson_Creek:20210906T170000
DTSTAMP:20260421T064913
CREATED:20210901T173201Z
LAST-MODIFIED:20210901T173221Z
UID:3534-1630917000-1630947600@up-beatfirstaid.ca
SUMMARY:ESC Fall Protection - Dawson Creek
DESCRIPTION:
URL:https://up-beatfirstaid.ca/event/esc-fall-protection/
LOCATION:Up-Beat First Aid Dawson Creek NEW\, 11000 8th Street\, Dawson Creek\, British Columbia\, V1G 4K6\, Canada
CATEGORIES:Fall Protection
ORGANIZER;CN="Up-Beat First Aid & Safety Training":MAILTO:up-beat@live.ca
END:VEVENT
BEGIN:VEVENT
DTSTART;TZID=America/Dawson_Creek:20210816T083000
DTEND;TZID=America/Dawson_Creek:20210816T170000
DTSTAMP:20260421T064913
CREATED:20210727T162503Z
LAST-MODIFIED:20210727T162503Z
UID:3449-1629102600-1629133200@up-beatfirstaid.ca
SUMMARY:Fall Protection - Dawson Creek
DESCRIPTION:
URL:https://up-beatfirstaid.ca/event/fall-protection-dawson-creek-4/
LOCATION:Up-Beat First Aid Dawson Creek NEW\, 11000 8th Street\, Dawson Creek\, British Columbia\, V1G 4K6\, Canada
CATEGORIES:Fall Protection
ORGANIZER;CN="Up-Beat First Aid & Safety Training":MAILTO:up-beat@live.ca
END:VEVENT
BEGIN:VEVENT
DTSTART;TZID=America/Dawson_Creek:20210726T083000
DTEND;TZID=America/Dawson_Creek:20210726T170000
DTSTAMP:20260421T064913
CREATED:20210628T181242Z
LAST-MODIFIED:20210628T181249Z
UID:3299-1627288200-1627318800@up-beatfirstaid.ca
SUMMARY:Fall Protection - Dawson Creek
DESCRIPTION:
URL:https://up-beatfirstaid.ca/event/fall-protection-dawson-creek-2/
LOCATION:Up-Beat First Aid Dawson Creek NEW\, 11000 8th Street\, Dawson Creek\, British Columbia\, V1G 4K6\, Canada
CATEGORIES:Fall Protection
ORGANIZER;CN="Up-Beat First Aid & Safety Training":MAILTO:up-beat@live.ca
END:VEVENT
BEGIN:VEVENT
DTSTART;TZID=America/Dawson_Creek:20210624T083000
DTEND;TZID=America/Dawson_Creek:20210624T170000
DTSTAMP:20260421T064913
CREATED:20210511T195944Z
LAST-MODIFIED:20210511T195944Z
UID:3085-1624523400-1624554000@up-beatfirstaid.ca
SUMMARY:Fall Protection  - Dawson Creek
DESCRIPTION:Energy Safety Canada
URL:https://up-beatfirstaid.ca/event/fall-protection-dawson-creek-3/
LOCATION:Up-Beat First Aid Dawson Creek NEW\, 11000 8th Street\, Dawson Creek\, British Columbia\, V1G 4K6\, Canada
CATEGORIES:Fall Protection
ORGANIZER;CN="Up-Beat First Aid & Safety Training":MAILTO:up-beat@live.ca
END:VEVENT
BEGIN:VEVENT
DTSTART;TZID=America/Dawson_Creek:20210426T091500
DTEND;TZID=America/Dawson_Creek:20210426T091500
DTSTAMP:20260421T064913
CREATED:20210409T165348Z
LAST-MODIFIED:20210409T165348Z
UID:2956-1619428500-1619428500@up-beatfirstaid.ca
SUMMARY:Fall Protection - Dawson Creek
DESCRIPTION:
URL:https://up-beatfirstaid.ca/event/fall-protection-dawson-creek/
LOCATION:Up-Beat First Aid Dawson Creek NEW\, 11000 8th Street\, Dawson Creek\, British Columbia\, V1G 4K6\, Canada
CATEGORIES:Fall Protection
ORGANIZER;CN="Up-Beat First Aid & Safety Training":MAILTO:up-beat@live.ca
END:VEVENT
BEGIN:VEVENT
DTSTART;TZID=America/Dawson_Creek:20201117T080000
DTEND;TZID=America/Dawson_Creek:20201117T170000
DTSTAMP:20260421T064913
CREATED:20201020T180702Z
LAST-MODIFIED:20201020T180702Z
UID:2344-1605600000-1605632400@up-beatfirstaid.ca
SUMMARY:Fall Protection Chetwynd
DESCRIPTION:
URL:https://up-beatfirstaid.ca/event/fall-protection-chetwynd-4/
LOCATION:Up-Beat First Aid Chetwynd\, 4717 – 51 St\, Chetwynd\, British Columbia\, V0C 1J0\, Canada
CATEGORIES:Fall Protection
ORGANIZER;CN="Up-Beat First Aid & Safety Training":MAILTO:up-beat@live.ca
END:VEVENT
BEGIN:VEVENT
DTSTART;TZID=America/Dawson_Creek:20201110T080000
DTEND;TZID=America/Dawson_Creek:20201110T170000
DTSTAMP:20260421T064913
CREATED:20201020T180501Z
LAST-MODIFIED:20201020T180501Z
UID:2341-1604995200-1605027600@up-beatfirstaid.ca
SUMMARY:Fall Protection Chetwynd
DESCRIPTION:
URL:https://up-beatfirstaid.ca/event/fall-protection-chetwynd-3/
LOCATION:Up-Beat First Aid Chetwynd\, 4717 – 51 St\, Chetwynd\, British Columbia\, V0C 1J0\, Canada
CATEGORIES:Fall Protection
ORGANIZER;CN="Up-Beat First Aid & Safety Training":MAILTO:up-beat@live.ca
END:VEVENT
BEGIN:VEVENT
DTSTART;TZID=America/Dawson_Creek:20200724T083000
DTEND;TZID=America/Dawson_Creek:20200724T160000
DTSTAMP:20260421T064913
CREATED:20200703T060254Z
LAST-MODIFIED:20200703T060254Z
UID:1866-1595579400-1595606400@up-beatfirstaid.ca
SUMMARY:Fall Protection Chetwynd
DESCRIPTION:
URL:https://up-beatfirstaid.ca/event/fall-protection-chetwynd-2/
LOCATION:Up-Beat First Aid Chetwynd\, 4717 – 51 St\, Chetwynd\, British Columbia\, V0C 1J0\, Canada
CATEGORIES:Fall Protection
ORGANIZER;CN="Up-Beat First Aid & Safety Training":MAILTO:up-beat@live.ca
END:VEVENT
BEGIN:VEVENT
DTSTART;TZID=America/Dawson_Creek:20200227T083000
DTEND;TZID=America/Dawson_Creek:20200227T170000
DTSTAMP:20260421T064913
CREATED:20200206T013406Z
LAST-MODIFIED:20200206T013406Z
UID:1008-1582792200-1582822800@up-beatfirstaid.ca
SUMMARY:Fall Protection (Chetwynd)
DESCRIPTION:
URL:https://up-beatfirstaid.ca/event/fall-protection-chetwynd/
LOCATION:Up-Beat First Aid Chetwynd\, 4717 – 51 St\, Chetwynd\, British Columbia\, V0C 1J0\, Canada
CATEGORIES:Fall Protection
ORGANIZER;CN="Up-Beat First Aid & Safety Training":MAILTO:up-beat@live.ca
END:VEVENT
BEGIN:VEVENT
DTSTART;TZID=America/Dawson_Creek:20200206T083000
DTEND;TZID=America/Dawson_Creek:20200206T170000
DTSTAMP:20260421T064913
CREATED:20200205T041326Z
LAST-MODIFIED:20200206T013008Z
UID:978-1580977800-1581008400@up-beatfirstaid.ca
SUMMARY:Fall Protection (Dawson Creek)
DESCRIPTION:
URL:https://up-beatfirstaid.ca/event/fall-protection/
LOCATION:British Columbia\, Canada
CATEGORIES:Fall Protection
ORGANIZER;CN="Up-Beat First Aid & Safety Training":MAILTO:up-beat@live.ca
END:VEVENT
END:VCALENDAR