BEGIN:VCALENDAR
VERSION:2.0
PRODID:-//Up-Beat First Aid &amp; Safety Training Ltd. - ECPv6.15.20//NONSGML v1.0//EN
CALSCALE:GREGORIAN
METHOD:PUBLISH
X-WR-CALNAME:Up-Beat First Aid &amp; Safety Training Ltd.
X-ORIGINAL-URL:https://up-beatfirstaid.ca
X-WR-CALDESC:Events for Up-Beat First Aid &amp; Safety Training Ltd.
REFRESH-INTERVAL;VALUE=DURATION:PT1H
X-Robots-Tag:noindex
X-PUBLISHED-TTL:PT1H
BEGIN:VTIMEZONE
TZID:America/Dawson_Creek
BEGIN:STANDARD
TZOFFSETFROM:-0700
TZOFFSETTO:-0700
TZNAME:MST
DTSTART:20210101T000000
END:STANDARD
END:VTIMEZONE
BEGIN:VEVENT
DTSTART;TZID=America/Dawson_Creek:20220704T083000
DTEND;TZID=America/Dawson_Creek:20220704T170000
DTSTAMP:20260423T213642
CREATED:20220503T214605Z
LAST-MODIFIED:20220627T155305Z
UID:6325-1656923400-1656954000@up-beatfirstaid.ca
SUMMARY:H2S Alive- Dawson Creek
DESCRIPTION:
URL:https://up-beatfirstaid.ca/event/h2s-alive-dawson-creek-88/
LOCATION:Up-Beat First Aid Dawson Creek NEW\, 11000 8th Street\, Dawson Creek\, British Columbia\, V1G 4K6\, Canada
CATEGORIES:H2S Alive
ORGANIZER;CN="Up-Beat First Aid & Safety Training":MAILTO:up-beat@live.ca
END:VEVENT
BEGIN:VEVENT
DTSTART;TZID=America/Dawson_Creek:20220711T083000
DTEND;TZID=America/Dawson_Creek:20220711T170000
DTSTAMP:20260423T213642
CREATED:20220503T220707Z
LAST-MODIFIED:20220708T195440Z
UID:6337-1657528200-1657558800@up-beatfirstaid.ca
SUMMARY:H2S Alive- Dawson Creek
DESCRIPTION:
URL:https://up-beatfirstaid.ca/event/h2s-alive-dawson-creek-89/
LOCATION:Up-Beat First Aid Dawson Creek NEW\, 11000 8th Street\, Dawson Creek\, British Columbia\, V1G 4K6\, Canada
CATEGORIES:H2S Alive
ORGANIZER;CN="Up-Beat First Aid & Safety Training":MAILTO:up-beat@live.ca
END:VEVENT
BEGIN:VEVENT
DTSTART;TZID=America/Dawson_Creek:20220714T083000
DTEND;TZID=America/Dawson_Creek:20220714T170000
DTSTAMP:20260423T213642
CREATED:20220615T153644Z
LAST-MODIFIED:20220708T195643Z
UID:6511-1657787400-1657818000@up-beatfirstaid.ca
SUMMARY:H2S Alive - Chetwynd
DESCRIPTION:
URL:https://up-beatfirstaid.ca/event/h2s-alive-chetwynd-42/
LOCATION:Up-Beat First Aid Chetwynd\, 4717 – 51 St\, Chetwynd\, British Columbia\, V0C 1J0\, Canada
CATEGORIES:H2S Alive
ORGANIZER;CN="Up-Beat First Aid & Safety Training":MAILTO:up-beat@live.ca
END:VEVENT
BEGIN:VEVENT
DTSTART;TZID=America/Dawson_Creek:20220718T083000
DTEND;TZID=America/Dawson_Creek:20220718T170000
DTSTAMP:20260423T213642
CREATED:20220503T221437Z
LAST-MODIFIED:20220601T203106Z
UID:6349-1658133000-1658163600@up-beatfirstaid.ca
SUMMARY:H2S Alive- Dawson Creek
DESCRIPTION:
URL:https://up-beatfirstaid.ca/event/h2s-alive-dawson-creek-90/
LOCATION:Up-Beat First Aid Dawson Creek NEW\, 11000 8th Street\, Dawson Creek\, British Columbia\, V1G 4K6\, Canada
CATEGORIES:H2S Alive
ORGANIZER;CN="Up-Beat First Aid & Safety Training":MAILTO:up-beat@live.ca
END:VEVENT
BEGIN:VEVENT
DTSTART;TZID=America/Dawson_Creek:20220725T083000
DTEND;TZID=America/Dawson_Creek:20220725T170000
DTSTAMP:20260423T213642
CREATED:20220503T222256Z
LAST-MODIFIED:20220722T202136Z
UID:6361-1658737800-1658768400@up-beatfirstaid.ca
SUMMARY:H2S Alive- Dawson Creek
DESCRIPTION:
URL:https://up-beatfirstaid.ca/event/h2s-alive-dawson-creek-91/
LOCATION:Up-Beat First Aid Dawson Creek NEW\, 11000 8th Street\, Dawson Creek\, British Columbia\, V1G 4K6\, Canada
CATEGORIES:H2S Alive
ORGANIZER;CN="Up-Beat First Aid & Safety Training":MAILTO:up-beat@live.ca
END:VEVENT
END:VCALENDAR