BEGIN:VCALENDAR
VERSION:2.0
PRODID:-//Up-Beat First Aid &amp; Safety Training Ltd. - ECPv6.15.20//NONSGML v1.0//EN
CALSCALE:GREGORIAN
METHOD:PUBLISH
X-ORIGINAL-URL:https://up-beatfirstaid.ca
X-WR-CALDESC:Events for Up-Beat First Aid &amp; Safety Training Ltd.
REFRESH-INTERVAL;VALUE=DURATION:PT1H
X-Robots-Tag:noindex
X-PUBLISHED-TTL:PT1H
BEGIN:VTIMEZONE
TZID:America/Dawson_Creek
BEGIN:STANDARD
TZOFFSETFROM:-0700
TZOFFSETTO:-0700
TZNAME:MST
DTSTART:20240101T000000
END:STANDARD
END:VTIMEZONE
BEGIN:VEVENT
DTSTART;TZID=America/Dawson_Creek:20250303T083000
DTEND;TZID=America/Dawson_Creek:20250303T170000
DTSTAMP:20260420T085448
CREATED:20250206T220135Z
LAST-MODIFIED:20250206T220135Z
UID:10620-1740990600-1741021200@up-beatfirstaid.ca
SUMMARY:H2S Alive - Dawson Creek
DESCRIPTION:Energy Safety Canada- H2S Alive \nThe aim of this course is to provide all Petroleum Industry workers with the knowledge and skills necessary to recognize and respond to Hydrogen Sulphide (H2S) emergencies. \nPROGRAM CONTENT\nAreas of study will include the following: \n\nH2S properties; initial response strategy\nRespiratory Protective Equipment\nDetection of H2S\nRescue Techniques\nCase Studies\n\nPractical training will be conducted in the following subjects: \n\nSelf-Contained Breathing Apparatus (SCBA)\nSupplied Air Breathing Apparatus (on request)\nGas Detection\nRescue Techniques\n\nDURATION \nEight (8) hours.
URL:https://up-beatfirstaid.ca/event/h2s-alive-dawson-creek-179/
LOCATION:Up-Beat First Aid Dawson Creek NEW\, 11000 8th Street\, Dawson Creek\, British Columbia\, V1G 4K6\, Canada
CATEGORIES:H2S Alive
ORGANIZER;CN="Up-Beat First Aid & Safety Training":MAILTO:up-beat@live.ca
END:VEVENT
BEGIN:VEVENT
DTSTART;TZID=America/Dawson_Creek:20250310T083000
DTEND;TZID=America/Dawson_Creek:20250310T170000
DTSTAMP:20260420T085448
CREATED:20250214T220410Z
LAST-MODIFIED:20250214T221225Z
UID:10649-1741595400-1741626000@up-beatfirstaid.ca
SUMMARY:H2S Alive - Dawson Creek
DESCRIPTION:Energy Safety Canada- H2S Alive \nThe aim of this course is to provide all Petroleum Industry workers with the knowledge and skills necessary to recognize and respond to Hydrogen Sulphide (H2S) emergencies. \nPROGRAM CONTENT\nAreas of study will include the following: \n\nH2S properties; initial response strategy\nRespiratory Protective Equipment\nDetection of H2S\nRescue Techniques\nCase Studies\n\nPractical training will be conducted in the following subjects: \n\nSelf-Contained Breathing Apparatus (SCBA)\nSupplied Air Breathing Apparatus (on request)\nGas Detection\nRescue Techniques\n\nDURATION \nEight (8) hours.
URL:https://up-beatfirstaid.ca/event/h2s-alive-dawson-creek-180/
LOCATION:Up-Beat First Aid Dawson Creek NEW\, 11000 8th Street\, Dawson Creek\, British Columbia\, V1G 4K6\, Canada
CATEGORIES:H2S Alive
ORGANIZER;CN="Up-Beat First Aid & Safety Training":MAILTO:up-beat@live.ca
END:VEVENT
BEGIN:VEVENT
DTSTART;TZID=America/Dawson_Creek:20250312T083000
DTEND;TZID=America/Dawson_Creek:20250312T163000
DTSTAMP:20260420T085448
CREATED:20250214T225757Z
LAST-MODIFIED:20250224T222439Z
UID:10691-1741768200-1741797000@up-beatfirstaid.ca
SUMMARY:H2S Alive - Chetwynd
DESCRIPTION:Energy Safety Canada- H2S Alive \nThe aim of this course is to provide all Petroleum Industry workers with the knowledge and skills necessary to recognize and respond to Hydrogen Sulphide (H2S) emergencies. \nPROGRAM CONTENT\nAreas of study will include the following: \n\nH2S properties; initial response strategy\nRespiratory Protective Equipment\nDetection of H2S\nRescue Techniques\nCase Studies\n\nPractical training will be conducted in the following subjects: \n\nSelf-Contained Breathing Apparatus (SCBA)\nSupplied Air Breathing Apparatus (on request)\nGas Detection\nRescue Techniques\n\nDURATION \nEight (8) hours.
URL:https://up-beatfirstaid.ca/event/h2s-alive-dawson-creek-184/
LOCATION:Up-Beat First Aid Chetwynd\, 4717 – 51 St\, Chetwynd\, British Columbia\, V0C 1J0\, Canada
CATEGORIES:H2S Alive
ORGANIZER;CN="Up-Beat First Aid & Safety Training":MAILTO:up-beat@live.ca
END:VEVENT
BEGIN:VEVENT
DTSTART;TZID=America/Dawson_Creek:20250317T083000
DTEND;TZID=America/Dawson_Creek:20250317T170000
DTSTAMP:20260420T085448
CREATED:20250214T220437Z
LAST-MODIFIED:20250314T200229Z
UID:10648-1742200200-1742230800@up-beatfirstaid.ca
SUMMARY:H2S Alive - Dawson Creek
DESCRIPTION:Energy Safety Canada- H2S Alive \nThe aim of this course is to provide all Petroleum Industry workers with the knowledge and skills necessary to recognize and respond to Hydrogen Sulphide (H2S) emergencies. \nPROGRAM CONTENT\nAreas of study will include the following: \n\nH2S properties; initial response strategy\nRespiratory Protective Equipment\nDetection of H2S\nRescue Techniques\nCase Studies\n\nPractical training will be conducted in the following subjects: \n\nSelf-Contained Breathing Apparatus (SCBA)\nSupplied Air Breathing Apparatus (on request)\nGas Detection\nRescue Techniques\n\nDURATION \nEight (8) hours.
URL:https://up-beatfirstaid.ca/event/h2s-alive-dawson-creek-181/
LOCATION:Up-Beat First Aid Dawson Creek NEW\, 11000 8th Street\, Dawson Creek\, British Columbia\, V1G 4K6\, Canada
CATEGORIES:H2S Alive
ORGANIZER;CN="Up-Beat First Aid & Safety Training":MAILTO:up-beat@live.ca
END:VEVENT
BEGIN:VEVENT
DTSTART;TZID=America/Dawson_Creek:20250324T083000
DTEND;TZID=America/Dawson_Creek:20250324T170000
DTSTAMP:20260420T085448
CREATED:20250214T220519Z
LAST-MODIFIED:20250314T200906Z
UID:10647-1742805000-1742835600@up-beatfirstaid.ca
SUMMARY:H2S Alive - Dawson Creek
DESCRIPTION:Energy Safety Canada- H2S Alive \nThe aim of this course is to provide all Petroleum Industry workers with the knowledge and skills necessary to recognize and respond to Hydrogen Sulphide (H2S) emergencies. \nPROGRAM CONTENT\nAreas of study will include the following: \n\nH2S properties; initial response strategy\nRespiratory Protective Equipment\nDetection of H2S\nRescue Techniques\nCase Studies\n\nPractical training will be conducted in the following subjects: \n\nSelf-Contained Breathing Apparatus (SCBA)\nSupplied Air Breathing Apparatus (on request)\nGas Detection\nRescue Techniques\n\nDURATION \nEight (8) hours.
URL:https://up-beatfirstaid.ca/event/h2s-alive-dawson-creek-182/
LOCATION:Up-Beat First Aid Dawson Creek NEW\, 11000 8th Street\, Dawson Creek\, British Columbia\, V1G 4K6\, Canada
CATEGORIES:H2S Alive
ORGANIZER;CN="Up-Beat First Aid & Safety Training":MAILTO:up-beat@live.ca
END:VEVENT
BEGIN:VEVENT
DTSTART;TZID=America/Dawson_Creek:20250331T083000
DTEND;TZID=America/Dawson_Creek:20250331T170000
DTSTAMP:20260420T085448
CREATED:20250214T220659Z
LAST-MODIFIED:20250314T201143Z
UID:10653-1743409800-1743440400@up-beatfirstaid.ca
SUMMARY:H2S Alive - Dawson Creek
DESCRIPTION:Energy Safety Canada- H2S Alive \nThe aim of this course is to provide all Petroleum Industry workers with the knowledge and skills necessary to recognize and respond to Hydrogen Sulphide (H2S) emergencies. \nPROGRAM CONTENT\nAreas of study will include the following: \n\nH2S properties; initial response strategy\nRespiratory Protective Equipment\nDetection of H2S\nRescue Techniques\nCase Studies\n\nPractical training will be conducted in the following subjects: \n\nSelf-Contained Breathing Apparatus (SCBA)\nSupplied Air Breathing Apparatus (on request)\nGas Detection\nRescue Techniques\n\nDURATION \nEight (8) hours.
URL:https://up-beatfirstaid.ca/event/h2s-alive-dawson-creek-183/
LOCATION:Up-Beat First Aid Dawson Creek NEW\, 11000 8th Street\, Dawson Creek\, British Columbia\, V1G 4K6\, Canada
CATEGORIES:H2S Alive
ORGANIZER;CN="Up-Beat First Aid & Safety Training":MAILTO:up-beat@live.ca
END:VEVENT
END:VCALENDAR