BEGIN:VCALENDAR
VERSION:2.0
PRODID:-//Up-Beat First Aid &amp; Safety Training Ltd. - ECPv6.15.20//NONSGML v1.0//EN
CALSCALE:GREGORIAN
METHOD:PUBLISH
X-ORIGINAL-URL:https://up-beatfirstaid.ca
X-WR-CALDESC:Events for Up-Beat First Aid &amp; Safety Training Ltd.
REFRESH-INTERVAL;VALUE=DURATION:PT1H
X-Robots-Tag:noindex
X-PUBLISHED-TTL:PT1H
BEGIN:VTIMEZONE
TZID:America/Dawson_Creek
BEGIN:STANDARD
TZOFFSETFROM:-0700
TZOFFSETTO:-0700
TZNAME:MST
DTSTART:20210101T000000
END:STANDARD
END:VTIMEZONE
BEGIN:VEVENT
DTSTART;TZID=America/Dawson_Creek:20230206T083000
DTEND;TZID=America/Dawson_Creek:20230206T170000
DTSTAMP:20260420T195108
CREATED:20230106T225604Z
LAST-MODIFIED:20230203T192913Z
UID:7530-1675672200-1675702800@up-beatfirstaid.ca
SUMMARY:H2S Alive – Dawson Creek
DESCRIPTION:
URL:https://up-beatfirstaid.ca/event/h2s-alive-dawson-creek-111/
LOCATION:Up-Beat First Aid Dawson Creek NEW\, 11000 8th Street\, Dawson Creek\, British Columbia\, V1G 4K6\, Canada
CATEGORIES:H2S Alive
ORGANIZER;CN="Up-Beat First Aid & Safety Training":MAILTO:up-beat@live.ca
END:VEVENT
BEGIN:VEVENT
DTSTART;TZID=America/Dawson_Creek:20230130T083000
DTEND;TZID=America/Dawson_Creek:20230130T170000
DTSTAMP:20260420T195108
CREATED:20221115T203829Z
LAST-MODIFIED:20230123T182434Z
UID:7334-1675067400-1675098000@up-beatfirstaid.ca
SUMMARY:H2S Alive – Dawson Creek
DESCRIPTION:
URL:https://up-beatfirstaid.ca/event/h2s-alive-dawson-creek-110/
LOCATION:Up-Beat First Aid Dawson Creek NEW\, 11000 8th Street\, Dawson Creek\, British Columbia\, V1G 4K6\, Canada
CATEGORIES:H2S Alive
ORGANIZER;CN="Up-Beat First Aid & Safety Training":MAILTO:up-beat@live.ca
END:VEVENT
BEGIN:VEVENT
DTSTART;TZID=America/Dawson_Creek:20230123T083000
DTEND;TZID=America/Dawson_Creek:20230123T170000
DTSTAMP:20260420T195108
CREATED:20221115T203742Z
LAST-MODIFIED:20230120T231019Z
UID:7331-1674462600-1674493200@up-beatfirstaid.ca
SUMMARY:H2S Alive – Dawson Creek
DESCRIPTION:
URL:https://up-beatfirstaid.ca/event/h2s-alive-dawson-creek-109/
LOCATION:Up-Beat First Aid Dawson Creek NEW\, 11000 8th Street\, Dawson Creek\, British Columbia\, V1G 4K6\, Canada
CATEGORIES:H2S Alive
ORGANIZER;CN="Up-Beat First Aid & Safety Training":MAILTO:up-beat@live.ca
END:VEVENT
BEGIN:VEVENT
DTSTART;TZID=America/Dawson_Creek:20230116T083000
DTEND;TZID=America/Dawson_Creek:20230116T170000
DTSTAMP:20260420T195108
CREATED:20221115T203649Z
LAST-MODIFIED:20230113T223234Z
UID:7328-1673857800-1673888400@up-beatfirstaid.ca
SUMMARY:H2S Alive – Dawson Creek
DESCRIPTION:
URL:https://up-beatfirstaid.ca/event/h2s-alive-dawson-creek-106/
LOCATION:Up-Beat First Aid Dawson Creek NEW\, 11000 8th Street\, Dawson Creek\, British Columbia\, V1G 4K6\, Canada
CATEGORIES:H2S Alive
ORGANIZER;CN="Up-Beat First Aid & Safety Training":MAILTO:up-beat@live.ca
END:VEVENT
BEGIN:VEVENT
DTSTART;TZID=America/Dawson_Creek:20230109T083000
DTEND;TZID=America/Dawson_Creek:20230109T170000
DTSTAMP:20260420T195108
CREATED:20221115T203548Z
LAST-MODIFIED:20221115T203548Z
UID:7325-1673253000-1673283600@up-beatfirstaid.ca
SUMMARY:H2S Alive – Dawson Creek
DESCRIPTION:
URL:https://up-beatfirstaid.ca/event/h2s-alive-dawson-creek-105/
LOCATION:Up-Beat First Aid Dawson Creek NEW\, 11000 8th Street\, Dawson Creek\, British Columbia\, V1G 4K6\, Canada
CATEGORIES:H2S Alive
ORGANIZER;CN="Up-Beat First Aid & Safety Training":MAILTO:up-beat@live.ca
END:VEVENT
BEGIN:VEVENT
DTSTART;TZID=America/Dawson_Creek:20230102T083000
DTEND;TZID=America/Dawson_Creek:20230102T170000
DTSTAMP:20260420T195108
CREATED:20221115T203453Z
LAST-MODIFIED:20221221T204319Z
UID:7322-1672648200-1672678800@up-beatfirstaid.ca
SUMMARY:H2S Alive – Dawson Creek
DESCRIPTION:
URL:https://up-beatfirstaid.ca/event/h2s-alive-dawson-creek-102/
LOCATION:Up-Beat First Aid Dawson Creek NEW\, 11000 8th Street\, Dawson Creek\, British Columbia\, V1G 4K6\, Canada
CATEGORIES:H2S Alive
ORGANIZER;CN="Up-Beat First Aid & Safety Training":MAILTO:up-beat@live.ca
END:VEVENT
BEGIN:VEVENT
DTSTART;TZID=America/Dawson_Creek:20221219T083000
DTEND;TZID=America/Dawson_Creek:20221219T170000
DTSTAMP:20260420T195108
CREATED:20221020T221556Z
LAST-MODIFIED:20221216T220732Z
UID:7237-1671438600-1671469200@up-beatfirstaid.ca
SUMMARY:H2S Alive – Dawson Creek
DESCRIPTION:
URL:https://up-beatfirstaid.ca/event/h2s-alive-dawson-creek-108/
LOCATION:Up-Beat First Aid Dawson Creek NEW\, 11000 8th Street\, Dawson Creek\, British Columbia\, V1G 4K6\, Canada
CATEGORIES:H2S Alive
ORGANIZER;CN="Up-Beat First Aid & Safety Training":MAILTO:up-beat@live.ca
END:VEVENT
BEGIN:VEVENT
DTSTART;TZID=America/Dawson_Creek:20221212T083000
DTEND;TZID=America/Dawson_Creek:20221212T170000
DTSTAMP:20260420T195108
CREATED:20221020T221505Z
LAST-MODIFIED:20221123T191451Z
UID:7234-1670833800-1670864400@up-beatfirstaid.ca
SUMMARY:H2S Alive – Dawson Creek
DESCRIPTION:
URL:https://up-beatfirstaid.ca/event/h2s-alive-dawson-creek-107/
LOCATION:Up-Beat First Aid Dawson Creek NEW\, 11000 8th Street\, Dawson Creek\, British Columbia\, V1G 4K6\, Canada
CATEGORIES:H2S Alive
ORGANIZER;CN="Up-Beat First Aid & Safety Training":MAILTO:up-beat@live.ca
END:VEVENT
BEGIN:VEVENT
DTSTART;TZID=America/Dawson_Creek:20221208T083000
DTEND;TZID=America/Dawson_Creek:20221208T170000
DTSTAMP:20260420T195108
CREATED:20221020T221821Z
LAST-MODIFIED:20221205T163941Z
UID:7240-1670488200-1670518800@up-beatfirstaid.ca
SUMMARY:H2S Alive – Chetwynd
DESCRIPTION:
URL:https://up-beatfirstaid.ca/event/h2s-alive-chetwynd-44/
LOCATION:Up-Beat First Aid Chetwynd\, 4717 – 51 St\, Chetwynd\, British Columbia\, V0C 1J0\, Canada
CATEGORIES:H2S Alive
ORGANIZER;CN="Up-Beat First Aid & Safety Training":MAILTO:up-beat@live.ca
END:VEVENT
BEGIN:VEVENT
DTSTART;TZID=America/Dawson_Creek:20221114T083000
DTEND;TZID=America/Dawson_Creek:20221114T170000
DTSTAMP:20260420T195108
CREATED:20220923T183258Z
LAST-MODIFIED:20221110T223734Z
UID:7144-1668414600-1668445200@up-beatfirstaid.ca
SUMMARY:H2S Alive – Dawson Creek
DESCRIPTION:
URL:https://up-beatfirstaid.ca/event/h2s-alive-dawson-creek-103/
LOCATION:Up-Beat First Aid Dawson Creek NEW\, 11000 8th Street\, Dawson Creek\, British Columbia\, V1G 4K6\, Canada
CATEGORIES:H2S Alive
ORGANIZER;CN="Up-Beat First Aid & Safety Training":MAILTO:up-beat@live.ca
END:VEVENT
BEGIN:VEVENT
DTSTART;TZID=America/Dawson_Creek:20221107T083000
DTEND;TZID=America/Dawson_Creek:20221107T170000
DTSTAMP:20260420T195108
CREATED:20220923T182849Z
LAST-MODIFIED:20221101T192002Z
UID:7135-1667809800-1667840400@up-beatfirstaid.ca
SUMMARY:H2S Alive – Dawson Creek
DESCRIPTION:
URL:https://up-beatfirstaid.ca/event/h2s-alive-dawson-creek-98/
LOCATION:Up-Beat First Aid Dawson Creek NEW\, 11000 8th Street\, Dawson Creek\, British Columbia\, V1G 4K6\, Canada
CATEGORIES:H2S Alive
ORGANIZER;CN="Up-Beat First Aid & Safety Training":MAILTO:up-beat@live.ca
END:VEVENT
BEGIN:VEVENT
DTSTART;TZID=America/Dawson_Creek:20221031T083000
DTEND;TZID=America/Dawson_Creek:20221031T170000
DTSTAMP:20260420T195108
CREATED:20220822T182415Z
LAST-MODIFIED:20220822T182426Z
UID:6954-1667205000-1667235600@up-beatfirstaid.ca
SUMMARY:H2S Alive – Dawson Creek
DESCRIPTION:
URL:https://up-beatfirstaid.ca/event/h2s-alive-dawson-creek-101/
LOCATION:Up-Beat First Aid Dawson Creek NEW\, 11000 8th Street\, Dawson Creek\, British Columbia\, V1G 4K6\, Canada
CATEGORIES:H2S Alive
ORGANIZER;CN="Up-Beat First Aid & Safety Training":MAILTO:up-beat@live.ca
END:VEVENT
BEGIN:VEVENT
DTSTART;TZID=America/Dawson_Creek:20221027T083000
DTEND;TZID=America/Dawson_Creek:20221027T170000
DTSTAMP:20260420T195108
CREATED:20220822T222204Z
LAST-MODIFIED:20221026T173951Z
UID:6983-1666859400-1666890000@up-beatfirstaid.ca
SUMMARY:H2S Alive – Chetwynd
DESCRIPTION:
URL:https://up-beatfirstaid.ca/event/h2s-alive-chetwynd-43/
LOCATION:Up-Beat First Aid Chetwynd\, 4717 – 51 St\, Chetwynd\, British Columbia\, V0C 1J0\, Canada
CATEGORIES:H2S Alive
ORGANIZER;CN="Up-Beat First Aid & Safety Training":MAILTO:up-beat@live.ca
END:VEVENT
BEGIN:VEVENT
DTSTART;TZID=America/Dawson_Creek:20221017T083000
DTEND;TZID=America/Dawson_Creek:20221017T170000
DTSTAMP:20260420T195108
CREATED:20220822T182308Z
LAST-MODIFIED:20221014T224915Z
UID:6951-1665995400-1666026000@up-beatfirstaid.ca
SUMMARY:H2S Alive – Dawson Creek
DESCRIPTION:
URL:https://up-beatfirstaid.ca/event/h2s-alive-dawson-creek-100/
LOCATION:Up-Beat First Aid Dawson Creek NEW\, 11000 8th Street\, Dawson Creek\, British Columbia\, V1G 4K6\, Canada
CATEGORIES:H2S Alive
ORGANIZER;CN="Up-Beat First Aid & Safety Training":MAILTO:up-beat@live.ca
END:VEVENT
BEGIN:VEVENT
DTSTART;TZID=America/Dawson_Creek:20221003T083000
DTEND;TZID=America/Dawson_Creek:20221003T170000
DTSTAMP:20260420T195108
CREATED:20220822T172859Z
LAST-MODIFIED:20220929T221941Z
UID:6908-1664785800-1664816400@up-beatfirstaid.ca
SUMMARY:H2S Alive - Dawson Creek
DESCRIPTION:
URL:https://up-beatfirstaid.ca/event/h2s-alive-dawson-creek-99/
LOCATION:Up-Beat First Aid Dawson Creek NEW\, 11000 8th Street\, Dawson Creek\, British Columbia\, V1G 4K6\, Canada
CATEGORIES:H2S Alive
ORGANIZER;CN="Up-Beat First Aid & Safety Training":MAILTO:up-beat@live.ca
END:VEVENT
BEGIN:VEVENT
DTSTART;TZID=America/Dawson_Creek:20220926T083000
DTEND;TZID=America/Dawson_Creek:20220926T170000
DTSTAMP:20260420T195108
CREATED:20220707T221304Z
LAST-MODIFIED:20220923T223711Z
UID:6596-1664181000-1664211600@up-beatfirstaid.ca
SUMMARY:H2S Alive - Dawson Creek
DESCRIPTION:
URL:https://up-beatfirstaid.ca/event/h2s-alive-dawson-creek-96/
LOCATION:Up-Beat First Aid Dawson Creek NEW\, 11000 8th Street\, Dawson Creek\, British Columbia\, V1G 4K6\, Canada
CATEGORIES:H2S Alive
ORGANIZER;CN="Up-Beat First Aid & Safety Training":MAILTO:up-beat@live.ca
END:VEVENT
BEGIN:VEVENT
DTSTART;TZID=America/Dawson_Creek:20220922T083000
DTEND;TZID=America/Dawson_Creek:20220922T170000
DTSTAMP:20260420T195108
CREATED:20220726T162259Z
LAST-MODIFIED:20220726T162259Z
UID:6789-1663835400-1663866000@up-beatfirstaid.ca
SUMMARY:H2S Alive - Chetwynd
DESCRIPTION:
URL:https://up-beatfirstaid.ca/event/h2s-alive-chetwynd-45/
LOCATION:Up-Beat First Aid Chetwynd\, 4717 – 51 St\, Chetwynd\, British Columbia\, V0C 1J0\, Canada
CATEGORIES:H2S Alive
ORGANIZER;CN="Up-Beat First Aid & Safety Training":MAILTO:up-beat@live.ca
END:VEVENT
BEGIN:VEVENT
DTSTART;TZID=America/Dawson_Creek:20220919T083000
DTEND;TZID=America/Dawson_Creek:20220919T170000
DTSTAMP:20260420T195109
CREATED:20220707T221843Z
LAST-MODIFIED:20220916T153218Z
UID:6600-1663576200-1663606800@up-beatfirstaid.ca
SUMMARY:H2S Alive - Dawson Creek
DESCRIPTION:
URL:https://up-beatfirstaid.ca/event/h2s-alive-dawson-creek-97/
LOCATION:Up-Beat First Aid Dawson Creek NEW\, 11000 8th Street\, Dawson Creek\, British Columbia\, V1G 4K6\, Canada
CATEGORIES:H2S Alive
ORGANIZER;CN="Up-Beat First Aid & Safety Training":MAILTO:up-beat@live.ca
END:VEVENT
BEGIN:VEVENT
DTSTART;TZID=America/Dawson_Creek:20220912T083000
DTEND;TZID=America/Dawson_Creek:20220912T170000
DTSTAMP:20260420T195109
CREATED:20220707T220849Z
LAST-MODIFIED:20220909T180333Z
UID:6593-1662971400-1663002000@up-beatfirstaid.ca
SUMMARY:H2S Alive - Dawson Creek
DESCRIPTION:
URL:https://up-beatfirstaid.ca/event/h2s-alive-dawson-creek-85/
LOCATION:Up-Beat First Aid Dawson Creek NEW\, 11000 8th Street\, Dawson Creek\, British Columbia\, V1G 4K6\, Canada
CATEGORIES:H2S Alive
ORGANIZER;CN="Up-Beat First Aid & Safety Training":MAILTO:up-beat@live.ca
END:VEVENT
BEGIN:VEVENT
DTSTART;TZID=America/Dawson_Creek:20220829T083000
DTEND;TZID=America/Dawson_Creek:20220829T170000
DTSTAMP:20260420T195109
CREATED:20220601T205452Z
LAST-MODIFIED:20220826T224028Z
UID:6438-1661761800-1661792400@up-beatfirstaid.ca
SUMMARY:H2S Alive- Dawson Creek
DESCRIPTION:
URL:https://up-beatfirstaid.ca/event/h2s-alive-dawson-creek-95/
LOCATION:Up-Beat First Aid Dawson Creek NEW\, 11000 8th Street\, Dawson Creek\, British Columbia\, V1G 4K6\, Canada
CATEGORIES:H2S Alive
ORGANIZER;CN="Up-Beat First Aid & Safety Training":MAILTO:up-beat@live.ca
END:VEVENT
BEGIN:VEVENT
DTSTART;TZID=America/Dawson_Creek:20220822T083000
DTEND;TZID=America/Dawson_Creek:20220822T170000
DTSTAMP:20260420T195109
CREATED:20220601T205353Z
LAST-MODIFIED:20220818T180924Z
UID:6435-1661157000-1661187600@up-beatfirstaid.ca
SUMMARY:H2S Alive- Dawson Creek
DESCRIPTION:
URL:https://up-beatfirstaid.ca/event/h2s-alive-dawson-creek-94/
LOCATION:Up-Beat First Aid Dawson Creek NEW\, 11000 8th Street\, Dawson Creek\, British Columbia\, V1G 4K6\, Canada
CATEGORIES:H2S Alive
ORGANIZER;CN="Up-Beat First Aid & Safety Training":MAILTO:up-beat@live.ca
END:VEVENT
BEGIN:VEVENT
DTSTART;TZID=America/Dawson_Creek:20220815T083000
DTEND;TZID=America/Dawson_Creek:20220815T170000
DTSTAMP:20260420T195109
CREATED:20220601T205229Z
LAST-MODIFIED:20220812T180753Z
UID:6432-1660552200-1660582800@up-beatfirstaid.ca
SUMMARY:H2S Alive- Dawson Creek
DESCRIPTION:
URL:https://up-beatfirstaid.ca/event/h2s-alive-dawson-creek-93/
LOCATION:Up-Beat First Aid Dawson Creek NEW\, 11000 8th Street\, Dawson Creek\, British Columbia\, V1G 4K6\, Canada
CATEGORIES:H2S Alive
ORGANIZER;CN="Up-Beat First Aid & Safety Training":MAILTO:up-beat@live.ca
END:VEVENT
BEGIN:VEVENT
DTSTART;TZID=America/Dawson_Creek:20220808T083000
DTEND;TZID=America/Dawson_Creek:20220808T170000
DTSTAMP:20260420T195109
CREATED:20220601T205057Z
LAST-MODIFIED:20220728T201914Z
UID:6429-1659947400-1659978000@up-beatfirstaid.ca
SUMMARY:H2S Alive- Dawson Creek
DESCRIPTION:
URL:https://up-beatfirstaid.ca/event/h2s-alive-dawson-creek-92/
LOCATION:Up-Beat First Aid Dawson Creek NEW\, 11000 8th Street\, Dawson Creek\, British Columbia\, V1G 4K6\, Canada
CATEGORIES:H2S Alive
ORGANIZER;CN="Up-Beat First Aid & Safety Training":MAILTO:up-beat@live.ca
END:VEVENT
BEGIN:VEVENT
DTSTART;TZID=America/Dawson_Creek:20220725T083000
DTEND;TZID=America/Dawson_Creek:20220725T170000
DTSTAMP:20260420T195109
CREATED:20220503T222256Z
LAST-MODIFIED:20220722T202136Z
UID:6361-1658737800-1658768400@up-beatfirstaid.ca
SUMMARY:H2S Alive- Dawson Creek
DESCRIPTION:
URL:https://up-beatfirstaid.ca/event/h2s-alive-dawson-creek-91/
LOCATION:Up-Beat First Aid Dawson Creek NEW\, 11000 8th Street\, Dawson Creek\, British Columbia\, V1G 4K6\, Canada
CATEGORIES:H2S Alive
ORGANIZER;CN="Up-Beat First Aid & Safety Training":MAILTO:up-beat@live.ca
END:VEVENT
BEGIN:VEVENT
DTSTART;TZID=America/Dawson_Creek:20220718T083000
DTEND;TZID=America/Dawson_Creek:20220718T170000
DTSTAMP:20260420T195109
CREATED:20220503T221437Z
LAST-MODIFIED:20220601T203106Z
UID:6349-1658133000-1658163600@up-beatfirstaid.ca
SUMMARY:H2S Alive- Dawson Creek
DESCRIPTION:
URL:https://up-beatfirstaid.ca/event/h2s-alive-dawson-creek-90/
LOCATION:Up-Beat First Aid Dawson Creek NEW\, 11000 8th Street\, Dawson Creek\, British Columbia\, V1G 4K6\, Canada
CATEGORIES:H2S Alive
ORGANIZER;CN="Up-Beat First Aid & Safety Training":MAILTO:up-beat@live.ca
END:VEVENT
BEGIN:VEVENT
DTSTART;TZID=America/Dawson_Creek:20220714T083000
DTEND;TZID=America/Dawson_Creek:20220714T170000
DTSTAMP:20260420T195109
CREATED:20220615T153644Z
LAST-MODIFIED:20220708T195643Z
UID:6511-1657787400-1657818000@up-beatfirstaid.ca
SUMMARY:H2S Alive - Chetwynd
DESCRIPTION:
URL:https://up-beatfirstaid.ca/event/h2s-alive-chetwynd-42/
LOCATION:Up-Beat First Aid Chetwynd\, 4717 – 51 St\, Chetwynd\, British Columbia\, V0C 1J0\, Canada
CATEGORIES:H2S Alive
ORGANIZER;CN="Up-Beat First Aid & Safety Training":MAILTO:up-beat@live.ca
END:VEVENT
BEGIN:VEVENT
DTSTART;TZID=America/Dawson_Creek:20220711T083000
DTEND;TZID=America/Dawson_Creek:20220711T170000
DTSTAMP:20260420T195109
CREATED:20220503T220707Z
LAST-MODIFIED:20220708T195440Z
UID:6337-1657528200-1657558800@up-beatfirstaid.ca
SUMMARY:H2S Alive- Dawson Creek
DESCRIPTION:
URL:https://up-beatfirstaid.ca/event/h2s-alive-dawson-creek-89/
LOCATION:Up-Beat First Aid Dawson Creek NEW\, 11000 8th Street\, Dawson Creek\, British Columbia\, V1G 4K6\, Canada
CATEGORIES:H2S Alive
ORGANIZER;CN="Up-Beat First Aid & Safety Training":MAILTO:up-beat@live.ca
END:VEVENT
BEGIN:VEVENT
DTSTART;TZID=America/Dawson_Creek:20220704T083000
DTEND;TZID=America/Dawson_Creek:20220704T170000
DTSTAMP:20260420T195109
CREATED:20220503T214605Z
LAST-MODIFIED:20220627T155305Z
UID:6325-1656923400-1656954000@up-beatfirstaid.ca
SUMMARY:H2S Alive- Dawson Creek
DESCRIPTION:
URL:https://up-beatfirstaid.ca/event/h2s-alive-dawson-creek-88/
LOCATION:Up-Beat First Aid Dawson Creek NEW\, 11000 8th Street\, Dawson Creek\, British Columbia\, V1G 4K6\, Canada
CATEGORIES:H2S Alive
ORGANIZER;CN="Up-Beat First Aid & Safety Training":MAILTO:up-beat@live.ca
END:VEVENT
BEGIN:VEVENT
DTSTART;TZID=America/Dawson_Creek:20220627T083000
DTEND;TZID=America/Dawson_Creek:20220627T170000
DTSTAMP:20260420T195109
CREATED:20220503T213731Z
LAST-MODIFIED:20220624T160136Z
UID:6313-1656318600-1656349200@up-beatfirstaid.ca
SUMMARY:H2S Alive -Dawson Creek
DESCRIPTION:
URL:https://up-beatfirstaid.ca/event/h2s-alive-dawson-creek-87/
LOCATION:Up-Beat First Aid Dawson Creek NEW\, 11000 8th Street\, Dawson Creek\, British Columbia\, V1G 4K6\, Canada
CATEGORIES:H2S Alive
ORGANIZER;CN="Up-Beat First Aid & Safety Training":MAILTO:up-beat@live.ca
END:VEVENT
BEGIN:VEVENT
DTSTART;TZID=America/Dawson_Creek:20220623T083000
DTEND;TZID=America/Dawson_Creek:20220623T170000
DTSTAMP:20260420T195109
CREATED:20220518T220357Z
LAST-MODIFIED:20220610T182622Z
UID:6392-1655973000-1656003600@up-beatfirstaid.ca
SUMMARY:H2S Alive - Chetwynd
DESCRIPTION:
URL:https://up-beatfirstaid.ca/event/h2s-alive-chetwynd-41/
LOCATION:Up-Beat First Aid Chetwynd\, 4717 – 51 St\, Chetwynd\, British Columbia\, V0C 1J0\, Canada
CATEGORIES:H2S Alive
ORGANIZER;CN="Up-Beat First Aid & Safety Training":MAILTO:up-beat@live.ca
END:VEVENT
END:VCALENDAR