BEGIN:VCALENDAR
VERSION:2.0
PRODID:-//Up-Beat First Aid &amp; Safety Training Ltd. - ECPv6.15.20//NONSGML v1.0//EN
CALSCALE:GREGORIAN
METHOD:PUBLISH
X-WR-CALNAME:Up-Beat First Aid &amp; Safety Training Ltd.
X-ORIGINAL-URL:https://up-beatfirstaid.ca
X-WR-CALDESC:Events for Up-Beat First Aid &amp; Safety Training Ltd.
REFRESH-INTERVAL;VALUE=DURATION:PT1H
X-Robots-Tag:noindex
X-PUBLISHED-TTL:PT1H
BEGIN:VTIMEZONE
TZID:America/Dawson_Creek
BEGIN:STANDARD
TZOFFSETFROM:-0700
TZOFFSETTO:-0700
TZNAME:MST
DTSTART:20200101T000000
END:STANDARD
END:VTIMEZONE
BEGIN:VEVENT
DTSTART;TZID=America/Dawson_Creek:20220620T083000
DTEND;TZID=America/Dawson_Creek:20220620T170000
DTSTAMP:20260421T001207
CREATED:20220503T213555Z
LAST-MODIFIED:20220616T204335Z
UID:6310-1655713800-1655744400@up-beatfirstaid.ca
SUMMARY:H2S Alive -Dawson Creek
DESCRIPTION:
URL:https://up-beatfirstaid.ca/event/h2s-alive-dawson-creek-86/
LOCATION:Up-Beat First Aid Dawson Creek NEW\, 11000 8th Street\, Dawson Creek\, British Columbia\, V1G 4K6\, Canada
CATEGORIES:H2S Alive
ORGANIZER;CN="Up-Beat First Aid & Safety Training":MAILTO:up-beat@live.ca
END:VEVENT
BEGIN:VEVENT
DTSTART;TZID=America/Dawson_Creek:20220609T083000
DTEND;TZID=America/Dawson_Creek:20220609T170000
DTSTAMP:20260421T001207
CREATED:20220518T215216Z
LAST-MODIFIED:20220608T214659Z
UID:6387-1654763400-1654794000@up-beatfirstaid.ca
SUMMARY:H2S Alive - Chetwynd
DESCRIPTION:
URL:https://up-beatfirstaid.ca/event/h2s-alive-chetwynd-40/
LOCATION:Up-Beat First Aid Chetwynd\, 4717 – 51 St\, Chetwynd\, British Columbia\, V0C 1J0\, Canada
CATEGORIES:H2S Alive
ORGANIZER;CN="Up-Beat First Aid & Safety Training":MAILTO:up-beat@live.ca
END:VEVENT
BEGIN:VEVENT
DTSTART;TZID=America/Dawson_Creek:20220606T083000
DTEND;TZID=America/Dawson_Creek:20220606T170000
DTSTAMP:20260421T001207
CREATED:20220502T160700Z
LAST-MODIFIED:20220603T205205Z
UID:6277-1654504200-1654534800@up-beatfirstaid.ca
SUMMARY:H2S Alive -Dawson Creek
DESCRIPTION:
URL:https://up-beatfirstaid.ca/event/h2s-alive-dawson-creek-84/
LOCATION:Up-Beat First Aid Dawson Creek NEW\, 11000 8th Street\, Dawson Creek\, British Columbia\, V1G 4K6\, Canada
CATEGORIES:H2S Alive
ORGANIZER;CN="Up-Beat First Aid & Safety Training":MAILTO:up-beat@live.ca
END:VEVENT
BEGIN:VEVENT
DTSTART;TZID=America/Dawson_Creek:20220530T083000
DTEND;TZID=America/Dawson_Creek:20220530T163000
DTSTAMP:20260421T001207
CREATED:20220329T203346Z
LAST-MODIFIED:20220503T211853Z
UID:6028-1653899400-1653928200@up-beatfirstaid.ca
SUMMARY:H2S Alive - Dawson Creek
DESCRIPTION:
URL:https://up-beatfirstaid.ca/event/h2s-alive-dawson-creek-83/
LOCATION:Up-Beat First Aid Dawson Creek NEW\, 11000 8th Street\, Dawson Creek\, British Columbia\, V1G 4K6\, Canada
CATEGORIES:H2S Alive
ORGANIZER;CN="Up-Beat First Aid & Safety Training":MAILTO:up-beat@live.ca
END:VEVENT
BEGIN:VEVENT
DTSTART;TZID=America/Dawson_Creek:20220516T083000
DTEND;TZID=America/Dawson_Creek:20220516T163000
DTSTAMP:20260421T001207
CREATED:20220329T203200Z
LAST-MODIFIED:20220510T193441Z
UID:6025-1652689800-1652718600@up-beatfirstaid.ca
SUMMARY:H2S Alive - Dawson Creek
DESCRIPTION:
URL:https://up-beatfirstaid.ca/event/h2s-alive-dawson-creek-82/
LOCATION:Up-Beat First Aid Dawson Creek NEW\, 11000 8th Street\, Dawson Creek\, British Columbia\, V1G 4K6\, Canada
CATEGORIES:H2S Alive
ORGANIZER;CN="Up-Beat First Aid & Safety Training":MAILTO:up-beat@live.ca
END:VEVENT
BEGIN:VEVENT
DTSTART;TZID=America/Dawson_Creek:20220509T083000
DTEND;TZID=America/Dawson_Creek:20220509T163000
DTSTAMP:20260421T001207
CREATED:20220329T202952Z
LAST-MODIFIED:20220329T202952Z
UID:6022-1652085000-1652113800@up-beatfirstaid.ca
SUMMARY:H2S Alive - Dawson Creek
DESCRIPTION:
URL:https://up-beatfirstaid.ca/event/h2s-alive-dawson-creek-80/
LOCATION:Up-Beat First Aid Dawson Creek NEW\, 11000 8th Street\, Dawson Creek\, British Columbia\, V1G 4K6\, Canada
CATEGORIES:H2S Alive
ORGANIZER;CN="Up-Beat First Aid & Safety Training":MAILTO:up-beat@live.ca
END:VEVENT
BEGIN:VEVENT
DTSTART;TZID=America/Dawson_Creek:20220505T083000
DTEND;TZID=America/Dawson_Creek:20220505T170000
DTSTAMP:20260421T001207
CREATED:20220329T211640Z
LAST-MODIFIED:20220425T231444Z
UID:6066-1651739400-1651770000@up-beatfirstaid.ca
SUMMARY:H2S Alive - Chetwynd
DESCRIPTION:
URL:https://up-beatfirstaid.ca/event/h2s-alive-chetwynd-39/
LOCATION:Up-Beat First Aid Chetwynd\, 4717 – 51 St\, Chetwynd\, British Columbia\, V0C 1J0\, Canada
CATEGORIES:H2S Alive
ORGANIZER;CN="Up-Beat First Aid & Safety Training":MAILTO:up-beat@live.ca
END:VEVENT
BEGIN:VEVENT
DTSTART;TZID=America/Dawson_Creek:20220425T083000
DTEND;TZID=America/Dawson_Creek:20220425T083000
DTSTAMP:20260421T001207
CREATED:20220308T205749Z
LAST-MODIFIED:20220308T205749Z
UID:5649-1650875400-1650875400@up-beatfirstaid.ca
SUMMARY:H2S Alive - Dawson Creek
DESCRIPTION:
URL:https://up-beatfirstaid.ca/event/h2s-alive-dawson-creek-81/
LOCATION:Up-Beat First Aid Dawson Creek NEW\, 11000 8th Street\, Dawson Creek\, British Columbia\, V1G 4K6\, Canada
CATEGORIES:H2S Alive
ORGANIZER;CN="Up-Beat First Aid & Safety Training":MAILTO:up-beat@live.ca
END:VEVENT
BEGIN:VEVENT
DTSTART;TZID=America/Dawson_Creek:20220421T080000
DTEND;TZID=America/Dawson_Creek:20220421T170000
DTSTAMP:20260421T001207
CREATED:20220308T214757Z
LAST-MODIFIED:20220420T193640Z
UID:5685-1650528000-1650560400@up-beatfirstaid.ca
SUMMARY:H2S Alive - Chetwynd
DESCRIPTION:
URL:https://up-beatfirstaid.ca/event/h2s-alive-chetwynd-37/
LOCATION:Up-Beat First Aid Chetwynd\, 4717 – 51 St\, Chetwynd\, British Columbia\, V0C 1J0\, Canada
CATEGORIES:H2S Alive
ORGANIZER;CN="Up-Beat First Aid & Safety Training":MAILTO:up-beat@live.ca
END:VEVENT
BEGIN:VEVENT
DTSTART;TZID=America/Dawson_Creek:20220411T083000
DTEND;TZID=America/Dawson_Creek:20220411T083000
DTSTAMP:20260421T001207
CREATED:20220308T205626Z
LAST-MODIFIED:20220308T205626Z
UID:5643-1649665800-1649665800@up-beatfirstaid.ca
SUMMARY:H2S Alive - Dawson Creek
DESCRIPTION:
URL:https://up-beatfirstaid.ca/event/h2s-alive-dawson-creek-79/
LOCATION:Up-Beat First Aid Dawson Creek NEW\, 11000 8th Street\, Dawson Creek\, British Columbia\, V1G 4K6\, Canada
CATEGORIES:H2S Alive
ORGANIZER;CN="Up-Beat First Aid & Safety Training":MAILTO:up-beat@live.ca
END:VEVENT
BEGIN:VEVENT
DTSTART;TZID=America/Dawson_Creek:20220404T083000
DTEND;TZID=America/Dawson_Creek:20220404T083000
DTSTAMP:20260421T001207
CREATED:20220308T205536Z
LAST-MODIFIED:20220308T205536Z
UID:5640-1649061000-1649061000@up-beatfirstaid.ca
SUMMARY:H2S Alive - Dawson Creek
DESCRIPTION:
URL:https://up-beatfirstaid.ca/event/h2s-alive-dawson-creek-78/
LOCATION:Up-Beat First Aid Dawson Creek NEW\, 11000 8th Street\, Dawson Creek\, British Columbia\, V1G 4K6\, Canada
CATEGORIES:H2S Alive
ORGANIZER;CN="Up-Beat First Aid & Safety Training":MAILTO:up-beat@live.ca
END:VEVENT
BEGIN:VEVENT
DTSTART;TZID=America/Dawson_Creek:20220328T083000
DTEND;TZID=America/Dawson_Creek:20220328T170000
DTSTAMP:20260421T001207
CREATED:20220126T200951Z
LAST-MODIFIED:20220307T211712Z
UID:4795-1648456200-1648486800@up-beatfirstaid.ca
SUMMARY:H2S Alive- Dawson Creek
DESCRIPTION:
URL:https://up-beatfirstaid.ca/event/h2s-alive-dawson-creek-77/
LOCATION:Up-Beat First Aid Dawson Creek NEW\, 11000 8th Street\, Dawson Creek\, British Columbia\, V1G 4K6\, Canada
CATEGORIES:H2S Alive
ORGANIZER;CN="Up-Beat First Aid & Safety Training":MAILTO:up-beat@live.ca
END:VEVENT
BEGIN:VEVENT
DTSTART;TZID=America/Dawson_Creek:20220324T083000
DTEND;TZID=America/Dawson_Creek:20220324T170000
DTSTAMP:20260421T001207
CREATED:20220223T190626Z
LAST-MODIFIED:20220322T203458Z
UID:5346-1648110600-1648141200@up-beatfirstaid.ca
SUMMARY:H2S alive - Chetwynd
DESCRIPTION:
URL:https://up-beatfirstaid.ca/event/h2s-alive-chetwynd-38/
LOCATION:Up-Beat First Aid Chetwynd\, 4717 – 51 St\, Chetwynd\, British Columbia\, V0C 1J0\, Canada
CATEGORIES:H2S Alive
ORGANIZER;CN="Up-Beat First Aid & Safety Training":MAILTO:up-beat@live.ca
END:VEVENT
BEGIN:VEVENT
DTSTART;TZID=America/Dawson_Creek:20220321T083000
DTEND;TZID=America/Dawson_Creek:20220321T170000
DTSTAMP:20260421T001207
CREATED:20220126T200900Z
LAST-MODIFIED:20220317T210416Z
UID:4792-1647851400-1647882000@up-beatfirstaid.ca
SUMMARY:H2S Alive- Dawson Creek
DESCRIPTION:
URL:https://up-beatfirstaid.ca/event/h2s-alive-dawson-creek-76/
LOCATION:Up-Beat First Aid Dawson Creek NEW\, 11000 8th Street\, Dawson Creek\, British Columbia\, V1G 4K6\, Canada
CATEGORIES:H2S Alive
ORGANIZER;CN="Up-Beat First Aid & Safety Training":MAILTO:up-beat@live.ca
END:VEVENT
BEGIN:VEVENT
DTSTART;TZID=America/Dawson_Creek:20220314T083000
DTEND;TZID=America/Dawson_Creek:20220314T170000
DTSTAMP:20260421T001207
CREATED:20220126T200532Z
LAST-MODIFIED:20220211T162711Z
UID:4789-1647246600-1647277200@up-beatfirstaid.ca
SUMMARY:H2S Alive- Dawson Creek
DESCRIPTION:
URL:https://up-beatfirstaid.ca/event/h2s-alive-dawson-creek-75/
LOCATION:Up-Beat First Aid Dawson Creek NEW\, 11000 8th Street\, Dawson Creek\, British Columbia\, V1G 4K6\, Canada
CATEGORIES:H2S Alive
ORGANIZER;CN="Up-Beat First Aid & Safety Training":MAILTO:up-beat@live.ca
END:VEVENT
BEGIN:VEVENT
DTSTART;TZID=America/Dawson_Creek:20220310T083000
DTEND;TZID=America/Dawson_Creek:20220310T170000
DTSTAMP:20260421T001207
CREATED:20220215T231626Z
LAST-MODIFIED:20220307T182730Z
UID:5216-1646901000-1646931600@up-beatfirstaid.ca
SUMMARY:H2S Alive - Dawson Creek
DESCRIPTION:
URL:https://up-beatfirstaid.ca/event/fall-protection-2/
LOCATION:Up-Beat First Aid Dawson Creek NEW\, 11000 8th Street\, Dawson Creek\, British Columbia\, V1G 4K6\, Canada
CATEGORIES:H2S Alive
ORGANIZER;CN="Up-Beat First Aid & Safety Training":MAILTO:up-beat@live.ca
END:VEVENT
BEGIN:VEVENT
DTSTART;TZID=America/Dawson_Creek:20220307T083000
DTEND;TZID=America/Dawson_Creek:20220307T170000
DTSTAMP:20260421T001207
CREATED:20220126T200442Z
LAST-MODIFIED:20220211T162447Z
UID:4786-1646641800-1646672400@up-beatfirstaid.ca
SUMMARY:H2S Alive- Dawson Creek
DESCRIPTION:
URL:https://up-beatfirstaid.ca/event/h2s-alive-dawson-creek-71/
LOCATION:Up-Beat First Aid Dawson Creek NEW\, 11000 8th Street\, Dawson Creek\, British Columbia\, V1G 4K6\, Canada
CATEGORIES:H2S Alive
ORGANIZER;CN="Up-Beat First Aid & Safety Training":MAILTO:up-beat@live.ca
END:VEVENT
BEGIN:VEVENT
DTSTART;TZID=America/Dawson_Creek:20220228T083000
DTEND;TZID=America/Dawson_Creek:20220228T170000
DTSTAMP:20260421T001207
CREATED:20220110T210251Z
LAST-MODIFIED:20220110T210251Z
UID:4040-1646037000-1646067600@up-beatfirstaid.ca
SUMMARY:H2S Alive - Dawson Creek
DESCRIPTION:
URL:https://up-beatfirstaid.ca/event/h2s-alive-dawson-creek-74/
LOCATION:Up-Beat First Aid Dawson Creek NEW\, 11000 8th Street\, Dawson Creek\, British Columbia\, V1G 4K6\, Canada
CATEGORIES:H2S Alive
ORGANIZER;CN="Up-Beat First Aid & Safety Training":MAILTO:up-beat@live.ca
END:VEVENT
BEGIN:VEVENT
DTSTART;TZID=America/Dawson_Creek:20220214T083000
DTEND;TZID=America/Dawson_Creek:20220214T170000
DTSTAMP:20260421T001207
CREATED:20220110T205704Z
LAST-MODIFIED:20220110T205704Z
UID:4037-1644827400-1644858000@up-beatfirstaid.ca
SUMMARY:H2S Alive - Dawson Creek
DESCRIPTION:
URL:https://up-beatfirstaid.ca/event/h2s-alive-dawson-creek-73/
LOCATION:Up-Beat First Aid Dawson Creek NEW\, 11000 8th Street\, Dawson Creek\, British Columbia\, V1G 4K6\, Canada
CATEGORIES:H2S Alive
ORGANIZER;CN="Up-Beat First Aid & Safety Training":MAILTO:up-beat@live.ca
END:VEVENT
BEGIN:VEVENT
DTSTART;TZID=America/Dawson_Creek:20220211T083000
DTEND;TZID=America/Dawson_Creek:20220211T170000
DTSTAMP:20260421T001207
CREATED:20220110T205347Z
LAST-MODIFIED:20220208T181306Z
UID:4034-1644568200-1644598800@up-beatfirstaid.ca
SUMMARY:H2S Alive - Dawson Creek
DESCRIPTION:
URL:https://up-beatfirstaid.ca/event/h2s-alive-dawson-creek-72/
LOCATION:Up-Beat First Aid Dawson Creek NEW\, 11000 8th Street\, Dawson Creek\, British Columbia\, V1G 4K6\, Canada
CATEGORIES:H2S Alive
ORGANIZER;CN="Up-Beat First Aid & Safety Training":MAILTO:up-beat@live.ca
END:VEVENT
BEGIN:VEVENT
DTSTART;TZID=America/Dawson_Creek:20220210T083000
DTEND;TZID=America/Dawson_Creek:20220210T170000
DTSTAMP:20260421T001207
CREATED:20220110T211401Z
LAST-MODIFIED:20220207T184159Z
UID:4043-1644481800-1644512400@up-beatfirstaid.ca
SUMMARY:H2S Alive - Chetwynd
DESCRIPTION:
URL:https://up-beatfirstaid.ca/event/h2s-alive-chetwynd-36/
LOCATION:Up-Beat First Aid Chetwynd\, 4717 – 51 St\, Chetwynd\, British Columbia\, V0C 1J0\, Canada
CATEGORIES:H2S Alive
ORGANIZER;CN="Up-Beat First Aid & Safety Training":MAILTO:up-beat@live.ca
END:VEVENT
BEGIN:VEVENT
DTSTART;TZID=America/Dawson_Creek:20220127T083000
DTEND;TZID=America/Dawson_Creek:20220127T170000
DTSTAMP:20260421T001207
CREATED:20211119T210825Z
LAST-MODIFIED:20211119T210937Z
UID:3948-1643272200-1643302800@up-beatfirstaid.ca
SUMMARY:H2S Alive Chetwynd
DESCRIPTION:
URL:https://up-beatfirstaid.ca/event/h2s-alive-chetwynd-35/
LOCATION:Up-Beat First Aid Chetwynd\, 4717 – 51 St\, Chetwynd\, British Columbia\, V0C 1J0\, Canada
CATEGORIES:H2S Alive
ORGANIZER;CN="Up-Beat First Aid & Safety Training":MAILTO:up-beat@live.ca
END:VEVENT
BEGIN:VEVENT
DTSTART;TZID=America/Dawson_Creek:20220124T083000
DTEND;TZID=America/Dawson_Creek:20220124T083000
DTSTAMP:20260421T001207
CREATED:20211119T201523Z
LAST-MODIFIED:20211119T201523Z
UID:3903-1643013000-1643013000@up-beatfirstaid.ca
SUMMARY:H2S Alive - Dawson Creek
DESCRIPTION:
URL:https://up-beatfirstaid.ca/event/h2s-alive-dawson-creek-70/
LOCATION:Up-Beat First Aid Dawson Creek NEW\, 11000 8th Street\, Dawson Creek\, British Columbia\, V1G 4K6\, Canada
CATEGORIES:H2S Alive
ORGANIZER;CN="Up-Beat First Aid & Safety Training":MAILTO:up-beat@live.ca
END:VEVENT
BEGIN:VEVENT
DTSTART;TZID=America/Dawson_Creek:20220117T083000
DTEND;TZID=America/Dawson_Creek:20220117T083000
DTSTAMP:20260421T001207
CREATED:20211119T201448Z
LAST-MODIFIED:20220114T224305Z
UID:3900-1642408200-1642408200@up-beatfirstaid.ca
SUMMARY:H2S Alive - Dawson Creek
DESCRIPTION:
URL:https://up-beatfirstaid.ca/event/h2s-alive-dawson-creek-69/
LOCATION:Up-Beat First Aid Dawson Creek NEW\, 11000 8th Street\, Dawson Creek\, British Columbia\, V1G 4K6\, Canada
CATEGORIES:H2S Alive
ORGANIZER;CN="Up-Beat First Aid & Safety Training":MAILTO:up-beat@live.ca
END:VEVENT
BEGIN:VEVENT
DTSTART;TZID=America/Dawson_Creek:20220110T083000
DTEND;TZID=America/Dawson_Creek:20220110T083000
DTSTAMP:20260421T001207
CREATED:20211119T201409Z
LAST-MODIFIED:20211119T201409Z
UID:3897-1641803400-1641803400@up-beatfirstaid.ca
SUMMARY:H2S Alive - Dawson Creek
DESCRIPTION:
URL:https://up-beatfirstaid.ca/event/h2s-alive-dawson-creek-66/
LOCATION:Up-Beat First Aid Dawson Creek NEW\, 11000 8th Street\, Dawson Creek\, British Columbia\, V1G 4K6\, Canada
CATEGORIES:H2S Alive
ORGANIZER;CN="Up-Beat First Aid & Safety Training":MAILTO:up-beat@live.ca
END:VEVENT
BEGIN:VEVENT
DTSTART;TZID=America/Dawson_Creek:20220106T083000
DTEND;TZID=America/Dawson_Creek:20220106T170000
DTSTAMP:20260421T001207
CREATED:20211119T210719Z
LAST-MODIFIED:20211119T211008Z
UID:3945-1641457800-1641488400@up-beatfirstaid.ca
SUMMARY:H2S Alive Chetwynd
DESCRIPTION:
URL:https://up-beatfirstaid.ca/event/h2s-alive-chetwynd-34/
LOCATION:Up-Beat First Aid Chetwynd\, 4717 – 51 St\, Chetwynd\, British Columbia\, V0C 1J0\, Canada
CATEGORIES:H2S Alive
ORGANIZER;CN="Up-Beat First Aid & Safety Training":MAILTO:up-beat@live.ca
END:VEVENT
BEGIN:VEVENT
DTSTART;TZID=America/Dawson_Creek:20211216T083000
DTEND;TZID=America/Dawson_Creek:20211216T170000
DTSTAMP:20260421T001207
CREATED:20211115T194644Z
LAST-MODIFIED:20211115T195050Z
UID:3870-1639643400-1639674000@up-beatfirstaid.ca
SUMMARY:H2S Alive - Dawson Creek
DESCRIPTION:
URL:https://up-beatfirstaid.ca/event/h2s-alive-3/
LOCATION:Up-Beat First Aid Dawson Creek NEW\, 11000 8th Street\, Dawson Creek\, British Columbia\, V1G 4K6\, Canada
CATEGORIES:H2S Alive
ORGANIZER;CN="Up-Beat First Aid & Safety Training":MAILTO:up-beat@live.ca
END:VEVENT
BEGIN:VEVENT
DTSTART;TZID=America/Dawson_Creek:20211209T083000
DTEND;TZID=America/Dawson_Creek:20211209T170000
DTSTAMP:20260421T001207
CREATED:20211115T194331Z
LAST-MODIFIED:20211115T194953Z
UID:3867-1639038600-1639069200@up-beatfirstaid.ca
SUMMARY:H2S Alive - Dawson Creek
DESCRIPTION:
URL:https://up-beatfirstaid.ca/event/h2s-alive-2/
LOCATION:Up-Beat First Aid Dawson Creek NEW\, 11000 8th Street\, Dawson Creek\, British Columbia\, V1G 4K6\, Canada
CATEGORIES:H2S Alive
ORGANIZER;CN="Up-Beat First Aid & Safety Training":MAILTO:up-beat@live.ca
END:VEVENT
BEGIN:VEVENT
DTSTART;TZID=America/Dawson_Creek:20211202T083000
DTEND;TZID=America/Dawson_Creek:20211202T170000
DTSTAMP:20260421T001207
CREATED:20211115T194255Z
LAST-MODIFIED:20211115T194741Z
UID:3864-1638433800-1638464400@up-beatfirstaid.ca
SUMMARY:H2S Alive - Dawson Creek
DESCRIPTION:
URL:https://up-beatfirstaid.ca/event/h2s-alive/
LOCATION:Up-Beat First Aid Dawson Creek NEW\, 11000 8th Street\, Dawson Creek\, British Columbia\, V1G 4K6\, Canada
CATEGORIES:H2S Alive
ORGANIZER;CN="Up-Beat First Aid & Safety Training":MAILTO:up-beat@live.ca
END:VEVENT
BEGIN:VEVENT
DTSTART;TZID=America/Dawson_Creek:20211125T083000
DTEND;TZID=America/Dawson_Creek:20211125T083000
DTSTAMP:20260421T001207
CREATED:20210930T203202Z
LAST-MODIFIED:20210930T203202Z
UID:3699-1637829000-1637829000@up-beatfirstaid.ca
SUMMARY:H2S Alive - Dawson Creek
DESCRIPTION:
URL:https://up-beatfirstaid.ca/event/h2s-alive-dawson-creek-68/
LOCATION:Up-Beat First Aid Dawson Creek NEW\, 11000 8th Street\, Dawson Creek\, British Columbia\, V1G 4K6\, Canada
CATEGORIES:H2S Alive
ORGANIZER;CN="Up-Beat First Aid & Safety Training":MAILTO:up-beat@live.ca
END:VEVENT
END:VCALENDAR