BEGIN:VCALENDAR
VERSION:2.0
PRODID:-//Up-Beat First Aid &amp; Safety Training Ltd. - ECPv6.15.20//NONSGML v1.0//EN
CALSCALE:GREGORIAN
METHOD:PUBLISH
X-WR-CALNAME:Up-Beat First Aid &amp; Safety Training Ltd.
X-ORIGINAL-URL:https://up-beatfirstaid.ca
X-WR-CALDESC:Events for Up-Beat First Aid &amp; Safety Training Ltd.
REFRESH-INTERVAL;VALUE=DURATION:PT1H
X-Robots-Tag:noindex
X-PUBLISHED-TTL:PT1H
BEGIN:VTIMEZONE
TZID:America/Dawson_Creek
BEGIN:STANDARD
TZOFFSETFROM:-0700
TZOFFSETTO:-0700
TZNAME:MST
DTSTART:20190101T000000
END:STANDARD
END:VTIMEZONE
BEGIN:VEVENT
DTSTART;TZID=America/Dawson_Creek:20201003T083000
DTEND;TZID=America/Dawson_Creek:20201003T170000
DTSTAMP:20260421T223751
CREATED:20200928T170235Z
LAST-MODIFIED:20200928T170611Z
UID:2255-1601713800-1601744400@up-beatfirstaid.ca
SUMMARY:H2S Alive Chetwynd
DESCRIPTION:
URL:https://up-beatfirstaid.ca/event/h2s-alive-chetwynd-16/
LOCATION:Up-Beat First Aid Chetwynd\, 4717 – 51 St\, Chetwynd\, British Columbia\, V0C 1J0\, Canada
CATEGORIES:H2S Alive
ORGANIZER;CN="Up-Beat First Aid & Safety Training":MAILTO:up-beat@live.ca
END:VEVENT
BEGIN:VEVENT
DTSTART;TZID=America/Dawson_Creek:20200928T090000
DTEND;TZID=America/Dawson_Creek:20200928T170000
DTSTAMP:20260421T223751
CREATED:20200812T054139Z
LAST-MODIFIED:20200812T054139Z
UID:2053-1601283600-1601312400@up-beatfirstaid.ca
SUMMARY:H2S Alive Dawson Creek
DESCRIPTION:
URL:https://up-beatfirstaid.ca/event/h2s-alive-dawson-creek-12/
LOCATION:Up-Beat First Aid Dawson Creek NEW\, 11000 8th Street\, Dawson Creek\, British Columbia\, V1G 4K6\, Canada
CATEGORIES:H2S Alive
ORGANIZER;CN="Up-Beat First Aid & Safety Training":MAILTO:up-beat@live.ca
END:VEVENT
BEGIN:VEVENT
DTSTART;TZID=America/Dawson_Creek:20200926T090000
DTEND;TZID=America/Dawson_Creek:20200926T170000
DTSTAMP:20260421T223751
CREATED:20200812T054020Z
LAST-MODIFIED:20200812T062959Z
UID:2051-1601110800-1601139600@up-beatfirstaid.ca
SUMMARY:H2S Alive Dawson Creek
DESCRIPTION:
URL:https://up-beatfirstaid.ca/event/h2s-alive-dawson-creek-11/
LOCATION:Up-Beat First Aid Dawson Creek NEW\, 11000 8th Street\, Dawson Creek\, British Columbia\, V1G 4K6\, Canada
CATEGORIES:H2S Alive
ORGANIZER;CN="Up-Beat First Aid & Safety Training":MAILTO:up-beat@live.ca
END:VEVENT
BEGIN:VEVENT
DTSTART;TZID=America/Dawson_Creek:20200924T083000
DTEND;TZID=America/Dawson_Creek:20200924T170000
DTSTAMP:20260421T223752
CREATED:20200812T053708Z
LAST-MODIFIED:20200918T211304Z
UID:2044-1600936200-1600966800@up-beatfirstaid.ca
SUMMARY:H2S Alive Chetwynd
DESCRIPTION:
URL:https://up-beatfirstaid.ca/event/h2s-alive-chetwynd-13/
LOCATION:Up-Beat First Aid Chetwynd\, 4717 – 51 St\, Chetwynd\, British Columbia\, V0C 1J0\, Canada
CATEGORIES:H2S Alive
ORGANIZER;CN="Up-Beat First Aid & Safety Training":MAILTO:up-beat@live.ca
END:VEVENT
BEGIN:VEVENT
DTSTART;TZID=America/Dawson_Creek:20200921T090000
DTEND;TZID=America/Dawson_Creek:20200921T170000
DTSTAMP:20260421T223752
CREATED:20200812T053241Z
LAST-MODIFIED:20200812T062348Z
UID:2038-1600678800-1600707600@up-beatfirstaid.ca
SUMMARY:H2S Alive Dawson Creek
DESCRIPTION:
URL:https://up-beatfirstaid.ca/event/h2s-alive-dawson-creek-10/
LOCATION:Up-Beat First Aid Dawson Creek NEW\, 11000 8th Street\, Dawson Creek\, British Columbia\, V1G 4K6\, Canada
CATEGORIES:H2S Alive
ORGANIZER;CN="Up-Beat First Aid & Safety Training":MAILTO:up-beat@live.ca
END:VEVENT
BEGIN:VEVENT
DTSTART;TZID=America/Dawson_Creek:20200917T090000
DTEND;TZID=America/Dawson_Creek:20200917T170000
DTSTAMP:20260421T223752
CREATED:20200812T052648Z
LAST-MODIFIED:20200916T215540Z
UID:2026-1600333200-1600362000@up-beatfirstaid.ca
SUMMARY:H2S Dawson Creek
DESCRIPTION:
URL:https://up-beatfirstaid.ca/event/h2s-dawson-creek-2/
LOCATION:Up-Beat First Aid Dawson Creek NEW\, 11000 8th Street\, Dawson Creek\, British Columbia\, V1G 4K6\, Canada
CATEGORIES:H2S Alive
ORGANIZER;CN="Up-Beat First Aid & Safety Training":MAILTO:up-beat@live.ca
END:VEVENT
BEGIN:VEVENT
DTSTART;TZID=America/Dawson_Creek:20200914T090000
DTEND;TZID=America/Dawson_Creek:20200914T170000
DTSTAMP:20260421T223752
CREATED:20200812T051652Z
LAST-MODIFIED:20200812T062109Z
UID:2013-1600074000-1600102800@up-beatfirstaid.ca
SUMMARY:H2S Dawson Creek
DESCRIPTION:
URL:https://up-beatfirstaid.ca/event/h2s-dawson-creek/
LOCATION:Up-Beat First Aid Dawson Creek NEW\, 11000 8th Street\, Dawson Creek\, British Columbia\, V1G 4K6\, Canada
CATEGORIES:H2S Alive
ORGANIZER;CN="Up-Beat First Aid & Safety Training":MAILTO:up-beat@live.ca
END:VEVENT
BEGIN:VEVENT
DTSTART;TZID=America/Dawson_Creek:20200910T083000
DTEND;TZID=America/Dawson_Creek:20200910T150000
DTSTAMP:20260421T223752
CREATED:20200812T154107Z
LAST-MODIFIED:20200812T154107Z
UID:2098-1599726600-1599750000@up-beatfirstaid.ca
SUMMARY:H2S Alive Chetwynd
DESCRIPTION:
URL:https://up-beatfirstaid.ca/event/h2s-alive-chetwynd-12/
LOCATION:British Columbia\, Canada
CATEGORIES:H2S Alive
ORGANIZER;CN="Up-Beat First Aid & Safety Training":MAILTO:up-beat@live.ca
END:VEVENT
BEGIN:VEVENT
DTSTART;TZID=America/Dawson_Creek:20200906T090000
DTEND;TZID=America/Dawson_Creek:20200906T160000
DTSTAMP:20260421T223752
CREATED:20200828T051214Z
LAST-MODIFIED:20200828T051214Z
UID:2126-1599382800-1599408000@up-beatfirstaid.ca
SUMMARY:H2S Alive Dawson Creek
DESCRIPTION:
URL:https://up-beatfirstaid.ca/event/h2s-alive-dawson-creek-8/
LOCATION:British Columbia\, Canada
CATEGORIES:H2S Alive
ORGANIZER;CN="Up-Beat First Aid & Safety Training":MAILTO:up-beat@live.ca
END:VEVENT
BEGIN:VEVENT
DTSTART;TZID=America/Dawson_Creek:20200825T083000
DTEND;TZID=America/Dawson_Creek:20200825T170000
DTSTAMP:20260421T223752
CREATED:20200704T184947Z
LAST-MODIFIED:20200704T184947Z
UID:1904-1598344200-1598374800@up-beatfirstaid.ca
SUMMARY:H2S Alive Chetwynd
DESCRIPTION:
URL:https://up-beatfirstaid.ca/event/h2s-alive-chetwynd-11/
LOCATION:Up-Beat First Aid Chetwynd\, 4717 – 51 St\, Chetwynd\, British Columbia\, V0C 1J0\, Canada
CATEGORIES:H2S Alive
ORGANIZER;CN="Up-Beat First Aid & Safety Training":MAILTO:up-beat@live.ca
END:VEVENT
BEGIN:VEVENT
DTSTART;TZID=America/Dawson_Creek:20200816T083000
DTEND;TZID=America/Dawson_Creek:20200816T170000
DTSTAMP:20260421T223752
CREATED:20200704T184503Z
LAST-MODIFIED:20200704T184503Z
UID:1896-1597566600-1597597200@up-beatfirstaid.ca
SUMMARY:H2S Alive Dawson Creek
DESCRIPTION:
URL:https://up-beatfirstaid.ca/event/h2s-alive-dawson-creek-7/
LOCATION:British Columbia\, Canada
CATEGORIES:H2S Alive
ORGANIZER;CN="Up-Beat First Aid & Safety Training":MAILTO:up-beat@live.ca
END:VEVENT
BEGIN:VEVENT
DTSTART;TZID=America/Dawson_Creek:20200809T083000
DTEND;TZID=America/Dawson_Creek:20200809T170000
DTSTAMP:20260421T223752
CREATED:20200704T184216Z
LAST-MODIFIED:20200704T184216Z
UID:1890-1596961800-1596992400@up-beatfirstaid.ca
SUMMARY:H2S Alive Chetwynd
DESCRIPTION:
URL:https://up-beatfirstaid.ca/event/h2s-alive-chetwynd-10/
LOCATION:Up-Beat First Aid Chetwynd\, 4717 – 51 St\, Chetwynd\, British Columbia\, V0C 1J0\, Canada
CATEGORIES:H2S Alive
ORGANIZER;CN="Up-Beat First Aid & Safety Training":MAILTO:up-beat@live.ca
END:VEVENT
BEGIN:VEVENT
DTSTART;TZID=America/Dawson_Creek:20200806T083000
DTEND;TZID=America/Dawson_Creek:20200806T150000
DTSTAMP:20260421T223752
CREATED:20200708T192424Z
LAST-MODIFIED:20200708T192424Z
UID:1952-1596702600-1596726000@up-beatfirstaid.ca
SUMMARY:H2S Alive Dawson Creek
DESCRIPTION:
URL:https://up-beatfirstaid.ca/event/h2s-alive-dawson-creek-6/
LOCATION:British Columbia\, Canada
CATEGORIES:H2S Alive
ORGANIZER;CN="Up-Beat First Aid & Safety Training":MAILTO:up-beat@live.ca
END:VEVENT
BEGIN:VEVENT
DTSTART;TZID=America/Dawson_Creek:20200725T083000
DTEND;TZID=America/Dawson_Creek:20200725T170000
DTSTAMP:20260421T223752
CREATED:20200614T212819Z
LAST-MODIFIED:20200614T212819Z
UID:1818-1595665800-1595696400@up-beatfirstaid.ca
SUMMARY:H2S Alive Dawson Creek
DESCRIPTION:
URL:https://up-beatfirstaid.ca/event/h2s-alive-dawson-creek-5/
LOCATION:British Columbia\, Canada
CATEGORIES:H2S Alive
ORGANIZER;CN="Up-Beat First Aid & Safety Training":MAILTO:up-beat@live.ca
END:VEVENT
BEGIN:VEVENT
DTSTART;TZID=America/Dawson_Creek:20200723T083000
DTEND;TZID=America/Dawson_Creek:20200723T170000
DTSTAMP:20260421T223752
CREATED:20200614T212727Z
LAST-MODIFIED:20200614T212727Z
UID:1816-1595493000-1595523600@up-beatfirstaid.ca
SUMMARY:H2S Alive Chetwynd
DESCRIPTION:
URL:https://up-beatfirstaid.ca/event/h2s-alive-chetwynd-9/
LOCATION:Up-Beat First Aid Chetwynd\, 4717 – 51 St\, Chetwynd\, British Columbia\, V0C 1J0\, Canada
CATEGORIES:H2S Alive
ORGANIZER;CN="Up-Beat First Aid & Safety Training":MAILTO:up-beat@live.ca
END:VEVENT
BEGIN:VEVENT
DTSTART;TZID=America/Dawson_Creek:20200719T083000
DTEND;TZID=America/Dawson_Creek:20200719T170000
DTSTAMP:20260421T223752
CREATED:20200614T212157Z
LAST-MODIFIED:20200614T212157Z
UID:1806-1595147400-1595178000@up-beatfirstaid.ca
SUMMARY:H2S Alive Chetwynd
DESCRIPTION:
URL:https://up-beatfirstaid.ca/event/h2s-alive-chetwynd-8/
LOCATION:Up-Beat First Aid Chetwynd\, 4717 – 51 St\, Chetwynd\, British Columbia\, V0C 1J0\, Canada
CATEGORIES:H2S Alive
ORGANIZER;CN="Up-Beat First Aid & Safety Training":MAILTO:up-beat@live.ca
END:VEVENT
BEGIN:VEVENT
DTSTART;TZID=America/Dawson_Creek:20200716T083000
DTEND;TZID=America/Dawson_Creek:20200716T160000
DTSTAMP:20260421T223752
CREATED:20200614T211908Z
LAST-MODIFIED:20200703T051321Z
UID:1802-1594888200-1594915200@up-beatfirstaid.ca
SUMMARY:H2S Alive Dawson Creek
DESCRIPTION:
URL:https://up-beatfirstaid.ca/event/h2s-alive-dawson-creek-4/
LOCATION:British Columbia\, Canada
CATEGORIES:H2S Alive
ORGANIZER;CN="Up-Beat First Aid & Safety Training":MAILTO:up-beat@live.ca
END:VEVENT
BEGIN:VEVENT
DTSTART;TZID=America/Dawson_Creek:20200709T083000
DTEND;TZID=America/Dawson_Creek:20200709T170000
DTSTAMP:20260421T223752
CREATED:20200614T211442Z
LAST-MODIFIED:20200614T211452Z
UID:1794-1594283400-1594314000@up-beatfirstaid.ca
SUMMARY:H2S Alive Chetwynd
DESCRIPTION:
URL:https://up-beatfirstaid.ca/event/h2s-alive-chetwynd-7/
LOCATION:Up-Beat First Aid Chetwynd\, 4717 – 51 St\, Chetwynd\, British Columbia\, V0C 1J0\, Canada
CATEGORIES:H2S Alive
ORGANIZER;CN="Up-Beat First Aid & Safety Training":MAILTO:up-beat@live.ca
END:VEVENT
BEGIN:VEVENT
DTSTART;TZID=America/Dawson_Creek:20200630T083000
DTEND;TZID=America/Dawson_Creek:20200630T170000
DTSTAMP:20260421T223752
CREATED:20200604T035151Z
LAST-MODIFIED:20200604T035151Z
UID:1761-1593505800-1593536400@up-beatfirstaid.ca
SUMMARY:H2S Alive Dawson Creek
DESCRIPTION:
URL:https://up-beatfirstaid.ca/event/h2s-alive-dawson-creek-3/
LOCATION:British Columbia\, Canada
CATEGORIES:H2S Alive
ORGANIZER;CN="Up-Beat First Aid & Safety Training":MAILTO:up-beat@live.ca
END:VEVENT
BEGIN:VEVENT
DTSTART;TZID=America/Dawson_Creek:20200627T083000
DTEND;TZID=America/Dawson_Creek:20200627T170000
DTSTAMP:20260421T223752
CREATED:20200604T034910Z
LAST-MODIFIED:20200609T225947Z
UID:1755-1593246600-1593277200@up-beatfirstaid.ca
SUMMARY:H2S Alive Chetwynd
DESCRIPTION:
URL:https://up-beatfirstaid.ca/event/h2s-alive-chetwynd-5/
LOCATION:Up-Beat First Aid Chetwynd\, 4717 – 51 St\, Chetwynd\, British Columbia\, V0C 1J0\, Canada
CATEGORIES:H2S Alive
ORGANIZER;CN="Up-Beat First Aid & Safety Training":MAILTO:up-beat@live.ca
END:VEVENT
BEGIN:VEVENT
DTSTART;TZID=America/Dawson_Creek:20200620T083000
DTEND;TZID=America/Dawson_Creek:20200620T170000
DTSTAMP:20260421T223752
CREATED:20200612T151243Z
LAST-MODIFIED:20200612T151304Z
UID:1785-1592641800-1592672400@up-beatfirstaid.ca
SUMMARY:H2S Alive Chetwynd
DESCRIPTION:
URL:https://up-beatfirstaid.ca/event/h2s-alive-chetwynd-6/
LOCATION:Up-Beat First Aid Chetwynd\, 4717 – 51 St\, Chetwynd\, British Columbia\, V0C 1J0\, Canada
CATEGORIES:H2S Alive
ORGANIZER;CN="Up-Beat First Aid & Safety Training":MAILTO:up-beat@live.ca
END:VEVENT
BEGIN:VEVENT
DTSTART;TZID=America/Dawson_Creek:20200615T083000
DTEND;TZID=America/Dawson_Creek:20200615T170000
DTSTAMP:20260421T223752
CREATED:20200604T034706Z
LAST-MODIFIED:20200609T225606Z
UID:1751-1592209800-1592240400@up-beatfirstaid.ca
SUMMARY:H2S Alive Dawson Creek
DESCRIPTION:
URL:https://up-beatfirstaid.ca/event/h2s-alive-dawson-creek-2/
LOCATION:British Columbia\, Canada
CATEGORIES:H2S Alive
ORGANIZER;CN="Up-Beat First Aid & Safety Training":MAILTO:up-beat@live.ca
END:VEVENT
BEGIN:VEVENT
DTSTART;TZID=America/Dawson_Creek:20200611T083000
DTEND;TZID=America/Dawson_Creek:20200611T170000
DTSTAMP:20260421T223752
CREATED:20200604T034343Z
LAST-MODIFIED:20200609T230101Z
UID:1746-1591864200-1591894800@up-beatfirstaid.ca
SUMMARY:H2S Alive Chetwynd
DESCRIPTION:
URL:https://up-beatfirstaid.ca/event/h2s-alive-chetwynd-4/
LOCATION:Up-Beat First Aid Chetwynd\, 4717 – 51 St\, Chetwynd\, British Columbia\, V0C 1J0\, Canada
CATEGORIES:H2S Alive
ORGANIZER;CN="Up-Beat First Aid & Safety Training":MAILTO:up-beat@live.ca
END:VEVENT
BEGIN:VEVENT
DTSTART;TZID=America/Dawson_Creek:20200316T083000
DTEND;TZID=America/Dawson_Creek:20200316T170000
DTSTAMP:20260421T223752
CREATED:20200113T164242Z
LAST-MODIFIED:20200206T014510Z
UID:411-1584347400-1584378000@up-beatfirstaid.ca
SUMMARY:H2S Alive (Dawson Creek)
DESCRIPTION:UFA&ST H2S Alive Course Description
URL:https://up-beatfirstaid.ca/event/h2s-alive-dawson-creek-2020-03-16/
LOCATION:British Columbia\, Canada
CATEGORIES:H2S Alive
ORGANIZER;CN="Up-Beat First Aid & Safety Training":MAILTO:up-beat@live.ca
END:VEVENT
BEGIN:VEVENT
DTSTART;TZID=America/Dawson_Creek:20200314T083000
DTEND;TZID=America/Dawson_Creek:20200314T170000
DTSTAMP:20260421T223752
CREATED:20200206T020311Z
LAST-MODIFIED:20200206T021441Z
UID:1016-1584174600-1584205200@up-beatfirstaid.ca
SUMMARY:H2S Alive (Chetwynd)
DESCRIPTION:
URL:https://up-beatfirstaid.ca/event/h2s-chetwynd/
LOCATION:Up-Beat First Aid Chetwynd\, 4717 – 51 St\, Chetwynd\, British Columbia\, V0C 1J0\, Canada
CATEGORIES:H2S Alive
ORGANIZER;CN="Up-Beat First Aid & Safety Training":MAILTO:up-beat@live.ca
END:VEVENT
BEGIN:VEVENT
DTSTART;TZID=America/Dawson_Creek:20200309T083000
DTEND;TZID=America/Dawson_Creek:20200309T170000
DTSTAMP:20260421T223752
CREATED:20200113T164242Z
LAST-MODIFIED:20200206T014321Z
UID:410-1583742600-1583773200@up-beatfirstaid.ca
SUMMARY:H2S Alive (Dawson Creek)
DESCRIPTION:UFA&ST H2S Alive Course Description
URL:https://up-beatfirstaid.ca/event/h2s-alive-dawson-creek-2020-03-09/
LOCATION:British Columbia\, Canada
CATEGORIES:H2S Alive
ORGANIZER;CN="Up-Beat First Aid & Safety Training":MAILTO:up-beat@live.ca
END:VEVENT
BEGIN:VEVENT
DTSTART;TZID=America/Dawson_Creek:20200302T083000
DTEND;TZID=America/Dawson_Creek:20200302T170000
DTSTAMP:20260421T223752
CREATED:20200113T164242Z
LAST-MODIFIED:20200206T014218Z
UID:409-1583137800-1583168400@up-beatfirstaid.ca
SUMMARY:H2S Alive (Dawson Creek)
DESCRIPTION:UFA&ST H2S Alive Course Description
URL:https://up-beatfirstaid.ca/event/h2s-alive-dawson-creek-2020-03-02/
LOCATION:British Columbia\, Canada
CATEGORIES:H2S Alive
ORGANIZER;CN="Up-Beat First Aid & Safety Training":MAILTO:up-beat@live.ca
END:VEVENT
BEGIN:VEVENT
DTSTART;TZID=America/Dawson_Creek:20200229T083000
DTEND;TZID=America/Dawson_Creek:20200229T170000
DTSTAMP:20260421T223752
CREATED:20200113T174658Z
LAST-MODIFIED:20200206T012658Z
UID:491-1582965000-1582995600@up-beatfirstaid.ca
SUMMARY:H2S Alive (Chetwynd)
DESCRIPTION:UFA&ST H2S Alive Course Description
URL:https://up-beatfirstaid.ca/event/h2s-alive-chetwynd-2-2020-02-27/
LOCATION:Up-Beat First Aid Chetwynd\, 4717 – 51 St\, Chetwynd\, British Columbia\, V0C 1J0\, Canada
CATEGORIES:H2S Alive
ORGANIZER;CN="Up-Beat First Aid & Safety Training":MAILTO:up-beat@live.ca
END:VEVENT
BEGIN:VEVENT
DTSTART;TZID=America/Dawson_Creek:20200223T083000
DTEND;TZID=America/Dawson_Creek:20200223T170000
DTSTAMP:20260421T223752
CREATED:20200113T164242Z
LAST-MODIFIED:20200205T213004Z
UID:408-1582446600-1582477200@up-beatfirstaid.ca
SUMMARY:H2S Alive (Dawson Creek)
DESCRIPTION:UFA&ST H2S Alive Course Description
URL:https://up-beatfirstaid.ca/event/h2s-alive-dawson-creek-2020-02-24/
LOCATION:British Columbia\, Canada
CATEGORIES:H2S Alive
ORGANIZER;CN="Up-Beat First Aid & Safety Training":MAILTO:up-beat@live.ca
END:VEVENT
BEGIN:VEVENT
DTSTART;TZID=America/Dawson_Creek:20200217T083000
DTEND;TZID=America/Dawson_Creek:20200217T170000
DTSTAMP:20260421T223752
CREATED:20200113T164242Z
LAST-MODIFIED:20200205T212503Z
UID:407-1581928200-1581958800@up-beatfirstaid.ca
SUMMARY:H2S Alive (Dawson Creek)
DESCRIPTION:UFA&ST H2S Alive Course Description
URL:https://up-beatfirstaid.ca/event/h2s-alive-dawson-creek-2020-02-17/
LOCATION:British Columbia\, Canada
CATEGORIES:H2S Alive
ORGANIZER;CN="Up-Beat First Aid & Safety Training":MAILTO:up-beat@live.ca
END:VEVENT
END:VCALENDAR