BEGIN:VCALENDAR
VERSION:2.0
PRODID:-//Up-Beat First Aid &amp; Safety Training Ltd. - ECPv6.15.20//NONSGML v1.0//EN
CALSCALE:GREGORIAN
METHOD:PUBLISH
X-ORIGINAL-URL:https://up-beatfirstaid.ca
X-WR-CALDESC:Events for Up-Beat First Aid &amp; Safety Training Ltd.
REFRESH-INTERVAL;VALUE=DURATION:PT1H
X-Robots-Tag:noindex
X-PUBLISHED-TTL:PT1H
BEGIN:VTIMEZONE
TZID:America/Dawson_Creek
BEGIN:STANDARD
TZOFFSETFROM:-0700
TZOFFSETTO:-0700
TZNAME:MST
DTSTART:20190101T000000
END:STANDARD
END:VTIMEZONE
BEGIN:VEVENT
DTSTART;TZID=America/Dawson_Creek:20200620T083000
DTEND;TZID=America/Dawson_Creek:20200620T170000
DTSTAMP:20260422T043530
CREATED:20200612T151243Z
LAST-MODIFIED:20200612T151304Z
UID:1785-1592641800-1592672400@up-beatfirstaid.ca
SUMMARY:H2S Alive Chetwynd
DESCRIPTION:
URL:https://up-beatfirstaid.ca/event/h2s-alive-chetwynd-6/
LOCATION:Up-Beat First Aid Chetwynd\, 4717 – 51 St\, Chetwynd\, British Columbia\, V0C 1J0\, Canada
CATEGORIES:H2S Alive
ORGANIZER;CN="Up-Beat First Aid & Safety Training":MAILTO:up-beat@live.ca
END:VEVENT
BEGIN:VEVENT
DTSTART;TZID=America/Dawson_Creek:20200615T083000
DTEND;TZID=America/Dawson_Creek:20200615T170000
DTSTAMP:20260422T043530
CREATED:20200604T034706Z
LAST-MODIFIED:20200609T225606Z
UID:1751-1592209800-1592240400@up-beatfirstaid.ca
SUMMARY:H2S Alive Dawson Creek
DESCRIPTION:
URL:https://up-beatfirstaid.ca/event/h2s-alive-dawson-creek-2/
LOCATION:British Columbia\, Canada
CATEGORIES:H2S Alive
ORGANIZER;CN="Up-Beat First Aid & Safety Training":MAILTO:up-beat@live.ca
END:VEVENT
BEGIN:VEVENT
DTSTART;TZID=America/Dawson_Creek:20200611T083000
DTEND;TZID=America/Dawson_Creek:20200611T170000
DTSTAMP:20260422T043530
CREATED:20200604T034343Z
LAST-MODIFIED:20200609T230101Z
UID:1746-1591864200-1591894800@up-beatfirstaid.ca
SUMMARY:H2S Alive Chetwynd
DESCRIPTION:
URL:https://up-beatfirstaid.ca/event/h2s-alive-chetwynd-4/
LOCATION:Up-Beat First Aid Chetwynd\, 4717 – 51 St\, Chetwynd\, British Columbia\, V0C 1J0\, Canada
CATEGORIES:H2S Alive
ORGANIZER;CN="Up-Beat First Aid & Safety Training":MAILTO:up-beat@live.ca
END:VEVENT
BEGIN:VEVENT
DTSTART;TZID=America/Dawson_Creek:20200316T083000
DTEND;TZID=America/Dawson_Creek:20200316T170000
DTSTAMP:20260422T043530
CREATED:20200113T164242Z
LAST-MODIFIED:20200206T014510Z
UID:411-1584347400-1584378000@up-beatfirstaid.ca
SUMMARY:H2S Alive (Dawson Creek)
DESCRIPTION:UFA&ST H2S Alive Course Description
URL:https://up-beatfirstaid.ca/event/h2s-alive-dawson-creek-2020-03-16/
LOCATION:British Columbia\, Canada
CATEGORIES:H2S Alive
ORGANIZER;CN="Up-Beat First Aid & Safety Training":MAILTO:up-beat@live.ca
END:VEVENT
BEGIN:VEVENT
DTSTART;TZID=America/Dawson_Creek:20200314T083000
DTEND;TZID=America/Dawson_Creek:20200314T170000
DTSTAMP:20260422T043530
CREATED:20200206T020311Z
LAST-MODIFIED:20200206T021441Z
UID:1016-1584174600-1584205200@up-beatfirstaid.ca
SUMMARY:H2S Alive (Chetwynd)
DESCRIPTION:
URL:https://up-beatfirstaid.ca/event/h2s-chetwynd/
LOCATION:Up-Beat First Aid Chetwynd\, 4717 – 51 St\, Chetwynd\, British Columbia\, V0C 1J0\, Canada
CATEGORIES:H2S Alive
ORGANIZER;CN="Up-Beat First Aid & Safety Training":MAILTO:up-beat@live.ca
END:VEVENT
BEGIN:VEVENT
DTSTART;TZID=America/Dawson_Creek:20200309T083000
DTEND;TZID=America/Dawson_Creek:20200309T170000
DTSTAMP:20260422T043530
CREATED:20200113T164242Z
LAST-MODIFIED:20200206T014321Z
UID:410-1583742600-1583773200@up-beatfirstaid.ca
SUMMARY:H2S Alive (Dawson Creek)
DESCRIPTION:UFA&ST H2S Alive Course Description
URL:https://up-beatfirstaid.ca/event/h2s-alive-dawson-creek-2020-03-09/
LOCATION:British Columbia\, Canada
CATEGORIES:H2S Alive
ORGANIZER;CN="Up-Beat First Aid & Safety Training":MAILTO:up-beat@live.ca
END:VEVENT
BEGIN:VEVENT
DTSTART;TZID=America/Dawson_Creek:20200302T083000
DTEND;TZID=America/Dawson_Creek:20200302T170000
DTSTAMP:20260422T043530
CREATED:20200113T164242Z
LAST-MODIFIED:20200206T014218Z
UID:409-1583137800-1583168400@up-beatfirstaid.ca
SUMMARY:H2S Alive (Dawson Creek)
DESCRIPTION:UFA&ST H2S Alive Course Description
URL:https://up-beatfirstaid.ca/event/h2s-alive-dawson-creek-2020-03-02/
LOCATION:British Columbia\, Canada
CATEGORIES:H2S Alive
ORGANIZER;CN="Up-Beat First Aid & Safety Training":MAILTO:up-beat@live.ca
END:VEVENT
BEGIN:VEVENT
DTSTART;TZID=America/Dawson_Creek:20200229T083000
DTEND;TZID=America/Dawson_Creek:20200229T170000
DTSTAMP:20260422T043530
CREATED:20200113T174658Z
LAST-MODIFIED:20200206T012658Z
UID:491-1582965000-1582995600@up-beatfirstaid.ca
SUMMARY:H2S Alive (Chetwynd)
DESCRIPTION:UFA&ST H2S Alive Course Description
URL:https://up-beatfirstaid.ca/event/h2s-alive-chetwynd-2-2020-02-27/
LOCATION:Up-Beat First Aid Chetwynd\, 4717 – 51 St\, Chetwynd\, British Columbia\, V0C 1J0\, Canada
CATEGORIES:H2S Alive
ORGANIZER;CN="Up-Beat First Aid & Safety Training":MAILTO:up-beat@live.ca
END:VEVENT
BEGIN:VEVENT
DTSTART;TZID=America/Dawson_Creek:20200223T083000
DTEND;TZID=America/Dawson_Creek:20200223T170000
DTSTAMP:20260422T043530
CREATED:20200113T164242Z
LAST-MODIFIED:20200205T213004Z
UID:408-1582446600-1582477200@up-beatfirstaid.ca
SUMMARY:H2S Alive (Dawson Creek)
DESCRIPTION:UFA&ST H2S Alive Course Description
URL:https://up-beatfirstaid.ca/event/h2s-alive-dawson-creek-2020-02-24/
LOCATION:British Columbia\, Canada
CATEGORIES:H2S Alive
ORGANIZER;CN="Up-Beat First Aid & Safety Training":MAILTO:up-beat@live.ca
END:VEVENT
BEGIN:VEVENT
DTSTART;TZID=America/Dawson_Creek:20200217T083000
DTEND;TZID=America/Dawson_Creek:20200217T170000
DTSTAMP:20260422T043530
CREATED:20200113T164242Z
LAST-MODIFIED:20200205T212503Z
UID:407-1581928200-1581958800@up-beatfirstaid.ca
SUMMARY:H2S Alive (Dawson Creek)
DESCRIPTION:UFA&ST H2S Alive Course Description
URL:https://up-beatfirstaid.ca/event/h2s-alive-dawson-creek-2020-02-17/
LOCATION:British Columbia\, Canada
CATEGORIES:H2S Alive
ORGANIZER;CN="Up-Beat First Aid & Safety Training":MAILTO:up-beat@live.ca
END:VEVENT
BEGIN:VEVENT
DTSTART;TZID=America/Dawson_Creek:20200215T083000
DTEND;TZID=America/Dawson_Creek:20200215T170000
DTSTAMP:20260422T043530
CREATED:20200113T174658Z
LAST-MODIFIED:20200205T212057Z
UID:489-1581755400-1581786000@up-beatfirstaid.ca
SUMMARY:H2S Alive (Chetwynd)
DESCRIPTION:UFA&ST H2S Alive Course Description
URL:https://up-beatfirstaid.ca/event/h2s-alive-chetwynd-2/
LOCATION:Up-Beat First Aid Chetwynd\, 4717 – 51 St\, Chetwynd\, British Columbia\, V0C 1J0\, Canada
CATEGORIES:H2S Alive
ORGANIZER;CN="Up-Beat First Aid & Safety Training":MAILTO:up-beat@live.ca
END:VEVENT
BEGIN:VEVENT
DTSTART;TZID=America/Dawson_Creek:20200210T083000
DTEND;TZID=America/Dawson_Creek:20200210T170000
DTSTAMP:20260422T043530
CREATED:20200113T164242Z
LAST-MODIFIED:20200205T042103Z
UID:406-1581323400-1581354000@up-beatfirstaid.ca
SUMMARY:H2S Alive (Dawson Creek)
DESCRIPTION:UFA&ST H2S Alive Course Description
URL:https://up-beatfirstaid.ca/event/h2s-alive-dawson-creek-2020-02-10/
LOCATION:British Columbia\, Canada
CATEGORIES:H2S Alive
ORGANIZER;CN="Up-Beat First Aid & Safety Training":MAILTO:up-beat@live.ca
END:VEVENT
BEGIN:VEVENT
DTSTART;TZID=America/Dawson_Creek:20200203T083000
DTEND;TZID=America/Dawson_Creek:20200203T170000
DTSTAMP:20260422T043530
CREATED:20200113T164242Z
LAST-MODIFIED:20200205T041735Z
UID:405-1580718600-1580749200@up-beatfirstaid.ca
SUMMARY:H2S Alive (Dawson Creek)
DESCRIPTION:UFA&ST H2S Alive Course Description
URL:https://up-beatfirstaid.ca/event/h2s-alive-dawson-creek-2020-02-03/
LOCATION:British Columbia\, Canada
CATEGORIES:H2S Alive
ORGANIZER;CN="Up-Beat First Aid & Safety Training":MAILTO:up-beat@live.ca
END:VEVENT
BEGIN:VEVENT
DTSTART;TZID=America/Dawson_Creek:20200201T080000
DTEND;TZID=America/Dawson_Creek:20200201T170000
DTSTAMP:20260422T043530
CREATED:20200205T040511Z
LAST-MODIFIED:20200205T040511Z
UID:976-1580544000-1580576400@up-beatfirstaid.ca
SUMMARY:H2S Alive (Chetwynd)
DESCRIPTION:
URL:https://up-beatfirstaid.ca/event/h2s-alive-chetwynd-3/
LOCATION:Up-Beat First Aid Chetwynd\, 4717 – 51 St\, Chetwynd\, British Columbia\, V0C 1J0\, Canada
CATEGORIES:H2S Alive
ORGANIZER;CN="Up-Beat First Aid & Safety Training":MAILTO:up-beat@live.ca
END:VEVENT
BEGIN:VEVENT
DTSTART;TZID=America/Dawson_Creek:20200127T080000
DTEND;TZID=America/Dawson_Creek:20200127T170000
DTSTAMP:20260422T043530
CREATED:20200113T164242Z
LAST-MODIFIED:20200131T221648Z
UID:404-1580112000-1580144400@up-beatfirstaid.ca
SUMMARY:H2S Alive (Dawson Creek)
DESCRIPTION:UFA&ST H2S Alive Course Description
URL:https://up-beatfirstaid.ca/event/h2s-alive-dawson-creek-2020-01-27/
LOCATION:British Columbia\, Canada
CATEGORIES:H2S Alive
ORGANIZER;CN="Up-Beat First Aid & Safety Training":MAILTO:up-beat@live.ca
END:VEVENT
BEGIN:VEVENT
DTSTART;TZID=America/Dawson_Creek:20200122T080000
DTEND;TZID=America/Dawson_Creek:20200122T170000
DTSTAMP:20260422T043530
CREATED:20200113T173951Z
LAST-MODIFIED:20200113T173951Z
UID:486-1579680000-1579712400@up-beatfirstaid.ca
SUMMARY:H2S Alive (Chetwynd)
DESCRIPTION:
URL:https://up-beatfirstaid.ca/event/h2s-alive-chetwynd/
LOCATION:Up-Beat First Aid Chetwynd\, 4717 – 51 St\, Chetwynd\, British Columbia\, V0C 1J0\, Canada
CATEGORIES:H2S Alive
ORGANIZER;CN="Up-Beat First Aid & Safety Training":MAILTO:up-beat@live.ca
END:VEVENT
BEGIN:VEVENT
DTSTART;TZID=America/Dawson_Creek:20200120T080000
DTEND;TZID=America/Dawson_Creek:20200120T170000
DTSTAMP:20260422T043530
CREATED:20200113T164242Z
LAST-MODIFIED:20200131T222032Z
UID:403-1579507200-1579539600@up-beatfirstaid.ca
SUMMARY:H2S Alive (Dawson Creek)
DESCRIPTION:UFA&ST H2S Alive Course Description
URL:https://up-beatfirstaid.ca/event/h2s-alive-dawson-creek-2020-01-20/
LOCATION:British Columbia\, Canada
CATEGORIES:H2S Alive
ORGANIZER;CN="Up-Beat First Aid & Safety Training":MAILTO:up-beat@live.ca
END:VEVENT
BEGIN:VEVENT
DTSTART;TZID=America/Dawson_Creek:20200113T080000
DTEND;TZID=America/Dawson_Creek:20200113T170000
DTSTAMP:20260422T043530
CREATED:20200113T164242Z
LAST-MODIFIED:20200131T211704Z
UID:351-1578902400-1578934800@up-beatfirstaid.ca
SUMMARY:H2S Alive (Dawson Creek)
DESCRIPTION:UFA&ST H2S Alive Course Description
URL:https://up-beatfirstaid.ca/event/h2s-alive-dawson-creek/
LOCATION:British Columbia\, Canada
CATEGORIES:H2S Alive
ORGANIZER;CN="Up-Beat First Aid & Safety Training":MAILTO:up-beat@live.ca
END:VEVENT
END:VCALENDAR