BEGIN:VCALENDAR
VERSION:2.0
PRODID:-//Up-Beat First Aid &amp; Safety Training Ltd. - ECPv6.15.20//NONSGML v1.0//EN
CALSCALE:GREGORIAN
METHOD:PUBLISH
X-ORIGINAL-URL:https://up-beatfirstaid.ca
X-WR-CALDESC:Events for Up-Beat First Aid &amp; Safety Training Ltd.
REFRESH-INTERVAL;VALUE=DURATION:PT1H
X-Robots-Tag:noindex
X-PUBLISHED-TTL:PT1H
BEGIN:VTIMEZONE
TZID:America/Dawson_Creek
BEGIN:STANDARD
TZOFFSETFROM:-0700
TZOFFSETTO:-0700
TZNAME:MST
DTSTART:20210101T000000
END:STANDARD
END:VTIMEZONE
BEGIN:VEVENT
DTSTART;TZID=America/Dawson_Creek:20220906T083000
DTEND;TZID=America/Dawson_Creek:20220906T170000
DTSTAMP:20260425T210500
CREATED:20220712T164854Z
LAST-MODIFIED:20220712T164854Z
UID:6619-1662453000-1662483600@up-beatfirstaid.ca
SUMMARY:Level 1 First Aid - Dawson Creek
DESCRIPTION:WorkPlace Emergency First Aid – OFA 1 Equivalent
URL:https://up-beatfirstaid.ca/event/level-1-first-aid-dawson-creek-15/
LOCATION:Up-Beat First Aid Dawson Creek NEW\, 11000 8th Street\, Dawson Creek\, British Columbia\, V1G 4K6\, Canada
CATEGORIES:Emergency First Aid (EFA),OFA1
ORGANIZER;CN="Up-Beat First Aid & Safety Training":MAILTO:up-beat@live.ca
END:VEVENT
BEGIN:VEVENT
DTSTART;TZID=America/Dawson_Creek:20220913T083000
DTEND;TZID=America/Dawson_Creek:20220913T170000
DTSTAMP:20260425T210500
CREATED:20220712T165021Z
LAST-MODIFIED:20220907T170619Z
UID:6622-1663057800-1663088400@up-beatfirstaid.ca
SUMMARY:Level 1 First Aid - Dawson Creek
DESCRIPTION:WorkPlace Emergency First Aid – OFA 1 Equivalent
URL:https://up-beatfirstaid.ca/event/level-1-first-aid-dawson-creek-19/
LOCATION:Up-Beat First Aid Dawson Creek NEW\, 11000 8th Street\, Dawson Creek\, British Columbia\, V1G 4K6\, Canada
CATEGORIES:Emergency First Aid (EFA),OFA1
ORGANIZER;CN="Up-Beat First Aid & Safety Training":MAILTO:up-beat@live.ca
END:VEVENT
BEGIN:VEVENT
DTSTART;TZID=America/Dawson_Creek:20220915T083000
DTEND;TZID=America/Dawson_Creek:20220915T170000
DTSTAMP:20260425T210500
CREATED:20220712T173804Z
LAST-MODIFIED:20220914T203709Z
UID:6652-1663230600-1663261200@up-beatfirstaid.ca
SUMMARY:Level 1 First Aid - Dawson Creek
DESCRIPTION:WorkPlace Emergency First Aid – OFA 1 Equivalent
URL:https://up-beatfirstaid.ca/event/level-1-first-aid-dawson-creek-36/
LOCATION:Up-Beat First Aid Dawson Creek NEW\, 11000 8th Street\, Dawson Creek\, British Columbia\, V1G 4K6\, Canada
CATEGORIES:Emergency First Aid (EFA),OFA1
ORGANIZER;CN="Up-Beat First Aid & Safety Training":MAILTO:up-beat@live.ca
END:VEVENT
BEGIN:VEVENT
DTSTART;TZID=America/Dawson_Creek:20220920T083000
DTEND;TZID=America/Dawson_Creek:20220920T170000
DTSTAMP:20260425T210500
CREATED:20220712T165108Z
LAST-MODIFIED:20220914T183457Z
UID:6625-1663662600-1663693200@up-beatfirstaid.ca
SUMMARY:Level 1 First Aid - Dawson Creek
DESCRIPTION:WorkPlace Emergency First Aid – OFA 1 Equivalent
URL:https://up-beatfirstaid.ca/event/level-1-first-aid-dawson-creek-32/
LOCATION:Up-Beat First Aid Dawson Creek NEW\, 11000 8th Street\, Dawson Creek\, British Columbia\, V1G 4K6\, Canada
CATEGORIES:Emergency First Aid (EFA),OFA1
ORGANIZER;CN="Up-Beat First Aid & Safety Training":MAILTO:up-beat@live.ca
END:VEVENT
BEGIN:VEVENT
DTSTART;TZID=America/Dawson_Creek:20220922T083000
DTEND;TZID=America/Dawson_Creek:20220922T170000
DTSTAMP:20260425T210500
CREATED:20220712T173858Z
LAST-MODIFIED:20220919T210757Z
UID:6655-1663835400-1663866000@up-beatfirstaid.ca
SUMMARY:Level 1 First Aid - Dawson Creek
DESCRIPTION:WorkPlace Emergency First Aid – OFA 1 Equivalent
URL:https://up-beatfirstaid.ca/event/level-1-first-aid-dawson-creek-37/
LOCATION:Up-Beat First Aid Dawson Creek NEW\, 11000 8th Street\, Dawson Creek\, British Columbia\, V1G 4K6\, Canada
CATEGORIES:Emergency First Aid (EFA),OFA1
ORGANIZER;CN="Up-Beat First Aid & Safety Training":MAILTO:up-beat@live.ca
END:VEVENT
BEGIN:VEVENT
DTSTART;TZID=America/Dawson_Creek:20220923T080000
DTEND;TZID=America/Dawson_Creek:20220923T170000
DTSTAMP:20260425T210500
CREATED:20220810T183104Z
LAST-MODIFIED:20220919T210848Z
UID:6863-1663920000-1663952400@up-beatfirstaid.ca
SUMMARY:Level 1 first aid - Chetwynd
DESCRIPTION:
URL:https://up-beatfirstaid.ca/event/level-1-first-aid-chetwynd-9/
LOCATION:Up-Beat First Aid Chetwynd\, 4717 – 51 St\, Chetwynd\, British Columbia\, V0C 1J0\, Canada
CATEGORIES:CPR A,Emergency First Aid (EFA),OFA1
ORGANIZER;CN="Up-Beat First Aid & Safety Training":MAILTO:up-beat@live.ca
END:VEVENT
BEGIN:VEVENT
DTSTART;TZID=America/Dawson_Creek:20220927T083000
DTEND;TZID=America/Dawson_Creek:20220927T170000
DTSTAMP:20260425T210500
CREATED:20220712T170226Z
LAST-MODIFIED:20220926T161406Z
UID:6631-1664267400-1664298000@up-beatfirstaid.ca
SUMMARY:Level 1 First Aid - Dawson Creek
DESCRIPTION:WorkPlace Emergency First Aid – OFA 1 Equivalent
URL:https://up-beatfirstaid.ca/event/level-1-first-aid-dawson-creek-33/
LOCATION:Up-Beat First Aid Dawson Creek NEW\, 11000 8th Street\, Dawson Creek\, British Columbia\, V1G 4K6\, Canada
CATEGORIES:Emergency First Aid (EFA),OFA1
ORGANIZER;CN="Up-Beat First Aid & Safety Training":MAILTO:up-beat@live.ca
END:VEVENT
END:VCALENDAR