BEGIN:VCALENDAR
VERSION:2.0
PRODID:-//Up-Beat First Aid &amp; Safety Training Ltd. - ECPv6.15.20//NONSGML v1.0//EN
CALSCALE:GREGORIAN
METHOD:PUBLISH
X-WR-CALNAME:Up-Beat First Aid &amp; Safety Training Ltd.
X-ORIGINAL-URL:https://up-beatfirstaid.ca
X-WR-CALDESC:Events for Up-Beat First Aid &amp; Safety Training Ltd.
REFRESH-INTERVAL;VALUE=DURATION:PT1H
X-Robots-Tag:noindex
X-PUBLISHED-TTL:PT1H
BEGIN:VTIMEZONE
TZID:America/Dawson_Creek
BEGIN:STANDARD
TZOFFSETFROM:-0700
TZOFFSETTO:-0700
TZNAME:MST
DTSTART:20210101T000000
END:STANDARD
END:VTIMEZONE
BEGIN:VEVENT
DTSTART;TZID=America/Dawson_Creek:20220729T080000
DTEND;TZID=America/Dawson_Creek:20220729T170000
DTSTAMP:20260421T153049
CREATED:20220606T202602Z
LAST-MODIFIED:20220714T201547Z
UID:6492-1659081600-1659114000@up-beatfirstaid.ca
SUMMARY:Level 1 First aid - Chetwynd
DESCRIPTION:
URL:https://up-beatfirstaid.ca/event/level-1-first-aid-chetwynd-6/
LOCATION:Up-Beat First Aid Chetwynd\, 4717 – 51 St\, Chetwynd\, British Columbia\, V0C 1J0\, Canada
CATEGORIES:Emergency First Aid (EFA),OFA1
ORGANIZER;CN="Up-Beat First Aid & Safety Training":MAILTO:up-beat@live.ca
END:VEVENT
BEGIN:VEVENT
DTSTART;TZID=America/Dawson_Creek:20220728T083000
DTEND;TZID=America/Dawson_Creek:20220728T170000
DTSTAMP:20260421T153049
CREATED:20220503T230010Z
LAST-MODIFIED:20220607T184806Z
UID:6371-1658997000-1659027600@up-beatfirstaid.ca
SUMMARY:Level 1 first Aid - Dawson Creek
DESCRIPTION:
URL:https://up-beatfirstaid.ca/event/level-1-first-aid-dawson-creek-23/
LOCATION:Up-Beat First Aid Dawson Creek NEW\, 11000 8th Street\, Dawson Creek\, British Columbia\, V1G 4K6\, Canada
CATEGORIES:Emergency First Aid (EFA),OFA1,Workplace Emergency 1st Aid
ORGANIZER;CN="Up-Beat First Aid & Safety Training":MAILTO:up-beat@live.ca
END:VEVENT
BEGIN:VEVENT
DTSTART;TZID=America/Dawson_Creek:20220726T083000
DTEND;TZID=America/Dawson_Creek:20220726T170000
DTSTAMP:20260421T153049
CREATED:20220503T225006Z
LAST-MODIFIED:20220725T160725Z
UID:6364-1658824200-1658854800@up-beatfirstaid.ca
SUMMARY:Level 1 first Aid - Dawson Creek
DESCRIPTION:
URL:https://up-beatfirstaid.ca/event/level-1-first-aid-dawson-creek-22/
LOCATION:Up-Beat First Aid Dawson Creek NEW\, 11000 8th Street\, Dawson Creek\, British Columbia\, V1G 4K6\, Canada
CATEGORIES:Emergency First Aid (EFA),OFA1,Workplace Emergency 1st Aid
ORGANIZER;CN="Up-Beat First Aid & Safety Training":MAILTO:up-beat@live.ca
END:VEVENT
BEGIN:VEVENT
DTSTART;TZID=America/Dawson_Creek:20220721T083000
DTEND;TZID=America/Dawson_Creek:20220721T170000
DTSTAMP:20260421T153049
CREATED:20220503T221808Z
LAST-MODIFIED:20220715T220848Z
UID:6358-1658392200-1658422800@up-beatfirstaid.ca
SUMMARY:Level 1 first Aid - Dawson Creek
DESCRIPTION:
URL:https://up-beatfirstaid.ca/event/level-1-first-aid-dawson-creek-21/
LOCATION:Up-Beat First Aid Dawson Creek NEW\, 11000 8th Street\, Dawson Creek\, British Columbia\, V1G 4K6\, Canada
CATEGORIES:Emergency First Aid (EFA),OFA1,Workplace Emergency 1st Aid
ORGANIZER;CN="Up-Beat First Aid & Safety Training":MAILTO:up-beat@live.ca
END:VEVENT
BEGIN:VEVENT
DTSTART;TZID=America/Dawson_Creek:20220719T083000
DTEND;TZID=America/Dawson_Creek:20220719T170000
DTSTAMP:20260421T153049
CREATED:20220503T221535Z
LAST-MODIFIED:20220715T192021Z
UID:6352-1658219400-1658250000@up-beatfirstaid.ca
SUMMARY:Level 1 first Aid - Dawson Creek
DESCRIPTION:
URL:https://up-beatfirstaid.ca/event/level-1-first-aid-dawson-creek-20/
LOCATION:Up-Beat First Aid Dawson Creek NEW\, 11000 8th Street\, Dawson Creek\, British Columbia\, V1G 4K6\, Canada
CATEGORIES:Emergency First Aid (EFA),OFA1,Workplace Emergency 1st Aid
ORGANIZER;CN="Up-Beat First Aid & Safety Training":MAILTO:up-beat@live.ca
END:VEVENT
BEGIN:VEVENT
DTSTART;TZID=America/Dawson_Creek:20220715T080000
DTEND;TZID=America/Dawson_Creek:20220715T170000
DTSTAMP:20260421T153049
CREATED:20220606T202506Z
LAST-MODIFIED:20220714T155855Z
UID:6489-1657872000-1657904400@up-beatfirstaid.ca
SUMMARY:Level 1 First aid - Chetwynd
DESCRIPTION:
URL:https://up-beatfirstaid.ca/event/level-1-first-aid-chetwynd-5/
LOCATION:Up-Beat First Aid Chetwynd\, 4717 – 51 St\, Chetwynd\, British Columbia\, V0C 1J0\, Canada
CATEGORIES:Emergency First Aid (EFA),OFA1
ORGANIZER;CN="Up-Beat First Aid & Safety Training":MAILTO:up-beat@live.ca
END:VEVENT
BEGIN:VEVENT
DTSTART;TZID=America/Dawson_Creek:20220707T083000
DTEND;TZID=America/Dawson_Creek:20220707T170000
DTSTAMP:20260421T153049
CREATED:20220503T220605Z
LAST-MODIFIED:20220706T183045Z
UID:6334-1657182600-1657213200@up-beatfirstaid.ca
SUMMARY:Level 1 first Aid - Dawson Creek
DESCRIPTION:
URL:https://up-beatfirstaid.ca/event/level-1-first-aid-dawson-creek-17/
LOCATION:Up-Beat First Aid Dawson Creek NEW\, 11000 8th Street\, Dawson Creek\, British Columbia\, V1G 4K6\, Canada
CATEGORIES:Emergency First Aid (EFA),OFA1,Workplace Emergency 1st Aid
ORGANIZER;CN="Up-Beat First Aid & Safety Training":MAILTO:up-beat@live.ca
END:VEVENT
BEGIN:VEVENT
DTSTART;TZID=America/Dawson_Creek:20220628T083000
DTEND;TZID=America/Dawson_Creek:20220628T170000
DTSTAMP:20260421T153049
CREATED:20220503T213913Z
LAST-MODIFIED:20220627T183623Z
UID:6316-1656405000-1656435600@up-beatfirstaid.ca
SUMMARY:Level 1 first Aid - Dawson Creek
DESCRIPTION:
URL:https://up-beatfirstaid.ca/event/level-1-first-aid-dawson-creek-14/
LOCATION:Up-Beat First Aid Dawson Creek NEW\, 11000 8th Street\, Dawson Creek\, British Columbia\, V1G 4K6\, Canada
CATEGORIES:Emergency First Aid (EFA),OFA1,Workplace Emergency 1st Aid
ORGANIZER;CN="Up-Beat First Aid & Safety Training":MAILTO:up-beat@live.ca
END:VEVENT
BEGIN:VEVENT
DTSTART;TZID=America/Dawson_Creek:20220624T080000
DTEND;TZID=America/Dawson_Creek:20220624T170000
DTSTAMP:20260421T153049
CREATED:20220518T182107Z
LAST-MODIFIED:20220615T170610Z
UID:6384-1656057600-1656090000@up-beatfirstaid.ca
SUMMARY:Level 1 First aid - Chetwynd
DESCRIPTION:
URL:https://up-beatfirstaid.ca/event/level-1-first-aid-chetwynd-4/
LOCATION:Up-Beat First Aid Chetwynd\, 4717 – 51 St\, Chetwynd\, British Columbia\, V0C 1J0\, Canada
CATEGORIES:Emergency First Aid (EFA),OFA1
ORGANIZER;CN="Up-Beat First Aid & Safety Training":MAILTO:up-beat@live.ca
END:VEVENT
BEGIN:VEVENT
DTSTART;TZID=America/Dawson_Creek:20220623T083000
DTEND;TZID=America/Dawson_Creek:20220623T170000
DTSTAMP:20260421T153049
CREATED:20220503T213407Z
LAST-MODIFIED:20220617T214021Z
UID:6307-1655973000-1656003600@up-beatfirstaid.ca
SUMMARY:Level 1 first Aid - Dawson Creek
DESCRIPTION:
URL:https://up-beatfirstaid.ca/event/level-1-first-aid-dawson-creek-13/
LOCATION:Up-Beat First Aid Dawson Creek NEW\, 11000 8th Street\, Dawson Creek\, British Columbia\, V1G 4K6\, Canada
CATEGORIES:Emergency First Aid (EFA),OFA1,Workplace Emergency 1st Aid
ORGANIZER;CN="Up-Beat First Aid & Safety Training":MAILTO:up-beat@live.ca
END:VEVENT
BEGIN:VEVENT
DTSTART;TZID=America/Dawson_Creek:20220621T083000
DTEND;TZID=America/Dawson_Creek:20220621T163000
DTSTAMP:20260421T153049
CREATED:20220329T204622Z
LAST-MODIFIED:20220620T150600Z
UID:6040-1655800200-1655829000@up-beatfirstaid.ca
SUMMARY:Level 1 First Aid - Dawson Creek
DESCRIPTION:Red cross Work Place Emergency First Aid – OFA 1 equivalent
URL:https://up-beatfirstaid.ca/event/level-1-first-aid-dawson-creek-4/
LOCATION:Up-Beat First Aid Dawson Creek NEW\, 11000 8th Street\, Dawson Creek\, British Columbia\, V1G 4K6\, Canada
CATEGORIES:Emergency First Aid (EFA),OFA1,Workplace Emergency 1st Aid
ORGANIZER;CN="Up-Beat First Aid & Safety Training":MAILTO:up-beat@live.ca
END:VEVENT
BEGIN:VEVENT
DTSTART;TZID=America/Dawson_Creek:20220616T093000
DTEND;TZID=America/Dawson_Creek:20220616T170000
DTSTAMP:20260421T153049
CREATED:20220503T212700Z
LAST-MODIFIED:20220503T212700Z
UID:6301-1655371800-1655398800@up-beatfirstaid.ca
SUMMARY:Level 1 First Aid - Dawson Creek
DESCRIPTION:
URL:https://up-beatfirstaid.ca/event/level-1-first-aid-dawson-creek-12/
LOCATION:Up-Beat First Aid Dawson Creek NEW\, 11000 8th Street\, Dawson Creek\, British Columbia\, V1G 4K6\, Canada
CATEGORIES:CPR A,Emergency First Aid (EFA),OFA1
ORGANIZER;CN="Up-Beat First Aid & Safety Training":MAILTO:up-beat@live.ca
END:VEVENT
BEGIN:VEVENT
DTSTART;TZID=America/Dawson_Creek:20220614T093000
DTEND;TZID=America/Dawson_Creek:20220614T093000
DTSTAMP:20260421T153049
CREATED:20220308T215001Z
LAST-MODIFIED:20220613T200159Z
UID:5688-1655199000-1655199000@up-beatfirstaid.ca
SUMMARY:Level 1 first Aid - Dawson Creek
DESCRIPTION:
URL:https://up-beatfirstaid.ca/event/work-place-emergency-first-aid-ofa-1-dawson-creek-5/
LOCATION:Up-Beat First Aid Dawson Creek NEW\, 11000 8th Street\, Dawson Creek\, British Columbia\, V1G 4K6\, Canada
CATEGORIES:Emergency First Aid (EFA),OFA1,Workplace Emergency 1st Aid
ORGANIZER;CN="Up-Beat First Aid & Safety Training":MAILTO:up-beat@live.ca
END:VEVENT
BEGIN:VEVENT
DTSTART;TZID=America/Dawson_Creek:20220610T093000
DTEND;TZID=America/Dawson_Creek:20220610T170000
DTSTAMP:20260421T153049
CREATED:20220603T185040Z
LAST-MODIFIED:20220603T205824Z
UID:6484-1654853400-1654880400@up-beatfirstaid.ca
SUMMARY:Level 1 First Aid - Dawson Creek
DESCRIPTION:
URL:https://up-beatfirstaid.ca/event/level-1-first-aid-dawson-creek-6/
LOCATION:Up-Beat First Aid Dawson Creek NEW\, 11000 8th Street\, Dawson Creek\, British Columbia\, V1G 4K6\, Canada
CATEGORIES:CPR A,Emergency First Aid (EFA),OFA1
ORGANIZER;CN="Up-Beat First Aid & Safety Training":MAILTO:up-beat@live.ca
END:VEVENT
BEGIN:VEVENT
DTSTART;TZID=America/Dawson_Creek:20220607T093000
DTEND;TZID=America/Dawson_Creek:20220607T170000
DTSTAMP:20260421T153049
CREATED:20220502T161021Z
LAST-MODIFIED:20220602T185355Z
UID:6280-1654594200-1654621200@up-beatfirstaid.ca
SUMMARY:Level 1 First Aid - Dawson Creek
DESCRIPTION:
URL:https://up-beatfirstaid.ca/event/level-1-first-aid-dawson-creek-10/
LOCATION:Up-Beat First Aid Dawson Creek NEW\, 11000 8th Street\, Dawson Creek\, British Columbia\, V1G 4K6\, Canada
CATEGORIES:CPR A,Emergency First Aid (EFA),OFA1
ORGANIZER;CN="Up-Beat First Aid & Safety Training":MAILTO:up-beat@live.ca
END:VEVENT
BEGIN:VEVENT
DTSTART;TZID=America/Dawson_Creek:20220603T080000
DTEND;TZID=America/Dawson_Creek:20220603T170000
DTSTAMP:20260421T153049
CREATED:20220518T181603Z
LAST-MODIFIED:20220602T205452Z
UID:6381-1654243200-1654275600@up-beatfirstaid.ca
SUMMARY:Level 1 First aid - Chetwynd
DESCRIPTION:
URL:https://up-beatfirstaid.ca/event/level-1-first-aid-chetwynd-3/
LOCATION:Up-Beat First Aid Chetwynd\, 4717 – 51 St\, Chetwynd\, British Columbia\, V0C 1J0\, Canada
CATEGORIES:Emergency First Aid (EFA),OFA1
ORGANIZER;CN="Up-Beat First Aid & Safety Training":MAILTO:up-beat@live.ca
END:VEVENT
BEGIN:VEVENT
DTSTART;TZID=America/Dawson_Creek:20220531T093000
DTEND;TZID=America/Dawson_Creek:20220531T163000
DTSTAMP:20260421T153049
CREATED:20220329T205445Z
LAST-MODIFIED:20220530T182132Z
UID:6049-1653989400-1654014600@up-beatfirstaid.ca
SUMMARY:Level 1 First Aid - Dawson Creek
DESCRIPTION:Red cross Work Place Emergency First Aid – OFA 1 equivalent
URL:https://up-beatfirstaid.ca/event/level-1-first-aid-dawson-creek-7/
LOCATION:Up-Beat First Aid Dawson Creek NEW\, 11000 8th Street\, Dawson Creek\, British Columbia\, V1G 4K6\, Canada
CATEGORIES:Emergency First Aid (EFA),OFA1,Workplace Emergency 1st Aid
ORGANIZER;CN="Up-Beat First Aid & Safety Training":MAILTO:up-beat@live.ca
END:VEVENT
BEGIN:VEVENT
DTSTART;TZID=America/Dawson_Creek:20220527T093000
DTEND;TZID=America/Dawson_Creek:20220527T170000
DTSTAMP:20260421T153049
CREATED:20220425T231935Z
LAST-MODIFIED:20220524T182155Z
UID:6245-1653643800-1653670800@up-beatfirstaid.ca
SUMMARY:Level 1 First Aid - Dawson Creek
DESCRIPTION:Work Place Emergency First Aid – OFA 1 Equivalent
URL:https://up-beatfirstaid.ca/event/level-1-first-aid-dawson-creek-3/
LOCATION:Up-Beat First Aid Dawson Creek NEW\, 11000 8th Street\, Dawson Creek\, British Columbia\, V1G 4K6\, Canada
CATEGORIES:Emergency First Aid (EFA),OFA1
ORGANIZER;CN="Up-Beat First Aid & Safety Training":MAILTO:up-beat@live.ca
END:VEVENT
BEGIN:VEVENT
DTSTART;TZID=America/Dawson_Creek:20220524T093000
DTEND;TZID=America/Dawson_Creek:20220524T163000
DTSTAMP:20260421T153049
CREATED:20220329T205223Z
LAST-MODIFIED:20220520T171906Z
UID:6043-1653384600-1653409800@up-beatfirstaid.ca
SUMMARY:Level 1 First Aid - Dawson Creek
DESCRIPTION:Red cross Work Place Emergency First Aid – OFA 1 equivalent
URL:https://up-beatfirstaid.ca/event/level-1-first-aid-dawson-creek-5/
LOCATION:Up-Beat First Aid Dawson Creek NEW\, 11000 8th Street\, Dawson Creek\, British Columbia\, V1G 4K6\, Canada
CATEGORIES:Emergency First Aid (EFA),OFA1,Workplace Emergency 1st Aid
ORGANIZER;CN="Up-Beat First Aid & Safety Training":MAILTO:up-beat@live.ca
END:VEVENT
BEGIN:VEVENT
DTSTART;TZID=America/Dawson_Creek:20220517T093000
DTEND;TZID=America/Dawson_Creek:20220517T163000
DTSTAMP:20260421T153049
CREATED:20220422T203919Z
LAST-MODIFIED:20220422T203919Z
UID:6228-1652779800-1652805000@up-beatfirstaid.ca
SUMMARY:Level 1 First Aid - Dawson Creek
DESCRIPTION:Red cross Work Place Emergency First Aid – OFA 1 equivalent
URL:https://up-beatfirstaid.ca/event/level-1-first-aid-dawson-creek-8/
LOCATION:Up-Beat First Aid Dawson Creek NEW\, 11000 8th Street\, Dawson Creek\, British Columbia\, V1G 4K6\, Canada
CATEGORIES:Emergency First Aid (EFA),OFA1,Workplace Emergency 1st Aid
ORGANIZER;CN="Up-Beat First Aid & Safety Training":MAILTO:up-beat@live.ca
END:VEVENT
BEGIN:VEVENT
DTSTART;TZID=America/Dawson_Creek:20220513T093000
DTEND;TZID=America/Dawson_Creek:20220513T163000
DTSTAMP:20260421T153050
CREATED:20220329T204339Z
LAST-MODIFIED:20220510T193132Z
UID:6034-1652434200-1652459400@up-beatfirstaid.ca
SUMMARY:Level 1 First Aid - Dawson Creek
DESCRIPTION:Red cross Work Place Emergency First Aid – OFA 1 equivalent
URL:https://up-beatfirstaid.ca/event/level-1-first-aid-dawson-creek-2/
LOCATION:Up-Beat First Aid Dawson Creek NEW\, 11000 8th Street\, Dawson Creek\, British Columbia\, V1G 4K6\, Canada
CATEGORIES:Emergency First Aid (EFA),OFA1,Workplace Emergency 1st Aid
ORGANIZER;CN="Up-Beat First Aid & Safety Training":MAILTO:up-beat@live.ca
END:VEVENT
BEGIN:VEVENT
DTSTART;TZID=America/Dawson_Creek:20220510T093000
DTEND;TZID=America/Dawson_Creek:20220510T170000
DTSTAMP:20260421T153050
CREATED:20220425T232240Z
LAST-MODIFIED:20220425T232240Z
UID:6250-1652175000-1652202000@up-beatfirstaid.ca
SUMMARY:Level 1 First Aid - Dawson Creek
DESCRIPTION:WorkPlace Emergency First Aid – OFA 1 Equivalent
URL:https://up-beatfirstaid.ca/event/level-1-first-aid-dawson-creek-9/
LOCATION:Up-Beat First Aid Dawson Creek NEW\, 11000 8th Street\, Dawson Creek\, British Columbia\, V1G 4K6\, Canada
CATEGORIES:Emergency First Aid (EFA),OFA1
ORGANIZER;CN="Up-Beat First Aid & Safety Training":MAILTO:up-beat@live.ca
END:VEVENT
BEGIN:VEVENT
DTSTART;TZID=America/Dawson_Creek:20220506T093000
DTEND;TZID=America/Dawson_Creek:20220506T163000
DTSTAMP:20260421T153050
CREATED:20220329T204245Z
LAST-MODIFIED:20220505T175404Z
UID:6031-1651829400-1651854600@up-beatfirstaid.ca
SUMMARY:Level 1 First Aid - Dawson Creek
DESCRIPTION:Red cross Work Place Emergency First Aid – OFA 1 equivalent
URL:https://up-beatfirstaid.ca/event/level-1-first-aid-dawson-creek/
LOCATION:Up-Beat First Aid Dawson Creek NEW\, 11000 8th Street\, Dawson Creek\, British Columbia\, V1G 4K6\, Canada
CATEGORIES:Emergency First Aid (EFA),OFA1,Workplace Emergency 1st Aid
ORGANIZER;CN="Up-Beat First Aid & Safety Training":MAILTO:up-beat@live.ca
END:VEVENT
BEGIN:VEVENT
DTSTART;TZID=America/Dawson_Creek:20220426T093000
DTEND;TZID=America/Dawson_Creek:20220426T093000
DTSTAMP:20260421T153050
CREATED:20220308T212355Z
LAST-MODIFIED:20220308T212703Z
UID:5662-1650965400-1650965400@up-beatfirstaid.ca
SUMMARY:Work Place Emergency First Aid - OFA 1 Dawson Creek
DESCRIPTION:
URL:https://up-beatfirstaid.ca/event/work-place-emergency-first-aid-ofa-1-dawson-creek-4/
LOCATION:Up-Beat First Aid Dawson Creek NEW\, 11000 8th Street\, Dawson Creek\, British Columbia\, V1G 4K6\, Canada
CATEGORIES:Emergency First Aid (EFA),OFA1,Workplace Emergency 1st Aid
ORGANIZER;CN="Up-Beat First Aid & Safety Training":MAILTO:up-beat@live.ca
END:VEVENT
BEGIN:VEVENT
DTSTART;TZID=America/Dawson_Creek:20220422T080000
DTEND;TZID=America/Dawson_Creek:20220422T170000
DTSTAMP:20260421T153050
CREATED:20220308T214443Z
LAST-MODIFIED:20220308T214558Z
UID:5680-1650614400-1650646800@up-beatfirstaid.ca
SUMMARY:Work Place Emergency First Aid - OFA 1  - Chetwynd
DESCRIPTION:
URL:https://up-beatfirstaid.ca/event/work-place-emergency-first-aid-ofa-1-equivalent-chetwynd-10/
LOCATION:Up-Beat First Aid Chetwynd\, 4717 – 51 St\, Chetwynd\, British Columbia\, V0C 1J0\, Canada
CATEGORIES:Emergency First Aid (EFA),OFA1,Workplace Emergency 1st Aid
ORGANIZER;CN="Up-Beat First Aid & Safety Training":MAILTO:up-beat@live.ca
END:VEVENT
BEGIN:VEVENT
DTSTART;TZID=America/Dawson_Creek:20220419T093000
DTEND;TZID=America/Dawson_Creek:20220419T093000
DTSTAMP:20260421T153050
CREATED:20220308T212015Z
LAST-MODIFIED:20220308T212015Z
UID:5658-1650360600-1650360600@up-beatfirstaid.ca
SUMMARY:Work Place Emergency First Aid - OFA 1 Dawson Creek
DESCRIPTION:
URL:https://up-beatfirstaid.ca/event/work-place-emergency-first-aid-ofa-1-dawson-creek-3/
LOCATION:Up-Beat First Aid Dawson Creek NEW\, 11000 8th Street\, Dawson Creek\, British Columbia\, V1G 4K6\, Canada
CATEGORIES:Emergency First Aid (EFA),OFA1,Workplace Emergency 1st Aid
ORGANIZER;CN="Up-Beat First Aid & Safety Training":MAILTO:up-beat@live.ca
END:VEVENT
BEGIN:VEVENT
DTSTART;TZID=America/Dawson_Creek:20220412T080000
DTEND;TZID=America/Dawson_Creek:20220412T080000
DTSTAMP:20260421T153050
CREATED:20220404T183239Z
LAST-MODIFIED:20220404T183239Z
UID:6179-1649750400-1649750400@up-beatfirstaid.ca
SUMMARY:Work Place Emergency First Aid - OFA 1 Dawson Creek
DESCRIPTION:
URL:https://up-beatfirstaid.ca/event/work-place-emergency-first-aid-ofa-1-dawson-creek-2/
LOCATION:Up-Beat First Aid Dawson Creek NEW\, 11000 8th Street\, Dawson Creek\, British Columbia\, V1G 4K6\, Canada
CATEGORIES:Emergency First Aid (EFA),OFA1,Workplace Emergency 1st Aid
ORGANIZER;CN="Up-Beat First Aid & Safety Training":MAILTO:up-beat@live.ca
END:VEVENT
BEGIN:VEVENT
DTSTART;TZID=America/Dawson_Creek:20220405T093000
DTEND;TZID=America/Dawson_Creek:20220405T093000
DTSTAMP:20260421T153050
CREATED:20220308T211455Z
LAST-MODIFIED:20220329T192921Z
UID:5652-1649151000-1649151000@up-beatfirstaid.ca
SUMMARY:Work Place Emergency First Aid - OFA 1 Dawson Creek
DESCRIPTION:
URL:https://up-beatfirstaid.ca/event/work-place-emergency-first-aid-ofa-1-dawson-creek/
LOCATION:Up-Beat First Aid Dawson Creek NEW\, 11000 8th Street\, Dawson Creek\, British Columbia\, V1G 4K6\, Canada
CATEGORIES:Emergency First Aid (EFA),OFA1,Workplace Emergency 1st Aid
ORGANIZER;CN="Up-Beat First Aid & Safety Training":MAILTO:up-beat@live.ca
END:VEVENT
BEGIN:VEVENT
DTSTART;TZID=America/Dawson_Creek:20220401T080000
DTEND;TZID=America/Dawson_Creek:20220401T170000
DTSTAMP:20260421T153050
CREATED:20220308T214347Z
LAST-MODIFIED:20220308T214642Z
UID:5677-1648800000-1648832400@up-beatfirstaid.ca
SUMMARY:Work Place Emergency First Aid - OFA 1  - Chetwynd
DESCRIPTION:
URL:https://up-beatfirstaid.ca/event/work-place-emergency-first-aid-ofa-1-equivalent-chetwynd-9/
LOCATION:Up-Beat First Aid Chetwynd\, 4717 – 51 St\, Chetwynd\, British Columbia\, V0C 1J0\, Canada
CATEGORIES:Emergency First Aid (EFA),OFA1,Workplace Emergency 1st Aid
ORGANIZER;CN="Up-Beat First Aid & Safety Training":MAILTO:up-beat@live.ca
END:VEVENT
BEGIN:VEVENT
DTSTART;TZID=America/Dawson_Creek:20220329T093000
DTEND;TZID=America/Dawson_Creek:20220329T170000
DTSTAMP:20260421T153050
CREATED:20220128T162526Z
LAST-MODIFIED:20220128T162526Z
UID:4897-1648546200-1648573200@up-beatfirstaid.ca
SUMMARY:WorkPlace Emergency First Aid - OFA 1 equivalent - Dawson Creek
DESCRIPTION:
URL:https://up-beatfirstaid.ca/event/workplace-emergency-first-aid-ofa-1-equivalent-dawson-creek-23/
LOCATION:Up-Beat First Aid Dawson Creek NEW\, 11000 8th Street\, Dawson Creek\, British Columbia\, V1G 4K6\, Canada
CATEGORIES:Emergency First Aid (EFA),OFA1,Workplace Emergency 1st Aid
ORGANIZER;CN="Up-Beat First Aid & Safety Training":MAILTO:up-beat@live.ca
END:VEVENT
END:VCALENDAR