BEGIN:VCALENDAR
VERSION:2.0
PRODID:-//Up-Beat First Aid &amp; Safety Training Ltd. - ECPv6.15.20//NONSGML v1.0//EN
CALSCALE:GREGORIAN
METHOD:PUBLISH
X-WR-CALNAME:Up-Beat First Aid &amp; Safety Training Ltd.
X-ORIGINAL-URL:https://up-beatfirstaid.ca
X-WR-CALDESC:Events for Up-Beat First Aid &amp; Safety Training Ltd.
REFRESH-INTERVAL;VALUE=DURATION:PT1H
X-Robots-Tag:noindex
X-PUBLISHED-TTL:PT1H
BEGIN:VTIMEZONE
TZID:America/Dawson_Creek
BEGIN:STANDARD
TZOFFSETFROM:-0700
TZOFFSETTO:-0700
TZNAME:MST
DTSTART:20240101T000000
END:STANDARD
END:VTIMEZONE
BEGIN:VEVENT
DTSTART;TZID=America/Dawson_Creek:20250805T091500
DTEND;TZID=America/Dawson_Creek:20250806T170000
DTSTAMP:20260420T012402
CREATED:20250624T153441Z
LAST-MODIFIED:20250624T153441Z
UID:11054-1754385300-1754499600@up-beatfirstaid.ca
SUMMARY:Emergency First Aid/Standard First Aid - Dawson Creek BC
DESCRIPTION:
URL:https://up-beatfirstaid.ca/event/emergency-first-aid-standard-first-aid-dawson-creek-bc-7/
LOCATION:Up-Beat First Aid Dawson Creek NEW\, 11000 8th Street\, Dawson Creek\, British Columbia\, V1G 4K6\, Canada
CATEGORIES:Standard First Aid
ORGANIZER;CN="Up-Beat First Aid & Safety Training":MAILTO:up-beat@live.ca
END:VEVENT
BEGIN:VEVENT
DTSTART;TZID=America/Dawson_Creek:20250812T091500
DTEND;TZID=America/Dawson_Creek:20250813T170000
DTSTAMP:20260420T012402
CREATED:20250624T154212Z
LAST-MODIFIED:20250624T154212Z
UID:11066-1754990100-1755104400@up-beatfirstaid.ca
SUMMARY:Emergency First Aid/Standard First Aid - Dawson Creek BC
DESCRIPTION:
URL:https://up-beatfirstaid.ca/event/emergency-first-aid-standard-first-aid-dawson-creek-bc-8/
LOCATION:Up-Beat First Aid Dawson Creek NEW\, 11000 8th Street\, Dawson Creek\, British Columbia\, V1G 4K6\, Canada
CATEGORIES:Standard First Aid
ORGANIZER;CN="Up-Beat First Aid & Safety Training":MAILTO:up-beat@live.ca
END:VEVENT
BEGIN:VEVENT
DTSTART;TZID=America/Dawson_Creek:20250819T091500
DTEND;TZID=America/Dawson_Creek:20250820T170000
DTSTAMP:20260420T012402
CREATED:20250624T155006Z
LAST-MODIFIED:20250624T155006Z
UID:11078-1755594900-1755709200@up-beatfirstaid.ca
SUMMARY:Emergency First Aid/Standard First Aid - Dawson Creek BC
DESCRIPTION:
URL:https://up-beatfirstaid.ca/event/emergency-first-aid-standard-first-aid-dawson-creek-bc-9/
LOCATION:Up-Beat First Aid Dawson Creek NEW\, 11000 8th Street\, Dawson Creek\, British Columbia\, V1G 4K6\, Canada
CATEGORIES:Standard First Aid
ORGANIZER;CN="Up-Beat First Aid & Safety Training":MAILTO:up-beat@live.ca
END:VEVENT
BEGIN:VEVENT
DTSTART;TZID=America/Dawson_Creek:20250826T091500
DTEND;TZID=America/Dawson_Creek:20250826T170000
DTSTAMP:20260420T012402
CREATED:20250624T184929Z
LAST-MODIFIED:20250624T184929Z
UID:11090-1756199700-1756227600@up-beatfirstaid.ca
SUMMARY:Emergency First Aid - Dawson Creek BC
DESCRIPTION:
URL:https://up-beatfirstaid.ca/event/emergency-first-aid-dawson-creek-bc-6/
LOCATION:Up-Beat First Aid Dawson Creek NEW\, 11000 8th Street\, Dawson Creek\, British Columbia\, V1G 4K6\, Canada
CATEGORIES:Standard First Aid
ORGANIZER;CN="Up-Beat First Aid & Safety Training":MAILTO:up-beat@live.ca
END:VEVENT
END:VCALENDAR