BEGIN:VCALENDAR
VERSION:2.0
PRODID:-//Up-Beat First Aid &amp; Safety Training Ltd. - ECPv6.15.20//NONSGML v1.0//EN
CALSCALE:GREGORIAN
METHOD:PUBLISH
X-ORIGINAL-URL:https://up-beatfirstaid.ca
X-WR-CALDESC:Events for Up-Beat First Aid &amp; Safety Training Ltd.
REFRESH-INTERVAL;VALUE=DURATION:PT1H
X-Robots-Tag:noindex
X-PUBLISHED-TTL:PT1H
BEGIN:VTIMEZONE
TZID:America/Dawson_Creek
BEGIN:STANDARD
TZOFFSETFROM:-0700
TZOFFSETTO:-0700
TZNAME:MST
DTSTART:20220101T000000
END:STANDARD
END:VTIMEZONE
BEGIN:VEVENT
DTSTART;TZID=America/Dawson_Creek:20230822T090000
DTEND;TZID=America/Dawson_Creek:20230823T170000
DTSTAMP:20260420T031515
CREATED:20230619T210407Z
LAST-MODIFIED:20230821T194853Z
UID:8188-1692694800-1692810000@up-beatfirstaid.ca
SUMMARY:Standard First Aid – Dawson Creek
DESCRIPTION:
URL:https://up-beatfirstaid.ca/event/standard-first-aid-dawson-creek-72/
LOCATION:Up-Beat First Aid Dawson Creek NEW\, 11000 8th Street\, Dawson Creek\, British Columbia\, V1G 4K6\, Canada
CATEGORIES:Standard First Aid
ORGANIZER;CN="Up-Beat First Aid & Safety Training":MAILTO:up-beat@live.ca
END:VEVENT
BEGIN:VEVENT
DTSTART;TZID=America/Dawson_Creek:20230815T090000
DTEND;TZID=America/Dawson_Creek:20230816T170000
DTSTAMP:20260420T031515
CREATED:20230619T210302Z
LAST-MODIFIED:20230814T233544Z
UID:8185-1692090000-1692205200@up-beatfirstaid.ca
SUMMARY:Standard First Aid – Dawson Creek
DESCRIPTION:
URL:https://up-beatfirstaid.ca/event/standard-first-aid-dawson-creek-71/
LOCATION:Up-Beat First Aid Dawson Creek NEW\, 11000 8th Street\, Dawson Creek\, British Columbia\, V1G 4K6\, Canada
CATEGORIES:Standard First Aid
ORGANIZER;CN="Up-Beat First Aid & Safety Training":MAILTO:up-beat@live.ca
END:VEVENT
BEGIN:VEVENT
DTSTART;TZID=America/Dawson_Creek:20230808T090000
DTEND;TZID=America/Dawson_Creek:20230809T170000
DTSTAMP:20260420T031515
CREATED:20230619T210131Z
LAST-MODIFIED:20230804T230249Z
UID:8182-1691485200-1691600400@up-beatfirstaid.ca
SUMMARY:Standard First Aid – Dawson Creek
DESCRIPTION:
URL:https://up-beatfirstaid.ca/event/standard-first-aid-dawson-creek-70/
LOCATION:Up-Beat First Aid Dawson Creek NEW\, 11000 8th Street\, Dawson Creek\, British Columbia\, V1G 4K6\, Canada
CATEGORIES:Standard First Aid
ORGANIZER;CN="Up-Beat First Aid & Safety Training":MAILTO:up-beat@live.ca
END:VEVENT
BEGIN:VEVENT
DTSTART;TZID=America/Dawson_Creek:20230801T090000
DTEND;TZID=America/Dawson_Creek:20230802T170000
DTSTAMP:20260420T031515
CREATED:20230619T205845Z
LAST-MODIFIED:20230731T210820Z
UID:8179-1690880400-1690995600@up-beatfirstaid.ca
SUMMARY:Standard First Aid – Dawson Creek
DESCRIPTION:
URL:https://up-beatfirstaid.ca/event/standard-first-aid-dawson-creek-69/
LOCATION:Up-Beat First Aid Dawson Creek NEW\, 11000 8th Street\, Dawson Creek\, British Columbia\, V1G 4K6\, Canada
CATEGORIES:Standard First Aid
ORGANIZER;CN="Up-Beat First Aid & Safety Training":MAILTO:up-beat@live.ca
END:VEVENT
BEGIN:VEVENT
DTSTART;TZID=America/Dawson_Creek:20230725T090000
DTEND;TZID=America/Dawson_Creek:20230726T170000
DTSTAMP:20260420T031515
CREATED:20230606T223800Z
LAST-MODIFIED:20230629T182852Z
UID:8099-1690275600-1690390800@up-beatfirstaid.ca
SUMMARY:Standard First Aid – Dawson Creek
DESCRIPTION:
URL:https://up-beatfirstaid.ca/event/standard-first-aid-dawson-creek-67/
LOCATION:Up-Beat First Aid Dawson Creek NEW\, 11000 8th Street\, Dawson Creek\, British Columbia\, V1G 4K6\, Canada
CATEGORIES:Standard First Aid
ORGANIZER;CN="Up-Beat First Aid & Safety Training":MAILTO:up-beat@live.ca
END:VEVENT
BEGIN:VEVENT
DTSTART;TZID=America/Dawson_Creek:20230718T090000
DTEND;TZID=America/Dawson_Creek:20230719T170000
DTSTAMP:20260420T031515
CREATED:20230606T223849Z
LAST-MODIFIED:20230629T175506Z
UID:8104-1689670800-1689786000@up-beatfirstaid.ca
SUMMARY:Standard First Aid – Dawson Creek
DESCRIPTION:
URL:https://up-beatfirstaid.ca/event/standard-first-aid-dawson-creek-68/
LOCATION:Up-Beat First Aid Dawson Creek NEW\, 11000 8th Street\, Dawson Creek\, British Columbia\, V1G 4K6\, Canada
CATEGORIES:Standard First Aid
ORGANIZER;CN="Up-Beat First Aid & Safety Training":MAILTO:up-beat@live.ca
END:VEVENT
BEGIN:VEVENT
DTSTART;TZID=America/Dawson_Creek:20230711T090000
DTEND;TZID=America/Dawson_Creek:20230712T170000
DTSTAMP:20260420T031515
CREATED:20230606T220705Z
LAST-MODIFIED:20230629T174507Z
UID:8098-1689066000-1689181200@up-beatfirstaid.ca
SUMMARY:Standard First Aid – Dawson Creek
DESCRIPTION:
URL:https://up-beatfirstaid.ca/event/standard-first-aid-dawson-creek-66/
LOCATION:Up-Beat First Aid Dawson Creek NEW\, 11000 8th Street\, Dawson Creek\, British Columbia\, V1G 4K6\, Canada
CATEGORIES:Standard First Aid
ORGANIZER;CN="Up-Beat First Aid & Safety Training":MAILTO:up-beat@live.ca
END:VEVENT
BEGIN:VEVENT
DTSTART;TZID=America/Dawson_Creek:20230704T090000
DTEND;TZID=America/Dawson_Creek:20230705T170000
DTSTAMP:20260420T031515
CREATED:20230606T214349Z
LAST-MODIFIED:20230629T173533Z
UID:8095-1688461200-1688576400@up-beatfirstaid.ca
SUMMARY:Standard First Aid – Dawson Creek
DESCRIPTION:
URL:https://up-beatfirstaid.ca/event/standard-first-aid-dawson-creek-65/
LOCATION:Up-Beat First Aid Dawson Creek NEW\, 11000 8th Street\, Dawson Creek\, British Columbia\, V1G 4K6\, Canada
CATEGORIES:Standard First Aid
ORGANIZER;CN="Up-Beat First Aid & Safety Training":MAILTO:up-beat@live.ca
END:VEVENT
BEGIN:VEVENT
DTSTART;TZID=America/Dawson_Creek:20230627T080000
DTEND;TZID=America/Dawson_Creek:20230628T170000
DTSTAMP:20260420T031515
CREATED:20230504T223402Z
LAST-MODIFIED:20230623T152034Z
UID:7936-1687852800-1687971600@up-beatfirstaid.ca
SUMMARY:Standard First Aid – Dawson Creek
DESCRIPTION:June 27-8am-4pm \nJune 28-9am-3pm
URL:https://up-beatfirstaid.ca/event/standard-first-aid-dawson-creek-64/
LOCATION:Up-Beat First Aid Dawson Creek NEW\, 11000 8th Street\, Dawson Creek\, British Columbia\, V1G 4K6\, Canada
CATEGORIES:Standard First Aid
ORGANIZER;CN="Up-Beat First Aid & Safety Training":MAILTO:up-beat@live.ca
END:VEVENT
BEGIN:VEVENT
DTSTART;TZID=America/Dawson_Creek:20230626T090000
DTEND;TZID=America/Dawson_Creek:20230626T150000
DTSTAMP:20260420T031515
CREATED:20230613T202957Z
LAST-MODIFIED:20230613T202957Z
UID:8148-1687770000-1687791600@up-beatfirstaid.ca
SUMMARY:Blended Standard First Aid
DESCRIPTION:Please call 250-795-2776 to register for the Blended Standard First Aid
URL:https://up-beatfirstaid.ca/event/blended-standard-first-aid/
LOCATION:Up-Beat First Aid Dawson Creek NEW\, 11000 8th Street\, Dawson Creek\, British Columbia\, V1G 4K6\, Canada
CATEGORIES:Red Cross Blended Practical skills,Standard First Aid
ORGANIZER;CN="Up-Beat First Aid & Safety Training":MAILTO:up-beat@live.ca
END:VEVENT
BEGIN:VEVENT
DTSTART;TZID=America/Dawson_Creek:20230620T090000
DTEND;TZID=America/Dawson_Creek:20230621T170000
DTSTAMP:20260420T031515
CREATED:20230504T223315Z
LAST-MODIFIED:20230504T223315Z
UID:7933-1687251600-1687366800@up-beatfirstaid.ca
SUMMARY:Standard First Aid – Dawson Creek
DESCRIPTION:
URL:https://up-beatfirstaid.ca/event/standard-first-aid-dawson-creek-63/
LOCATION:Up-Beat First Aid Dawson Creek NEW\, 11000 8th Street\, Dawson Creek\, British Columbia\, V1G 4K6\, Canada
CATEGORIES:Standard First Aid
ORGANIZER;CN="Up-Beat First Aid & Safety Training":MAILTO:up-beat@live.ca
END:VEVENT
BEGIN:VEVENT
DTSTART;TZID=America/Dawson_Creek:20230613T090000
DTEND;TZID=America/Dawson_Creek:20230614T170000
DTSTAMP:20260420T031515
CREATED:20230504T223229Z
LAST-MODIFIED:20230608T203702Z
UID:7930-1686646800-1686762000@up-beatfirstaid.ca
SUMMARY:Standard First Aid – Dawson Creek
DESCRIPTION:
URL:https://up-beatfirstaid.ca/event/standard-first-aid-dawson-creek-62/
LOCATION:Up-Beat First Aid Dawson Creek NEW\, 11000 8th Street\, Dawson Creek\, British Columbia\, V1G 4K6\, Canada
CATEGORIES:Standard First Aid
ORGANIZER;CN="Up-Beat First Aid & Safety Training":MAILTO:up-beat@live.ca
END:VEVENT
BEGIN:VEVENT
DTSTART;TZID=America/Dawson_Creek:20230606T090000
DTEND;TZID=America/Dawson_Creek:20230607T170000
DTSTAMP:20260420T031515
CREATED:20230504T214601Z
LAST-MODIFIED:20230504T214601Z
UID:7927-1686042000-1686157200@up-beatfirstaid.ca
SUMMARY:Standard First Aid – Dawson Creek
DESCRIPTION:
URL:https://up-beatfirstaid.ca/event/standard-first-aid-dawson-creek-61/
LOCATION:Up-Beat First Aid Dawson Creek NEW\, 11000 8th Street\, Dawson Creek\, British Columbia\, V1G 4K6\, Canada
CATEGORIES:Standard First Aid
ORGANIZER;CN="Up-Beat First Aid & Safety Training":MAILTO:up-beat@live.ca
END:VEVENT
BEGIN:VEVENT
DTSTART;TZID=America/Dawson_Creek:20230530T090000
DTEND;TZID=America/Dawson_Creek:20230531T170000
DTSTAMP:20260420T031515
CREATED:20230324T181022Z
LAST-MODIFIED:20230324T181022Z
UID:7831-1685437200-1685552400@up-beatfirstaid.ca
SUMMARY:Standard First Aid – Dawson Creek
DESCRIPTION:
URL:https://up-beatfirstaid.ca/event/standard-first-aid-dawson-creek-60/
LOCATION:Up-Beat First Aid Dawson Creek NEW\, 11000 8th Street\, Dawson Creek\, British Columbia\, V1G 4K6\, Canada
CATEGORIES:Standard First Aid
ORGANIZER;CN="Up-Beat First Aid & Safety Training":MAILTO:up-beat@live.ca
END:VEVENT
BEGIN:VEVENT
DTSTART;TZID=America/Dawson_Creek:20230523T090000
DTEND;TZID=America/Dawson_Creek:20230524T170000
DTSTAMP:20260420T031515
CREATED:20230320T215203Z
LAST-MODIFIED:20230519T212655Z
UID:7824-1684832400-1684947600@up-beatfirstaid.ca
SUMMARY:Standard First Aid – Dawson Creek
DESCRIPTION:
URL:https://up-beatfirstaid.ca/event/standard-first-aid-dawson-creek-59/
LOCATION:Up-Beat First Aid Dawson Creek NEW\, 11000 8th Street\, Dawson Creek\, British Columbia\, V1G 4K6\, Canada
CATEGORIES:Standard First Aid
ORGANIZER;CN="Up-Beat First Aid & Safety Training":MAILTO:up-beat@live.ca
END:VEVENT
BEGIN:VEVENT
DTSTART;TZID=America/Dawson_Creek:20230516T090000
DTEND;TZID=America/Dawson_Creek:20230517T170000
DTSTAMP:20260420T031515
CREATED:20230320T215101Z
LAST-MODIFIED:20230512T192729Z
UID:7821-1684227600-1684342800@up-beatfirstaid.ca
SUMMARY:Standard First Aid – Dawson Creek
DESCRIPTION:
URL:https://up-beatfirstaid.ca/event/standard-first-aid-dawson-creek-58/
LOCATION:Up-Beat First Aid Dawson Creek NEW\, 11000 8th Street\, Dawson Creek\, British Columbia\, V1G 4K6\, Canada
CATEGORIES:Standard First Aid
ORGANIZER;CN="Up-Beat First Aid & Safety Training":MAILTO:up-beat@live.ca
END:VEVENT
BEGIN:VEVENT
DTSTART;TZID=America/Dawson_Creek:20230509T090000
DTEND;TZID=America/Dawson_Creek:20230510T170000
DTSTAMP:20260420T031515
CREATED:20230320T214957Z
LAST-MODIFIED:20230504T192636Z
UID:7818-1683622800-1683738000@up-beatfirstaid.ca
SUMMARY:Standard First Aid – Dawson Creek
DESCRIPTION:
URL:https://up-beatfirstaid.ca/event/standard-first-aid-dawson-creek-57/
LOCATION:Up-Beat First Aid Dawson Creek NEW\, 11000 8th Street\, Dawson Creek\, British Columbia\, V1G 4K6\, Canada
CATEGORIES:Standard First Aid
ORGANIZER;CN="Up-Beat First Aid & Safety Training":MAILTO:up-beat@live.ca
END:VEVENT
BEGIN:VEVENT
DTSTART;TZID=America/Dawson_Creek:20230502T090000
DTEND;TZID=America/Dawson_Creek:20230503T170000
DTSTAMP:20260420T031515
CREATED:20230320T214844Z
LAST-MODIFIED:20230320T214844Z
UID:7815-1683018000-1683133200@up-beatfirstaid.ca
SUMMARY:Standard First Aid – Dawson Creek
DESCRIPTION:
URL:https://up-beatfirstaid.ca/event/standard-first-aid-dawson-creek-56/
LOCATION:Up-Beat First Aid Dawson Creek NEW\, 11000 8th Street\, Dawson Creek\, British Columbia\, V1G 4K6\, Canada
CATEGORIES:Standard First Aid
ORGANIZER;CN="Up-Beat First Aid & Safety Training":MAILTO:up-beat@live.ca
END:VEVENT
BEGIN:VEVENT
DTSTART;TZID=America/Dawson_Creek:20230425T090000
DTEND;TZID=America/Dawson_Creek:20230426T170000
DTSTAMP:20260420T031515
CREATED:20230227T224048Z
LAST-MODIFIED:20230227T224048Z
UID:7717-1682413200-1682528400@up-beatfirstaid.ca
SUMMARY:Standard First Aid – Dawson Creek
DESCRIPTION:
URL:https://up-beatfirstaid.ca/event/standard-first-aid-dawson-creek-55/
LOCATION:Up-Beat First Aid Dawson Creek NEW\, 11000 8th Street\, Dawson Creek\, British Columbia\, V1G 4K6\, Canada
CATEGORIES:Standard First Aid
ORGANIZER;CN="Up-Beat First Aid & Safety Training":MAILTO:up-beat@live.ca
END:VEVENT
BEGIN:VEVENT
DTSTART;TZID=America/Dawson_Creek:20230419T090000
DTEND;TZID=America/Dawson_Creek:20230420T170000
DTSTAMP:20260420T031515
CREATED:20230227T223641Z
LAST-MODIFIED:20230418T213751Z
UID:7713-1681894800-1682010000@up-beatfirstaid.ca
SUMMARY:Standard First Aid – Dawson Creek
DESCRIPTION:
URL:https://up-beatfirstaid.ca/event/standard-first-aid-dawson-creek-49/
LOCATION:Up-Beat First Aid Dawson Creek NEW\, 11000 8th Street\, Dawson Creek\, British Columbia\, V1G 4K6\, Canada
CATEGORIES:Standard First Aid
ORGANIZER;CN="Up-Beat First Aid & Safety Training":MAILTO:up-beat@live.ca
END:VEVENT
BEGIN:VEVENT
DTSTART;TZID=America/Dawson_Creek:20230411T090000
DTEND;TZID=America/Dawson_Creek:20230412T170000
DTSTAMP:20260420T031515
CREATED:20230227T223904Z
LAST-MODIFIED:20230406T232030Z
UID:7710-1681203600-1681318800@up-beatfirstaid.ca
SUMMARY:Standard First Aid – Dawson Creek
DESCRIPTION:  \n 
URL:https://up-beatfirstaid.ca/event/standard-first-aid-dawson-creek-54/
LOCATION:Up-Beat First Aid Dawson Creek NEW\, 11000 8th Street\, Dawson Creek\, British Columbia\, V1G 4K6\, Canada
CATEGORIES:Standard First Aid
ORGANIZER;CN="Up-Beat First Aid & Safety Training":MAILTO:up-beat@live.ca
END:VEVENT
BEGIN:VEVENT
DTSTART;TZID=America/Dawson_Creek:20230404T090000
DTEND;TZID=America/Dawson_Creek:20230405T170000
DTSTAMP:20260420T031515
CREATED:20230227T223254Z
LAST-MODIFIED:20230331T235121Z
UID:7707-1680598800-1680714000@up-beatfirstaid.ca
SUMMARY:Standard First Aid – Dawson Creek
DESCRIPTION:
URL:https://up-beatfirstaid.ca/event/standard-first-aid-dawson-creek-46/
LOCATION:Up-Beat First Aid Dawson Creek NEW\, 11000 8th Street\, Dawson Creek\, British Columbia\, V1G 4K6\, Canada
CATEGORIES:Standard First Aid
ORGANIZER;CN="Up-Beat First Aid & Safety Training":MAILTO:up-beat@live.ca
END:VEVENT
BEGIN:VEVENT
DTSTART;TZID=America/Dawson_Creek:20230328T090000
DTEND;TZID=America/Dawson_Creek:20230329T170000
DTSTAMP:20260420T031515
CREATED:20230130T192225Z
LAST-MODIFIED:20230130T192225Z
UID:7614-1679994000-1680109200@up-beatfirstaid.ca
SUMMARY:Standard First Aid – Dawson Creek
DESCRIPTION:
URL:https://up-beatfirstaid.ca/event/standard-first-aid-dawson-creek-53/
LOCATION:Up-Beat First Aid Dawson Creek NEW\, 11000 8th Street\, Dawson Creek\, British Columbia\, V1G 4K6\, Canada
CATEGORIES:Standard First Aid
ORGANIZER;CN="Up-Beat First Aid & Safety Training":MAILTO:up-beat@live.ca
END:VEVENT
BEGIN:VEVENT
DTSTART;TZID=America/Dawson_Creek:20230322T090000
DTEND;TZID=America/Dawson_Creek:20230323T170000
DTSTAMP:20260420T031515
CREATED:20230130T192108Z
LAST-MODIFIED:20230130T192108Z
UID:7611-1679475600-1679590800@up-beatfirstaid.ca
SUMMARY:Standard First Aid – Dawson Creek
DESCRIPTION:
URL:https://up-beatfirstaid.ca/event/standard-first-aid-dawson-creek-52/
LOCATION:Up-Beat First Aid Dawson Creek NEW\, 11000 8th Street\, Dawson Creek\, British Columbia\, V1G 4K6\, Canada
CATEGORIES:Standard First Aid
ORGANIZER;CN="Up-Beat First Aid & Safety Training":MAILTO:up-beat@live.ca
END:VEVENT
BEGIN:VEVENT
DTSTART;TZID=America/Dawson_Creek:20230314T090000
DTEND;TZID=America/Dawson_Creek:20230315T170000
DTSTAMP:20260420T031515
CREATED:20230130T191930Z
LAST-MODIFIED:20230313T232105Z
UID:7608-1678784400-1678899600@up-beatfirstaid.ca
SUMMARY:Standard First Aid – Dawson Creek
DESCRIPTION:
URL:https://up-beatfirstaid.ca/event/standard-first-aid-dawson-creek-51/
LOCATION:Up-Beat First Aid Dawson Creek NEW\, 11000 8th Street\, Dawson Creek\, British Columbia\, V1G 4K6\, Canada
CATEGORIES:Standard First Aid
ORGANIZER;CN="Up-Beat First Aid & Safety Training":MAILTO:up-beat@live.ca
END:VEVENT
BEGIN:VEVENT
DTSTART;TZID=America/Dawson_Creek:20230307T090000
DTEND;TZID=America/Dawson_Creek:20230308T170000
DTSTAMP:20260420T031515
CREATED:20230130T191746Z
LAST-MODIFIED:20230302T180101Z
UID:7605-1678179600-1678294800@up-beatfirstaid.ca
SUMMARY:Standard First Aid – Dawson Creek
DESCRIPTION:
URL:https://up-beatfirstaid.ca/event/standard-first-aid-dawson-creek-50/
LOCATION:Up-Beat First Aid Dawson Creek NEW\, 11000 8th Street\, Dawson Creek\, British Columbia\, V1G 4K6\, Canada
CATEGORIES:Standard First Aid
ORGANIZER;CN="Up-Beat First Aid & Safety Training":MAILTO:up-beat@live.ca
END:VEVENT
BEGIN:VEVENT
DTSTART;TZID=America/Dawson_Creek:20230228T090000
DTEND;TZID=America/Dawson_Creek:20230301T170000
DTSTAMP:20260420T031515
CREATED:20230106T224551Z
LAST-MODIFIED:20230213T231633Z
UID:7524-1677574800-1677690000@up-beatfirstaid.ca
SUMMARY:Standard First Aid – Dawson Creek
DESCRIPTION:
URL:https://up-beatfirstaid.ca/event/standard-first-aid-dawson-creek-48/
LOCATION:Up-Beat First Aid Dawson Creek NEW\, 11000 8th Street\, Dawson Creek\, British Columbia\, V1G 4K6\, Canada
CATEGORIES:Standard First Aid
ORGANIZER;CN="Up-Beat First Aid & Safety Training":MAILTO:up-beat@live.ca
END:VEVENT
BEGIN:VEVENT
DTSTART;TZID=America/Dawson_Creek:20230221T090000
DTEND;TZID=America/Dawson_Creek:20230222T170000
DTSTAMP:20260420T031515
CREATED:20230106T224139Z
LAST-MODIFIED:20230217T201404Z
UID:7514-1676970000-1677085200@up-beatfirstaid.ca
SUMMARY:Standard First Aid – Dawson Creek
DESCRIPTION:
URL:https://up-beatfirstaid.ca/event/standard-first-aid-dawson-creek-47/
LOCATION:Up-Beat First Aid Dawson Creek NEW\, 11000 8th Street\, Dawson Creek\, British Columbia\, V1G 4K6\, Canada
CATEGORIES:Standard First Aid
ORGANIZER;CN="Up-Beat First Aid & Safety Training":MAILTO:up-beat@live.ca
END:VEVENT
BEGIN:VEVENT
DTSTART;TZID=America/Dawson_Creek:20230207T090000
DTEND;TZID=America/Dawson_Creek:20230208T170000
DTSTAMP:20260420T031515
CREATED:20230106T210812Z
LAST-MODIFIED:20230127T191600Z
UID:7489-1675760400-1675875600@up-beatfirstaid.ca
SUMMARY:Standard First Aid – Dawson Creek
DESCRIPTION:
URL:https://up-beatfirstaid.ca/event/standard-first-aid-dawson-creek-45/
LOCATION:Up-Beat First Aid Dawson Creek NEW\, 11000 8th Street\, Dawson Creek\, British Columbia\, V1G 4K6\, Canada
CATEGORIES:Standard First Aid
ORGANIZER;CN="Up-Beat First Aid & Safety Training":MAILTO:up-beat@live.ca
END:VEVENT
BEGIN:VEVENT
DTSTART;TZID=America/Dawson_Creek:20230131T090000
DTEND;TZID=America/Dawson_Creek:20230201T170000
DTSTAMP:20260420T031515
CREATED:20230106T205445Z
LAST-MODIFIED:20230123T182540Z
UID:7481-1675155600-1675270800@up-beatfirstaid.ca
SUMMARY:Standard First Aid – Dawson Creek
DESCRIPTION:
URL:https://up-beatfirstaid.ca/event/standard-first-aid-dawson-creek-38/
LOCATION:Up-Beat First Aid Dawson Creek NEW\, 11000 8th Street\, Dawson Creek\, British Columbia\, V1G 4K6\, Canada
CATEGORIES:Standard First Aid
ORGANIZER;CN="Up-Beat First Aid & Safety Training":MAILTO:up-beat@live.ca
END:VEVENT
END:VCALENDAR