BEGIN:VCALENDAR
VERSION:2.0
PRODID:-//Up-Beat First Aid &amp; Safety Training Ltd. - ECPv6.15.20//NONSGML v1.0//EN
CALSCALE:GREGORIAN
METHOD:PUBLISH
X-ORIGINAL-URL:https://up-beatfirstaid.ca
X-WR-CALDESC:Events for Up-Beat First Aid &amp; Safety Training Ltd.
REFRESH-INTERVAL;VALUE=DURATION:PT1H
X-Robots-Tag:noindex
X-PUBLISHED-TTL:PT1H
BEGIN:VTIMEZONE
TZID:America/Dawson_Creek
BEGIN:STANDARD
TZOFFSETFROM:-0700
TZOFFSETTO:-0700
TZNAME:MST
DTSTART:20210101T000000
END:STANDARD
END:VTIMEZONE
BEGIN:VEVENT
DTSTART;TZID=America/Dawson_Creek:20230411T090000
DTEND;TZID=America/Dawson_Creek:20230412T170000
DTSTAMP:20260420T085528
CREATED:20230227T223904Z
LAST-MODIFIED:20230406T232030Z
UID:7710-1681203600-1681318800@up-beatfirstaid.ca
SUMMARY:Standard First Aid – Dawson Creek
DESCRIPTION:  \n 
URL:https://up-beatfirstaid.ca/event/standard-first-aid-dawson-creek-54/
LOCATION:Up-Beat First Aid Dawson Creek NEW\, 11000 8th Street\, Dawson Creek\, British Columbia\, V1G 4K6\, Canada
CATEGORIES:Standard First Aid
ORGANIZER;CN="Up-Beat First Aid & Safety Training":MAILTO:up-beat@live.ca
END:VEVENT
BEGIN:VEVENT
DTSTART;TZID=America/Dawson_Creek:20230404T090000
DTEND;TZID=America/Dawson_Creek:20230405T170000
DTSTAMP:20260420T085528
CREATED:20230227T223254Z
LAST-MODIFIED:20230331T235121Z
UID:7707-1680598800-1680714000@up-beatfirstaid.ca
SUMMARY:Standard First Aid – Dawson Creek
DESCRIPTION:
URL:https://up-beatfirstaid.ca/event/standard-first-aid-dawson-creek-46/
LOCATION:Up-Beat First Aid Dawson Creek NEW\, 11000 8th Street\, Dawson Creek\, British Columbia\, V1G 4K6\, Canada
CATEGORIES:Standard First Aid
ORGANIZER;CN="Up-Beat First Aid & Safety Training":MAILTO:up-beat@live.ca
END:VEVENT
BEGIN:VEVENT
DTSTART;TZID=America/Dawson_Creek:20230328T090000
DTEND;TZID=America/Dawson_Creek:20230329T170000
DTSTAMP:20260420T085528
CREATED:20230130T192225Z
LAST-MODIFIED:20230130T192225Z
UID:7614-1679994000-1680109200@up-beatfirstaid.ca
SUMMARY:Standard First Aid – Dawson Creek
DESCRIPTION:
URL:https://up-beatfirstaid.ca/event/standard-first-aid-dawson-creek-53/
LOCATION:Up-Beat First Aid Dawson Creek NEW\, 11000 8th Street\, Dawson Creek\, British Columbia\, V1G 4K6\, Canada
CATEGORIES:Standard First Aid
ORGANIZER;CN="Up-Beat First Aid & Safety Training":MAILTO:up-beat@live.ca
END:VEVENT
BEGIN:VEVENT
DTSTART;TZID=America/Dawson_Creek:20230322T090000
DTEND;TZID=America/Dawson_Creek:20230323T170000
DTSTAMP:20260420T085528
CREATED:20230130T192108Z
LAST-MODIFIED:20230130T192108Z
UID:7611-1679475600-1679590800@up-beatfirstaid.ca
SUMMARY:Standard First Aid – Dawson Creek
DESCRIPTION:
URL:https://up-beatfirstaid.ca/event/standard-first-aid-dawson-creek-52/
LOCATION:Up-Beat First Aid Dawson Creek NEW\, 11000 8th Street\, Dawson Creek\, British Columbia\, V1G 4K6\, Canada
CATEGORIES:Standard First Aid
ORGANIZER;CN="Up-Beat First Aid & Safety Training":MAILTO:up-beat@live.ca
END:VEVENT
BEGIN:VEVENT
DTSTART;TZID=America/Dawson_Creek:20230314T090000
DTEND;TZID=America/Dawson_Creek:20230315T170000
DTSTAMP:20260420T085528
CREATED:20230130T191930Z
LAST-MODIFIED:20230313T232105Z
UID:7608-1678784400-1678899600@up-beatfirstaid.ca
SUMMARY:Standard First Aid – Dawson Creek
DESCRIPTION:
URL:https://up-beatfirstaid.ca/event/standard-first-aid-dawson-creek-51/
LOCATION:Up-Beat First Aid Dawson Creek NEW\, 11000 8th Street\, Dawson Creek\, British Columbia\, V1G 4K6\, Canada
CATEGORIES:Standard First Aid
ORGANIZER;CN="Up-Beat First Aid & Safety Training":MAILTO:up-beat@live.ca
END:VEVENT
BEGIN:VEVENT
DTSTART;TZID=America/Dawson_Creek:20230307T090000
DTEND;TZID=America/Dawson_Creek:20230308T170000
DTSTAMP:20260420T085528
CREATED:20230130T191746Z
LAST-MODIFIED:20230302T180101Z
UID:7605-1678179600-1678294800@up-beatfirstaid.ca
SUMMARY:Standard First Aid – Dawson Creek
DESCRIPTION:
URL:https://up-beatfirstaid.ca/event/standard-first-aid-dawson-creek-50/
LOCATION:Up-Beat First Aid Dawson Creek NEW\, 11000 8th Street\, Dawson Creek\, British Columbia\, V1G 4K6\, Canada
CATEGORIES:Standard First Aid
ORGANIZER;CN="Up-Beat First Aid & Safety Training":MAILTO:up-beat@live.ca
END:VEVENT
BEGIN:VEVENT
DTSTART;TZID=America/Dawson_Creek:20230228T090000
DTEND;TZID=America/Dawson_Creek:20230301T170000
DTSTAMP:20260420T085528
CREATED:20230106T224551Z
LAST-MODIFIED:20230213T231633Z
UID:7524-1677574800-1677690000@up-beatfirstaid.ca
SUMMARY:Standard First Aid – Dawson Creek
DESCRIPTION:
URL:https://up-beatfirstaid.ca/event/standard-first-aid-dawson-creek-48/
LOCATION:Up-Beat First Aid Dawson Creek NEW\, 11000 8th Street\, Dawson Creek\, British Columbia\, V1G 4K6\, Canada
CATEGORIES:Standard First Aid
ORGANIZER;CN="Up-Beat First Aid & Safety Training":MAILTO:up-beat@live.ca
END:VEVENT
BEGIN:VEVENT
DTSTART;TZID=America/Dawson_Creek:20230221T090000
DTEND;TZID=America/Dawson_Creek:20230222T170000
DTSTAMP:20260420T085528
CREATED:20230106T224139Z
LAST-MODIFIED:20230217T201404Z
UID:7514-1676970000-1677085200@up-beatfirstaid.ca
SUMMARY:Standard First Aid – Dawson Creek
DESCRIPTION:
URL:https://up-beatfirstaid.ca/event/standard-first-aid-dawson-creek-47/
LOCATION:Up-Beat First Aid Dawson Creek NEW\, 11000 8th Street\, Dawson Creek\, British Columbia\, V1G 4K6\, Canada
CATEGORIES:Standard First Aid
ORGANIZER;CN="Up-Beat First Aid & Safety Training":MAILTO:up-beat@live.ca
END:VEVENT
BEGIN:VEVENT
DTSTART;TZID=America/Dawson_Creek:20230207T090000
DTEND;TZID=America/Dawson_Creek:20230208T170000
DTSTAMP:20260420T085528
CREATED:20230106T210812Z
LAST-MODIFIED:20230127T191600Z
UID:7489-1675760400-1675875600@up-beatfirstaid.ca
SUMMARY:Standard First Aid – Dawson Creek
DESCRIPTION:
URL:https://up-beatfirstaid.ca/event/standard-first-aid-dawson-creek-45/
LOCATION:Up-Beat First Aid Dawson Creek NEW\, 11000 8th Street\, Dawson Creek\, British Columbia\, V1G 4K6\, Canada
CATEGORIES:Standard First Aid
ORGANIZER;CN="Up-Beat First Aid & Safety Training":MAILTO:up-beat@live.ca
END:VEVENT
BEGIN:VEVENT
DTSTART;TZID=America/Dawson_Creek:20230131T090000
DTEND;TZID=America/Dawson_Creek:20230201T170000
DTSTAMP:20260420T085528
CREATED:20230106T205445Z
LAST-MODIFIED:20230123T182540Z
UID:7481-1675155600-1675270800@up-beatfirstaid.ca
SUMMARY:Standard First Aid – Dawson Creek
DESCRIPTION:
URL:https://up-beatfirstaid.ca/event/standard-first-aid-dawson-creek-38/
LOCATION:Up-Beat First Aid Dawson Creek NEW\, 11000 8th Street\, Dawson Creek\, British Columbia\, V1G 4K6\, Canada
CATEGORIES:Standard First Aid
ORGANIZER;CN="Up-Beat First Aid & Safety Training":MAILTO:up-beat@live.ca
END:VEVENT
BEGIN:VEVENT
DTSTART;TZID=America/Dawson_Creek:20230124T093000
DTEND;TZID=America/Dawson_Creek:20230125T183000
DTSTAMP:20260420T085528
CREATED:20221116T211113Z
LAST-MODIFIED:20230118T162205Z
UID:7362-1674552600-1674671400@up-beatfirstaid.ca
SUMMARY:Standard First Aid – Dawson Creek
DESCRIPTION:
URL:https://up-beatfirstaid.ca/event/standard-first-aid-dawson-creek-44/
LOCATION:Up-Beat First Aid Dawson Creek NEW\, 11000 8th Street\, Dawson Creek\, British Columbia\, V1G 4K6\, Canada
CATEGORIES:Standard First Aid
ORGANIZER;CN="Up-Beat First Aid & Safety Training":MAILTO:up-beat@live.ca
END:VEVENT
BEGIN:VEVENT
DTSTART;TZID=America/Dawson_Creek:20230117T093000
DTEND;TZID=America/Dawson_Creek:20230118T183000
DTSTAMP:20260420T085528
CREATED:20221116T205728Z
LAST-MODIFIED:20230111T173816Z
UID:7359-1673947800-1674066600@up-beatfirstaid.ca
SUMMARY:Standard First Aid – Dawson Creek
DESCRIPTION:
URL:https://up-beatfirstaid.ca/event/standard-first-aid-dawson-creek-43/
LOCATION:Up-Beat First Aid Dawson Creek NEW\, 11000 8th Street\, Dawson Creek\, British Columbia\, V1G 4K6\, Canada
CATEGORIES:Standard First Aid
ORGANIZER;CN="Up-Beat First Aid & Safety Training":MAILTO:up-beat@live.ca
END:VEVENT
BEGIN:VEVENT
DTSTART;TZID=America/Dawson_Creek:20230111T093000
DTEND;TZID=America/Dawson_Creek:20230111T183000
DTSTAMP:20260420T085528
CREATED:20230103T152909Z
LAST-MODIFIED:20230103T152909Z
UID:7471-1673429400-1673461800@up-beatfirstaid.ca
SUMMARY:Standard First Aid – Dawson Creek
DESCRIPTION:Standard First Aid is a two day course (Please select the January 9 -Standard First Aid schedule if you want to order this ticket) \nJan 9 (Monday) -1st day \nJan 11 (Wednesday)-2nd day
URL:https://up-beatfirstaid.ca/event/standard-first-aid-dawson-creek-37/
LOCATION:Up-Beat First Aid Dawson Creek NEW\, 11000 8th Street\, Dawson Creek\, British Columbia\, V1G 4K6\, Canada
CATEGORIES:Standard First Aid
ORGANIZER;CN="Up-Beat First Aid & Safety Training":MAILTO:up-beat@live.ca
END:VEVENT
BEGIN:VEVENT
DTSTART;TZID=America/Dawson_Creek:20230109T093000
DTEND;TZID=America/Dawson_Creek:20230109T183000
DTSTAMP:20260420T085528
CREATED:20221116T205618Z
LAST-MODIFIED:20230106T160624Z
UID:7356-1673256600-1673289000@up-beatfirstaid.ca
SUMMARY:Standard First Aid – Dawson Creek
DESCRIPTION:Standard First Aid is a two day course \nJan 9 (Monday) -1st day \nJan 11 (Wednesday)-2nd day
URL:https://up-beatfirstaid.ca/event/standard-first-aid-dawson-creek-42/
LOCATION:Up-Beat First Aid Dawson Creek NEW\, 11000 8th Street\, Dawson Creek\, British Columbia\, V1G 4K6\, Canada
CATEGORIES:Standard First Aid
ORGANIZER;CN="Up-Beat First Aid & Safety Training":MAILTO:up-beat@live.ca
END:VEVENT
BEGIN:VEVENT
DTSTART;TZID=America/Dawson_Creek:20230103T093000
DTEND;TZID=America/Dawson_Creek:20230104T183000
DTSTAMP:20260420T085528
CREATED:20221116T205120Z
LAST-MODIFIED:20221221T204524Z
UID:7353-1672738200-1672857000@up-beatfirstaid.ca
SUMMARY:Standard First Aid – Dawson Creek
DESCRIPTION:
URL:https://up-beatfirstaid.ca/event/standard-first-aid-dawson-creek-41/
LOCATION:Up-Beat First Aid Dawson Creek NEW\, 11000 8th Street\, Dawson Creek\, British Columbia\, V1G 4K6\, Canada
CATEGORIES:Standard First Aid
ORGANIZER;CN="Up-Beat First Aid & Safety Training":MAILTO:up-beat@live.ca
END:VEVENT
BEGIN:VEVENT
DTSTART;TZID=America/Dawson_Creek:20221220T093000
DTEND;TZID=America/Dawson_Creek:20221221T183000
DTSTAMP:20260420T085528
CREATED:20221021T222311Z
LAST-MODIFIED:20221021T222311Z
UID:7266-1671528600-1671647400@up-beatfirstaid.ca
SUMMARY:Standard First Aid – Dawson Creek
DESCRIPTION:
URL:https://up-beatfirstaid.ca/event/standard-first-aid-dawson-creek-40/
LOCATION:Up-Beat First Aid Dawson Creek NEW\, 11000 8th Street\, Dawson Creek\, British Columbia\, V1G 4K6\, Canada
CATEGORIES:Standard First Aid
ORGANIZER;CN="Up-Beat First Aid & Safety Training":MAILTO:up-beat@live.ca
END:VEVENT
BEGIN:VEVENT
DTSTART;TZID=America/Dawson_Creek:20221214T093000
DTEND;TZID=America/Dawson_Creek:20221215T183000
DTSTAMP:20260420T085528
CREATED:20221021T222026Z
LAST-MODIFIED:20221212T223632Z
UID:7263-1671010200-1671129000@up-beatfirstaid.ca
SUMMARY:Standard First Aid – Dawson Creek
DESCRIPTION:
URL:https://up-beatfirstaid.ca/event/standard-first-aid-dawson-creek-39/
LOCATION:Up-Beat First Aid Dawson Creek NEW\, 11000 8th Street\, Dawson Creek\, British Columbia\, V1G 4K6\, Canada
CATEGORIES:Standard First Aid
ORGANIZER;CN="Up-Beat First Aid & Safety Training":MAILTO:up-beat@live.ca
END:VEVENT
BEGIN:VEVENT
DTSTART;TZID=America/Dawson_Creek:20221207T083000
DTEND;TZID=America/Dawson_Creek:20221208T183000
DTSTAMP:20260420T085528
CREATED:20221021T221824Z
LAST-MODIFIED:20221021T221824Z
UID:7260-1670401800-1670524200@up-beatfirstaid.ca
SUMMARY:Standard First Aid – Dawson Creek
DESCRIPTION:
URL:https://up-beatfirstaid.ca/event/standard-first-aid-dawson-creek-33/
LOCATION:Up-Beat First Aid Dawson Creek NEW\, 11000 8th Street\, Dawson Creek\, British Columbia\, V1G 4K6\, Canada
CATEGORIES:Standard First Aid
ORGANIZER;CN="Up-Beat First Aid & Safety Training":MAILTO:up-beat@live.ca
END:VEVENT
BEGIN:VEVENT
DTSTART;TZID=America/Dawson_Creek:20221116T093000
DTEND;TZID=America/Dawson_Creek:20221117T183000
DTSTAMP:20260420T085528
CREATED:20220923T183621Z
LAST-MODIFIED:20221115T185710Z
UID:7153-1668591000-1668709800@up-beatfirstaid.ca
SUMMARY:Standard First Aid – Dawson Creek
DESCRIPTION:
URL:https://up-beatfirstaid.ca/event/standard-first-aid-dawson-creek-36/
LOCATION:Up-Beat First Aid Dawson Creek NEW\, 11000 8th Street\, Dawson Creek\, British Columbia\, V1G 4K6\, Canada
CATEGORIES:Standard First Aid
ORGANIZER;CN="Up-Beat First Aid & Safety Training":MAILTO:up-beat@live.ca
END:VEVENT
BEGIN:VEVENT
DTSTART;TZID=America/Dawson_Creek:20221102T083000
DTEND;TZID=America/Dawson_Creek:20221103T170000
DTSTAMP:20260420T085528
CREATED:20220923T182514Z
LAST-MODIFIED:20220923T182514Z
UID:7129-1667377800-1667494800@up-beatfirstaid.ca
SUMMARY:Standard First Aid – Dawson Creek
DESCRIPTION:
URL:https://up-beatfirstaid.ca/event/standard-first-aid-dawson-creek-25/
LOCATION:Up-Beat First Aid Dawson Creek NEW\, 11000 8th Street\, Dawson Creek\, British Columbia\, V1G 4K6\, Canada
CATEGORIES:Standard First Aid
ORGANIZER;CN="Up-Beat First Aid & Safety Training":MAILTO:up-beat@live.ca
END:VEVENT
BEGIN:VEVENT
DTSTART;TZID=America/Dawson_Creek:20221026T083000
DTEND;TZID=America/Dawson_Creek:20221027T170000
DTSTAMP:20260420T085528
CREATED:20220822T222034Z
LAST-MODIFIED:20221024T204210Z
UID:6980-1666773000-1666890000@up-beatfirstaid.ca
SUMMARY:Standard First Aid – Dawson Creek
DESCRIPTION:
URL:https://up-beatfirstaid.ca/event/standard-first-aid-dawson-creek-35/
LOCATION:Up-Beat First Aid Dawson Creek NEW\, 11000 8th Street\, Dawson Creek\, British Columbia\, V1G 4K6\, Canada
CATEGORIES:Standard First Aid
ORGANIZER;CN="Up-Beat First Aid & Safety Training":MAILTO:up-beat@live.ca
END:VEVENT
BEGIN:VEVENT
DTSTART;TZID=America/Dawson_Creek:20221019T093000
DTEND;TZID=America/Dawson_Creek:20221020T180000
DTSTAMP:20260420T085528
CREATED:20220822T183054Z
LAST-MODIFIED:20221018T185634Z
UID:6967-1666171800-1666288800@up-beatfirstaid.ca
SUMMARY:Standard First Aid – Dawson Creek
DESCRIPTION:
URL:https://up-beatfirstaid.ca/event/standard-first-aid-dawson-creek-34/
LOCATION:Up-Beat First Aid Dawson Creek NEW\, 11000 8th Street\, Dawson Creek\, British Columbia\, V1G 4K6\, Canada
CATEGORIES:Standard First Aid
ORGANIZER;CN="Up-Beat First Aid & Safety Training":MAILTO:up-beat@live.ca
END:VEVENT
BEGIN:VEVENT
DTSTART;TZID=America/Dawson_Creek:20221005T093000
DTEND;TZID=America/Dawson_Creek:20221006T180000
DTSTAMP:20260420T085529
CREATED:20220822T174018Z
LAST-MODIFIED:20220822T174018Z
UID:6923-1664962200-1665079200@up-beatfirstaid.ca
SUMMARY:Standard First Aid – Dawson Creek
DESCRIPTION:
URL:https://up-beatfirstaid.ca/event/standard-first-aid-dawson-creek-32/
LOCATION:Up-Beat First Aid Dawson Creek NEW\, 11000 8th Street\, Dawson Creek\, British Columbia\, V1G 4K6\, Canada
CATEGORIES:Standard First Aid
ORGANIZER;CN="Up-Beat First Aid & Safety Training":MAILTO:up-beat@live.ca
END:VEVENT
BEGIN:VEVENT
DTSTART;TZID=America/Dawson_Creek:20220927T083000
DTEND;TZID=America/Dawson_Creek:20220928T170000
DTSTAMP:20260420T085529
CREATED:20220712T172549Z
LAST-MODIFIED:20220919T211044Z
UID:6643-1664267400-1664384400@up-beatfirstaid.ca
SUMMARY:Standard First Aid-Dawson Creek
DESCRIPTION:
URL:https://up-beatfirstaid.ca/event/standard-first-aid-dawson-creek-30/
LOCATION:Up-Beat First Aid Dawson Creek NEW\, 11000 8th Street\, Dawson Creek\, British Columbia\, V1G 4K6\, Canada
CATEGORIES:CPR C,Standard First Aid
ORGANIZER;CN="Up-Beat First Aid & Safety Training":MAILTO:up-beat@live.ca
END:VEVENT
BEGIN:VEVENT
DTSTART;TZID=America/Dawson_Creek:20220920T083000
DTEND;TZID=America/Dawson_Creek:20220921T170000
DTSTAMP:20260420T085529
CREATED:20220712T172434Z
LAST-MODIFIED:20220914T183533Z
UID:6640-1663662600-1663779600@up-beatfirstaid.ca
SUMMARY:Standard First Aid-Dawson Creek
DESCRIPTION:
URL:https://up-beatfirstaid.ca/event/standard-first-aid-dawson-creek-29/
LOCATION:Up-Beat First Aid Dawson Creek NEW\, 11000 8th Street\, Dawson Creek\, British Columbia\, V1G 4K6\, Canada
CATEGORIES:CPR C,Standard First Aid
ORGANIZER;CN="Up-Beat First Aid & Safety Training":MAILTO:up-beat@live.ca
END:VEVENT
BEGIN:VEVENT
DTSTART;TZID=America/Dawson_Creek:20220913T083000
DTEND;TZID=America/Dawson_Creek:20220914T170000
DTSTAMP:20260420T085529
CREATED:20220712T172203Z
LAST-MODIFIED:20220902T214240Z
UID:6637-1663057800-1663174800@up-beatfirstaid.ca
SUMMARY:Standard First Aid-Dawson Creek
DESCRIPTION:
URL:https://up-beatfirstaid.ca/event/standard-first-aid-dawson-creek-28/
LOCATION:Up-Beat First Aid Dawson Creek NEW\, 11000 8th Street\, Dawson Creek\, British Columbia\, V1G 4K6\, Canada
CATEGORIES:CPR C,Standard First Aid
ORGANIZER;CN="Up-Beat First Aid & Safety Training":MAILTO:up-beat@live.ca
END:VEVENT
BEGIN:VEVENT
DTSTART;TZID=America/Dawson_Creek:20220830T083000
DTEND;TZID=America/Dawson_Creek:20220831T170000
DTSTAMP:20260420T085529
CREATED:20220803T160857Z
LAST-MODIFIED:20220829T155520Z
UID:6826-1661848200-1661965200@up-beatfirstaid.ca
SUMMARY:Standard First Aid - Dawson Creek
DESCRIPTION:
URL:https://up-beatfirstaid.ca/event/standard-first-aid-dawson-creek-31/
LOCATION:Up-Beat First Aid Dawson Creek NEW\, 11000 8th Street\, Dawson Creek\, British Columbia\, V1G 4K6\, Canada
CATEGORIES:CPR C,Standard First Aid
ORGANIZER;CN="Up-Beat First Aid & Safety Training":MAILTO:up-beat@live.ca
END:VEVENT
BEGIN:VEVENT
DTSTART;TZID=America/Dawson_Creek:20220823T083000
DTEND;TZID=America/Dawson_Creek:20220824T170000
DTSTAMP:20260420T085529
CREATED:20220601T211407Z
LAST-MODIFIED:20220818T171753Z
UID:6469-1661243400-1661360400@up-beatfirstaid.ca
SUMMARY:Standard First Aid-Dawson Creek
DESCRIPTION:
URL:https://up-beatfirstaid.ca/event/standard-first-aid-dawson-creek-26/
LOCATION:Up-Beat First Aid Dawson Creek NEW\, 11000 8th Street\, Dawson Creek\, British Columbia\, V1G 4K6\, Canada
CATEGORIES:CPR C,Standard First Aid
ORGANIZER;CN="Up-Beat First Aid & Safety Training":MAILTO:up-beat@live.ca
END:VEVENT
BEGIN:VEVENT
DTSTART;TZID=America/Dawson_Creek:20220816T083000
DTEND;TZID=America/Dawson_Creek:20220817T170000
DTSTAMP:20260420T085529
CREATED:20220802T192439Z
LAST-MODIFIED:20220809T190751Z
UID:6823-1660638600-1660755600@up-beatfirstaid.ca
SUMMARY:Standard First Aid - Dawson Creek
DESCRIPTION:
URL:https://up-beatfirstaid.ca/event/standard-first-aid-dawson-creek-27/
LOCATION:Up-Beat First Aid Dawson Creek NEW\, 11000 8th Street\, Dawson Creek\, British Columbia\, V1G 4K6\, Canada
CATEGORIES:CPR C,Standard First Aid
ORGANIZER;CN="Up-Beat First Aid & Safety Training":MAILTO:up-beat@live.ca
END:VEVENT
BEGIN:VEVENT
DTSTART;TZID=America/Dawson_Creek:20220809T083000
DTEND;TZID=America/Dawson_Creek:20220810T170000
DTSTAMP:20260420T085529
CREATED:20220601T211152Z
LAST-MODIFIED:20220804T183426Z
UID:6463-1660033800-1660150800@up-beatfirstaid.ca
SUMMARY:Standard First Aid-Dawson Creek
DESCRIPTION:
URL:https://up-beatfirstaid.ca/event/standard-first-aid-dawson-creek-24/
LOCATION:Up-Beat First Aid Dawson Creek NEW\, 11000 8th Street\, Dawson Creek\, British Columbia\, V1G 4K6\, Canada
CATEGORIES:CPR C,Standard First Aid
ORGANIZER;CN="Up-Beat First Aid & Safety Training":MAILTO:up-beat@live.ca
END:VEVENT
END:VCALENDAR