BEGIN:VCALENDAR
VERSION:2.0
PRODID:-//Up-Beat First Aid &amp; Safety Training Ltd. - ECPv6.15.20//NONSGML v1.0//EN
CALSCALE:GREGORIAN
METHOD:PUBLISH
X-WR-CALNAME:Up-Beat First Aid &amp; Safety Training Ltd.
X-ORIGINAL-URL:https://up-beatfirstaid.ca
X-WR-CALDESC:Events for Up-Beat First Aid &amp; Safety Training Ltd.
REFRESH-INTERVAL;VALUE=DURATION:PT1H
X-Robots-Tag:noindex
X-PUBLISHED-TTL:PT1H
BEGIN:VTIMEZONE
TZID:America/Dawson_Creek
BEGIN:STANDARD
TZOFFSETFROM:-0700
TZOFFSETTO:-0700
TZNAME:MST
DTSTART:20190101T000000
END:STANDARD
END:VTIMEZONE
BEGIN:VEVENT
DTSTART;TZID=America/Dawson_Creek:20211102T093000
DTEND;TZID=America/Dawson_Creek:20211103T093000
DTSTAMP:20260420T211159
CREATED:20210930T203633Z
LAST-MODIFIED:20210930T203633Z
UID:3702-1635845400-1635931800@up-beatfirstaid.ca
SUMMARY:Standard First Aid - Dawson Creek
DESCRIPTION:
URL:https://up-beatfirstaid.ca/event/standard-first-aid-dawson-creek-13/
LOCATION:Up-Beat First Aid Dawson Creek NEW\, 11000 8th Street\, Dawson Creek\, British Columbia\, V1G 4K6\, Canada
CATEGORIES:Standard First Aid
ORGANIZER;CN="Up-Beat First Aid & Safety Training":MAILTO:up-beat@live.ca
END:VEVENT
BEGIN:VEVENT
DTSTART;TZID=America/Dawson_Creek:20211018T093000
DTEND;TZID=America/Dawson_Creek:20211019T093000
DTSTAMP:20260420T211159
CREATED:20210924T211346Z
LAST-MODIFIED:20211015T162310Z
UID:3636-1634549400-1634635800@up-beatfirstaid.ca
SUMMARY:Standard First Aid & CPR C
DESCRIPTION:
URL:https://up-beatfirstaid.ca/event/standard-first-aid-cpr-c/
LOCATION:Up-Beat First Aid Dawson Creek NEW\, 11000 8th Street\, Dawson Creek\, British Columbia\, V1G 4K6\, Canada
CATEGORIES:Standard First Aid
ORGANIZER;CN="Up-Beat First Aid & Safety Training":MAILTO:up-beat@live.ca
END:VEVENT
BEGIN:VEVENT
DTSTART;TZID=America/Dawson_Creek:20211012T093000
DTEND;TZID=America/Dawson_Creek:20211013T170000
DTSTAMP:20260420T211159
CREATED:20210907T215759Z
LAST-MODIFIED:20210907T221953Z
UID:3607-1634031000-1634144400@up-beatfirstaid.ca
SUMMARY:Standard First Aid - Dawson Creek
DESCRIPTION:
URL:https://up-beatfirstaid.ca/event/standard-first-aid-dawson-creek-17/
LOCATION:Up-Beat First Aid Dawson Creek NEW\, 11000 8th Street\, Dawson Creek\, British Columbia\, V1G 4K6\, Canada
CATEGORIES:Standard First Aid
ORGANIZER;CN="Up-Beat First Aid & Safety Training":MAILTO:up-beat@live.ca
END:VEVENT
BEGIN:VEVENT
DTSTART;TZID=America/Dawson_Creek:20210929T093000
DTEND;TZID=America/Dawson_Creek:20210929T093000
DTSTAMP:20260420T211159
CREATED:20210719T220600Z
LAST-MODIFIED:20210819T222617Z
UID:3411-1632907800-1632907800@up-beatfirstaid.ca
SUMMARY:Standard First Aid Second Day - Dawson Creek
DESCRIPTION:
URL:https://up-beatfirstaid.ca/event/transportation-endorsement-dawson-creek-8/
LOCATION:Up-Beat First Aid Dawson Creek NEW\, 11000 8th Street\, Dawson Creek\, British Columbia\, V1G 4K6\, Canada
CATEGORIES:Standard First Aid
ORGANIZER;CN="Up-Beat First Aid & Safety Training":MAILTO:up-beat@live.ca
END:VEVENT
BEGIN:VEVENT
DTSTART;TZID=America/Dawson_Creek:20210928T093000
DTEND;TZID=America/Dawson_Creek:20210928T170000
DTSTAMP:20260420T211159
CREATED:20210819T222942Z
LAST-MODIFIED:20210819T222942Z
UID:3511-1632821400-1632848400@up-beatfirstaid.ca
SUMMARY:Standard First Aid - Dawson Creek
DESCRIPTION:
URL:https://up-beatfirstaid.ca/event/standard-first-aid-dawson-creek-15/
LOCATION:Up-Beat First Aid Dawson Creek NEW\, 11000 8th Street\, Dawson Creek\, British Columbia\, V1G 4K6\, Canada
CATEGORIES:Standard First Aid
ORGANIZER;CN="Up-Beat First Aid & Safety Training":MAILTO:up-beat@live.ca
END:VEVENT
BEGIN:VEVENT
DTSTART;TZID=America/Dawson_Creek:20210907T093000
DTEND;TZID=America/Dawson_Creek:20210908T170000
DTSTAMP:20260420T211159
CREATED:20210719T195715Z
LAST-MODIFIED:20210831T235020Z
UID:3377-1631007000-1631120400@up-beatfirstaid.ca
SUMMARY:Standard First Aid - Dawson Creek
DESCRIPTION:
URL:https://up-beatfirstaid.ca/event/standard-first-aid-dawson-creek-11/
LOCATION:Up-Beat First Aid Dawson Creek NEW\, 11000 8th Street\, Dawson Creek\, British Columbia\, V1G 4K6\, Canada
CATEGORIES:Standard First Aid
ORGANIZER;CN="Up-Beat First Aid & Safety Training":MAILTO:up-beat@live.ca
END:VEVENT
BEGIN:VEVENT
DTSTART;TZID=America/Dawson_Creek:20210825T091500
DTEND;TZID=America/Dawson_Creek:20210825T170000
DTSTAMP:20260420T211159
CREATED:20210803T195545Z
LAST-MODIFIED:20210803T195545Z
UID:3469-1629882900-1629910800@up-beatfirstaid.ca
SUMMARY:Standard First Aid Day 2 - Dawson Creek
DESCRIPTION:
URL:https://up-beatfirstaid.ca/event/standard-first-aid-day-2-dawson-creek/
LOCATION:Up-Beat First Aid Dawson Creek NEW\, 11000 8th Street\, Dawson Creek\, British Columbia\, V1G 4K6\, Canada
CATEGORIES:Standard First Aid
ORGANIZER;CN="Up-Beat First Aid & Safety Training":MAILTO:up-beat@live.ca
END:VEVENT
BEGIN:VEVENT
DTSTART;TZID=America/Dawson_Creek:20210824T091500
DTEND;TZID=America/Dawson_Creek:20210824T091500
DTSTAMP:20260420T211159
CREATED:20210803T200144Z
LAST-MODIFIED:20210812T173351Z
UID:3471-1629796500-1629796500@up-beatfirstaid.ca
SUMMARY:Standard First Aid - Dawson Creek
DESCRIPTION:
URL:https://up-beatfirstaid.ca/event/standard-first-aid-dawson-creek-14/
LOCATION:Up-Beat First Aid Dawson Creek NEW\, 11000 8th Street\, Dawson Creek\, British Columbia\, V1G 4K6\, Canada
CATEGORIES:Standard First Aid
ORGANIZER;CN="Up-Beat First Aid & Safety Training":MAILTO:up-beat@live.ca
END:VEVENT
BEGIN:VEVENT
DTSTART;TZID=America/Dawson_Creek:20210818T091500
DTEND;TZID=America/Dawson_Creek:20210818T170000
DTSTAMP:20260420T211159
CREATED:20210625T200049Z
LAST-MODIFIED:20210625T200049Z
UID:3251-1629278100-1629306000@up-beatfirstaid.ca
SUMMARY:Standard First Aid - Day 2
DESCRIPTION:
URL:https://up-beatfirstaid.ca/event/standard-first-aid-day-2-3/
LOCATION:Up-Beat First Aid Dawson Creek NEW\, 11000 8th Street\, Dawson Creek\, British Columbia\, V1G 4K6\, Canada
CATEGORIES:Standard First Aid
ORGANIZER;CN="Up-Beat First Aid & Safety Training":MAILTO:up-beat@live.ca
END:VEVENT
BEGIN:VEVENT
DTSTART;TZID=America/Dawson_Creek:20210817T091500
DTEND;TZID=America/Dawson_Creek:20210817T170000
DTSTAMP:20260420T211159
CREATED:20210625T205027Z
LAST-MODIFIED:20210812T173122Z
UID:3290-1629191700-1629219600@up-beatfirstaid.ca
SUMMARY:Standard First aid  Dawson Creek Day 1
DESCRIPTION:
URL:https://up-beatfirstaid.ca/event/standard-first-aid-day-1-3/
LOCATION:Up-Beat First Aid Dawson Creek NEW\, 11000 8th Street\, Dawson Creek\, British Columbia\, V1G 4K6\, Canada
CATEGORIES:Standard First Aid
ORGANIZER;CN="Up-Beat First Aid & Safety Training":MAILTO:up-beat@live.ca
END:VEVENT
BEGIN:VEVENT
DTSTART;TZID=America/Dawson_Creek:20210811T091500
DTEND;TZID=America/Dawson_Creek:20210811T170000
DTSTAMP:20260420T211159
CREATED:20210625T195953Z
LAST-MODIFIED:20210625T200037Z
UID:3249-1628673300-1628701200@up-beatfirstaid.ca
SUMMARY:Standard First Aid - Day 2
DESCRIPTION:
URL:https://up-beatfirstaid.ca/event/standard-first-aid-day-2-2/
LOCATION:Up-Beat First Aid Dawson Creek NEW\, 11000 8th Street\, Dawson Creek\, British Columbia\, V1G 4K6\, Canada
CATEGORIES:Standard First Aid
ORGANIZER;CN="Up-Beat First Aid & Safety Training":MAILTO:up-beat@live.ca
END:VEVENT
BEGIN:VEVENT
DTSTART;TZID=America/Dawson_Creek:20210810T091500
DTEND;TZID=America/Dawson_Creek:20210810T170000
DTSTAMP:20260420T211159
CREATED:20210625T204942Z
LAST-MODIFIED:20210809T180853Z
UID:3287-1628586900-1628614800@up-beatfirstaid.ca
SUMMARY:Standard First aid Dawson Creek Day 1
DESCRIPTION:
URL:https://up-beatfirstaid.ca/event/standard-first-aid-day-1-2/
LOCATION:Up-Beat First Aid Dawson Creek NEW\, 11000 8th Street\, Dawson Creek\, British Columbia\, V1G 4K6\, Canada
CATEGORIES:Standard First Aid
ORGANIZER;CN="Up-Beat First Aid & Safety Training":MAILTO:up-beat@live.ca
END:VEVENT
BEGIN:VEVENT
DTSTART;TZID=America/Dawson_Creek:20210804T091500
DTEND;TZID=America/Dawson_Creek:20210804T170000
DTSTAMP:20260420T211159
CREATED:20210625T195936Z
LAST-MODIFIED:20210625T195936Z
UID:3247-1628068500-1628096400@up-beatfirstaid.ca
SUMMARY:Standard First Aid - Day 2
DESCRIPTION:
URL:https://up-beatfirstaid.ca/event/standard-first-aid-day-2/
LOCATION:Up-Beat First Aid Dawson Creek NEW\, 11000 8th Street\, Dawson Creek\, British Columbia\, V1G 4K6\, Canada
CATEGORIES:Standard First Aid
ORGANIZER;CN="Up-Beat First Aid & Safety Training":MAILTO:up-beat@live.ca
END:VEVENT
BEGIN:VEVENT
DTSTART;TZID=America/Dawson_Creek:20210803T091500
DTEND;TZID=America/Dawson_Creek:20210803T170000
DTSTAMP:20260420T211159
CREATED:20210625T204828Z
LAST-MODIFIED:20210728T183400Z
UID:3284-1627982100-1628010000@up-beatfirstaid.ca
SUMMARY:Standard First aid Dawson Creek Day 1
DESCRIPTION:
URL:https://up-beatfirstaid.ca/event/standard-first-aid-day-1/
LOCATION:Up-Beat First Aid Dawson Creek NEW\, 11000 8th Street\, Dawson Creek\, British Columbia\, V1G 4K6\, Canada
CATEGORIES:Standard First Aid
ORGANIZER;CN="Up-Beat First Aid & Safety Training":MAILTO:up-beat@live.ca
END:VEVENT
BEGIN:VEVENT
DTSTART;TZID=America/Dawson_Creek:20210721T091500
DTEND;TZID=America/Dawson_Creek:20210721T091500
DTSTAMP:20260420T211159
CREATED:20210603T194855Z
LAST-MODIFIED:20210603T194855Z
UID:3154-1626858900-1626858900@up-beatfirstaid.ca
SUMMARY:Standard First Aid - Dawson Creek (Second Day)
DESCRIPTION:
URL:https://up-beatfirstaid.ca/event/standard-first-aid-dawson-creek-second-day-4/
LOCATION:Up-Beat First Aid Dawson Creek NEW\, 11000 8th Street\, Dawson Creek\, British Columbia\, V1G 4K6\, Canada
CATEGORIES:Standard First Aid
ORGANIZER;CN="Up-Beat First Aid & Safety Training":MAILTO:up-beat@live.ca
END:VEVENT
BEGIN:VEVENT
DTSTART;TZID=America/Dawson_Creek:20210720T091500
DTEND;TZID=America/Dawson_Creek:20210720T091500
DTSTAMP:20260420T211159
CREATED:20210603T205203Z
LAST-MODIFIED:20210719T160208Z
UID:3179-1626772500-1626772500@up-beatfirstaid.ca
SUMMARY:Standard First Aid - Dawson Creek ( Day 1)
DESCRIPTION:
URL:https://up-beatfirstaid.ca/event/standard-first-aid-dawson-creek-day-1-2/
LOCATION:Up-Beat First Aid Dawson Creek NEW\, 11000 8th Street\, Dawson Creek\, British Columbia\, V1G 4K6\, Canada
CATEGORIES:Standard First Aid
ORGANIZER;CN="Up-Beat First Aid & Safety Training":MAILTO:up-beat@live.ca
END:VEVENT
BEGIN:VEVENT
DTSTART;TZID=America/Dawson_Creek:20210707T091500
DTEND;TZID=America/Dawson_Creek:20210707T091500
DTSTAMP:20260420T211159
CREATED:20210603T194836Z
LAST-MODIFIED:20210603T194836Z
UID:3152-1625649300-1625649300@up-beatfirstaid.ca
SUMMARY:Standard First Aid - Dawson Creek (Second Day)
DESCRIPTION:
URL:https://up-beatfirstaid.ca/event/standard-first-aid-dawson-creek-second-day-3/
LOCATION:Up-Beat First Aid Dawson Creek NEW\, 11000 8th Street\, Dawson Creek\, British Columbia\, V1G 4K6\, Canada
CATEGORIES:Standard First Aid
ORGANIZER;CN="Up-Beat First Aid & Safety Training":MAILTO:up-beat@live.ca
END:VEVENT
BEGIN:VEVENT
DTSTART;TZID=America/Dawson_Creek:20210706T091500
DTEND;TZID=America/Dawson_Creek:20210706T091500
DTSTAMP:20260420T211159
CREATED:20210603T205120Z
LAST-MODIFIED:20210624T201502Z
UID:3175-1625562900-1625562900@up-beatfirstaid.ca
SUMMARY:Standard First Aid - Dawson Creek ( Day 1)
DESCRIPTION:
URL:https://up-beatfirstaid.ca/event/standard-first-aid-dawson-creek-day-1/
LOCATION:Up-Beat First Aid Dawson Creek NEW\, 11000 8th Street\, Dawson Creek\, British Columbia\, V1G 4K6\, Canada
CATEGORIES:Standard First Aid
ORGANIZER;CN="Up-Beat First Aid & Safety Training":MAILTO:up-beat@live.ca
END:VEVENT
BEGIN:VEVENT
DTSTART;TZID=America/Dawson_Creek:20210602T091500
DTEND;TZID=America/Dawson_Creek:20210602T170000
DTSTAMP:20260420T211159
CREATED:20210511T201237Z
LAST-MODIFIED:20210511T201237Z
UID:3088-1622625300-1622653200@up-beatfirstaid.ca
SUMMARY:Standard First Aid - Dawson Creek
DESCRIPTION:
URL:https://up-beatfirstaid.ca/event/standard-first-aid-dawson-creek-12/
LOCATION:Up-Beat First Aid Dawson Creek NEW\, 11000 8th Street\, Dawson Creek\, British Columbia\, V1G 4K6\, Canada
CATEGORIES:Standard First Aid
ORGANIZER;CN="Up-Beat First Aid & Safety Training":MAILTO:up-beat@live.ca
END:VEVENT
BEGIN:VEVENT
DTSTART;TZID=America/Dawson_Creek:20210512T091500
DTEND;TZID=America/Dawson_Creek:20210512T091500
DTSTAMP:20260420T211159
CREATED:20210323T204325Z
LAST-MODIFIED:20210323T204325Z
UID:2917-1620810900-1620810900@up-beatfirstaid.ca
SUMMARY:Standard First Aid ( Second Day ) - Dawson Creek
DESCRIPTION:
URL:https://up-beatfirstaid.ca/event/standard-first-aid-second-day-dawson-creek-5/
LOCATION:Up-Beat First Aid Dawson Creek NEW\, 11000 8th Street\, Dawson Creek\, British Columbia\, V1G 4K6\, Canada
CATEGORIES:Standard First Aid
ORGANIZER;CN="Up-Beat First Aid & Safety Training":MAILTO:up-beat@live.ca
END:VEVENT
BEGIN:VEVENT
DTSTART;TZID=America/Dawson_Creek:20210428T091500
DTEND;TZID=America/Dawson_Creek:20210428T170000
DTSTAMP:20260420T211159
CREATED:20210226T233151Z
LAST-MODIFIED:20210324T192619Z
UID:2785-1619601300-1619629200@up-beatfirstaid.ca
SUMMARY:Standard First Aid ( Second Day) - Dawson Creek
DESCRIPTION:
URL:https://up-beatfirstaid.ca/event/standard-first-aid-second-day-dawson-creek-4/
LOCATION:Up-Beat First Aid Dawson Creek NEW\, 11000 8th Street\, Dawson Creek\, British Columbia\, V1G 4K6\, Canada
CATEGORIES:Standard First Aid
ORGANIZER;CN="Up-Beat First Aid & Safety Training":MAILTO:up-beat@live.ca
END:VEVENT
BEGIN:VEVENT
DTSTART;TZID=America/Dawson_Creek:20210414T091500
DTEND;TZID=America/Dawson_Creek:20210414T170000
DTSTAMP:20260420T211159
CREATED:20210226T233123Z
LAST-MODIFIED:20210324T192531Z
UID:2783-1618391700-1618419600@up-beatfirstaid.ca
SUMMARY:Standard First Aid ( Second Day) - Dawson Creek
DESCRIPTION:
URL:https://up-beatfirstaid.ca/event/standard-first-aid-second-day-dawson-creek-3/
LOCATION:Up-Beat First Aid Dawson Creek NEW\, 11000 8th Street\, Dawson Creek\, British Columbia\, V1G 4K6\, Canada
CATEGORIES:Standard First Aid
ORGANIZER;CN="Up-Beat First Aid & Safety Training":MAILTO:up-beat@live.ca
END:VEVENT
BEGIN:VEVENT
DTSTART;TZID=America/Dawson_Creek:20210331T091500
DTEND;TZID=America/Dawson_Creek:20210331T091500
DTSTAMP:20260420T211159
CREATED:20210324T192125Z
LAST-MODIFIED:20210324T192326Z
UID:2935-1617182100-1617182100@up-beatfirstaid.ca
SUMMARY:Standard First Aid ( Second day) - Dawson Creek
DESCRIPTION:
URL:https://up-beatfirstaid.ca/event/standard-first-aid-second-day-dawson-creek-7/
LOCATION:Up-Beat First Aid Dawson Creek NEW\, 11000 8th Street\, Dawson Creek\, British Columbia\, V1G 4K6\, Canada
CATEGORIES:Standard First Aid
ORGANIZER;CN="Up-Beat First Aid & Safety Training":MAILTO:up-beat@live.ca
END:VEVENT
BEGIN:VEVENT
DTSTART;TZID=America/Dawson_Creek:20210317T091500
DTEND;TZID=America/Dawson_Creek:20210317T170000
DTSTAMP:20260420T211159
CREATED:20210128T213552Z
LAST-MODIFIED:20210128T213552Z
UID:2672-1615972500-1616000400@up-beatfirstaid.ca
SUMMARY:Standard First Aid (second day) - Dawson Creek
DESCRIPTION:
URL:https://up-beatfirstaid.ca/event/standard-first-aid-second-day-dawson-creek-2/
LOCATION:Up-Beat First Aid Dawson Creek NEW\, 11000 8th Street\, Dawson Creek\, British Columbia\, V1G 4K6\, Canada
CATEGORIES:Standard First Aid
ORGANIZER;CN="Up-Beat First Aid & Safety Training":MAILTO:up-beat@live.ca
END:VEVENT
BEGIN:VEVENT
DTSTART;TZID=America/Dawson_Creek:20210303T091500
DTEND;TZID=America/Dawson_Creek:20210303T170000
DTSTAMP:20260420T211159
CREATED:20210128T213224Z
LAST-MODIFIED:20210128T213224Z
UID:2670-1614762900-1614790800@up-beatfirstaid.ca
SUMMARY:Standard First Aid (second day) - Dawson Creek
DESCRIPTION:
URL:https://up-beatfirstaid.ca/event/standard-first-aid-second-day-dawson-creek/
LOCATION:Up-Beat First Aid Dawson Creek NEW\, 11000 8th Street\, Dawson Creek\, British Columbia\, V1G 4K6\, Canada
CATEGORIES:Standard First Aid
ORGANIZER;CN="Up-Beat First Aid & Safety Training":MAILTO:up-beat@live.ca
END:VEVENT
BEGIN:VEVENT
DTSTART;TZID=America/Dawson_Creek:20210203T091500
DTEND;TZID=America/Dawson_Creek:20210203T170000
DTSTAMP:20260420T211159
CREATED:20210108T194206Z
LAST-MODIFIED:20210108T194206Z
UID:2576-1612343700-1612371600@up-beatfirstaid.ca
SUMMARY:Standard First Aid Dawson Creek
DESCRIPTION:
URL:https://up-beatfirstaid.ca/event/standard-first-aid-dawson-creek-9/
LOCATION:Up-Beat First Aid Dawson Creek NEW\, 11000 8th Street\, Dawson Creek\, British Columbia\, V1G 4K6\, Canada
CATEGORIES:Standard First Aid
ORGANIZER;CN="Up-Beat First Aid & Safety Training":MAILTO:up-beat@live.ca
END:VEVENT
BEGIN:VEVENT
DTSTART;TZID=America/Dawson_Creek:20210120T091500
DTEND;TZID=America/Dawson_Creek:20210120T170000
DTSTAMP:20260420T211159
CREATED:20201201T190500Z
LAST-MODIFIED:20201201T190500Z
UID:2455-1611134100-1611162000@up-beatfirstaid.ca
SUMMARY:Standard First Aid Dawson Creek - Second Day
DESCRIPTION:
URL:https://up-beatfirstaid.ca/event/standard-first-aid-dawson-creek-second-day-2/
LOCATION:Up-Beat First Aid Dawson Creek NEW\, 11000 8th Street\, Dawson Creek\, British Columbia\, V1G 4K6\, Canada
CATEGORIES:Standard First Aid
ORGANIZER;CN="Up-Beat First Aid & Safety Training":MAILTO:up-beat@live.ca
END:VEVENT
BEGIN:VEVENT
DTSTART;TZID=America/Dawson_Creek:20210106T091500
DTEND;TZID=America/Dawson_Creek:20210106T170000
DTSTAMP:20260420T211159
CREATED:20201201T190426Z
LAST-MODIFIED:20201201T190426Z
UID:2453-1609924500-1609952400@up-beatfirstaid.ca
SUMMARY:Standard First Aid Dawson Creek - Second Day
DESCRIPTION:
URL:https://up-beatfirstaid.ca/event/standard-first-aid-dawson-creek-second-day/
LOCATION:Up-Beat First Aid Dawson Creek NEW\, 11000 8th Street\, Dawson Creek\, British Columbia\, V1G 4K6\, Canada
CATEGORIES:Standard First Aid
ORGANIZER;CN="Up-Beat First Aid & Safety Training":MAILTO:up-beat@live.ca
END:VEVENT
BEGIN:VEVENT
DTSTART;TZID=America/Dawson_Creek:20201216T091500
DTEND;TZID=America/Dawson_Creek:20201216T170000
DTSTAMP:20260420T211159
CREATED:20201117T211624Z
LAST-MODIFIED:20201117T211624Z
UID:2412-1608110100-1608138000@up-beatfirstaid.ca
SUMMARY:Standard First Aid Dawson Creek
DESCRIPTION:
URL:https://up-beatfirstaid.ca/event/standard-first-aid-dawson-creek-8/
LOCATION:Up-Beat First Aid Dawson Creek NEW\, 11000 8th Street\, Dawson Creek\, British Columbia\, V1G 4K6\, Canada
CATEGORIES:Standard First Aid
ORGANIZER;CN="Up-Beat First Aid & Safety Training":MAILTO:up-beat@live.ca
END:VEVENT
BEGIN:VEVENT
DTSTART;TZID=America/Dawson_Creek:20201202T091500
DTEND;TZID=America/Dawson_Creek:20201202T170000
DTSTAMP:20260420T211159
CREATED:20201117T211515Z
LAST-MODIFIED:20201117T211515Z
UID:2409-1606900500-1606928400@up-beatfirstaid.ca
SUMMARY:Standard First Aid Dawson Creek
DESCRIPTION:
URL:https://up-beatfirstaid.ca/event/standard-first-aid-dawson-creek-7/
LOCATION:Up-Beat First Aid Dawson Creek NEW\, 11000 8th Street\, Dawson Creek\, British Columbia\, V1G 4K6\, Canada
CATEGORIES:Standard First Aid
ORGANIZER;CN="Up-Beat First Aid & Safety Training":MAILTO:up-beat@live.ca
END:VEVENT
END:VCALENDAR