BEGIN:VCALENDAR
VERSION:2.0
PRODID:-//Up-Beat First Aid &amp; Safety Training Ltd. - ECPv6.15.20//NONSGML v1.0//EN
CALSCALE:GREGORIAN
METHOD:PUBLISH
X-ORIGINAL-URL:https://up-beatfirstaid.ca
X-WR-CALDESC:Events for Up-Beat First Aid &amp; Safety Training Ltd.
REFRESH-INTERVAL;VALUE=DURATION:PT1H
X-Robots-Tag:noindex
X-PUBLISHED-TTL:PT1H
BEGIN:VTIMEZONE
TZID:America/Dawson_Creek
BEGIN:STANDARD
TZOFFSETFROM:-0700
TZOFFSETTO:-0700
TZNAME:MST
DTSTART:20240101T000000
END:STANDARD
END:VTIMEZONE
BEGIN:VEVENT
DTSTART;TZID=America/Dawson_Creek:20250717T091500
DTEND;TZID=America/Dawson_Creek:20250717T170000
DTSTAMP:20260422T153721
CREATED:20250623T225550Z
LAST-MODIFIED:20250623T225550Z
UID:11025-1752743700-1752771600@up-beatfirstaid.ca
SUMMARY:Transportation Endorsement - Dawson Creek
DESCRIPTION:
URL:https://up-beatfirstaid.ca/event/transportation-endorsement-dawson-creek-35/
LOCATION:Up-Beat First Aid Dawson Creek NEW\, 11000 8th Street\, Dawson Creek\, British Columbia\, V1G 4K6\, Canada
CATEGORIES:Transportation Endorsement (TE)
ORGANIZER;CN="Up-Beat First Aid & Safety Training":MAILTO:up-beat@live.ca
END:VEVENT
BEGIN:VEVENT
DTSTART;TZID=America/Dawson_Creek:20250725T091500
DTEND;TZID=America/Dawson_Creek:20250725T170000
DTSTAMP:20260422T153721
CREATED:20250624T152308Z
LAST-MODIFIED:20250624T152308Z
UID:11038-1753434900-1753462800@up-beatfirstaid.ca
SUMMARY:Transportation Endorsement - Dawson Creek
DESCRIPTION:
URL:https://up-beatfirstaid.ca/event/transportation-endorsement-dawson-creek-36/
LOCATION:Up-Beat First Aid Dawson Creek NEW\, 11000 8th Street\, Dawson Creek\, British Columbia\, V1G 4K6\, Canada
CATEGORIES:Transportation Endorsement (TE)
ORGANIZER;CN="Up-Beat First Aid & Safety Training":MAILTO:up-beat@live.ca
END:VEVENT
BEGIN:VEVENT
DTSTART;TZID=America/Dawson_Creek:20250801T091500
DTEND;TZID=America/Dawson_Creek:20250801T170000
DTSTAMP:20260422T153721
CREATED:20250624T153304Z
LAST-MODIFIED:20250624T153304Z
UID:11052-1754039700-1754067600@up-beatfirstaid.ca
SUMMARY:Transportation Endorsement - Dawson Creek
DESCRIPTION:
URL:https://up-beatfirstaid.ca/event/transportation-endorsement-dawson-creek-38/
LOCATION:Up-Beat First Aid Dawson Creek NEW\, 11000 8th Street\, Dawson Creek\, British Columbia\, V1G 4K6\, Canada
CATEGORIES:Transportation Endorsement (TE)
ORGANIZER;CN="Up-Beat First Aid & Safety Training":MAILTO:up-beat@live.ca
END:VEVENT
BEGIN:VEVENT
DTSTART;TZID=America/Dawson_Creek:20250822T091500
DTEND;TZID=America/Dawson_Creek:20250822T170000
DTSTAMP:20260422T153721
CREATED:20250624T184712Z
LAST-MODIFIED:20250827T230238Z
UID:11086-1755854100-1755882000@up-beatfirstaid.ca
SUMMARY:Transportation Endorsement - Dawson Creek
DESCRIPTION:
URL:https://up-beatfirstaid.ca/event/transportation-endorsement-dawson-creek-41/
LOCATION:Up-Beat First Aid Dawson Creek NEW\, 11000 8th Street\, Dawson Creek\, British Columbia\, V1G 4K6\, Canada
CATEGORIES:Transportation Endorsement (TE)
ORGANIZER;CN="Up-Beat First Aid & Safety Training":MAILTO:up-beat@live.ca
END:VEVENT
BEGIN:VEVENT
DTSTART;TZID=America/Dawson_Creek:20250910T091500
DTEND;TZID=America/Dawson_Creek:20250910T170000
DTSTAMP:20260422T153721
CREATED:20250806T172953Z
LAST-MODIFIED:20250806T172953Z
UID:11127-1757495700-1757523600@up-beatfirstaid.ca
SUMMARY:Transportation Endorsement - Chetwynd
DESCRIPTION:
URL:https://up-beatfirstaid.ca/event/transportation-endorsement-chetwynd-9/
LOCATION:British Columbia
CATEGORIES:Transportation Endorsement (TE)
ORGANIZER;CN="Up-Beat First Aid & Safety Training":MAILTO:up-beat@live.ca
END:VEVENT
BEGIN:VEVENT
DTSTART;TZID=America/Dawson_Creek:20250912T091500
DTEND;TZID=America/Dawson_Creek:20250912T170000
DTSTAMP:20260422T153721
CREATED:20250806T173629Z
LAST-MODIFIED:20250806T173629Z
UID:11135-1757668500-1757696400@up-beatfirstaid.ca
SUMMARY:Transportation Endorsement - Dawson Creek
DESCRIPTION:
URL:https://up-beatfirstaid.ca/event/transportation-endorsement-dawson-creek-37/
LOCATION:Up-Beat First Aid Dawson Creek NEW\, 11000 8th Street\, Dawson Creek\, British Columbia\, V1G 4K6\, Canada
CATEGORIES:Transportation Endorsement (TE)
ORGANIZER;CN="Up-Beat First Aid & Safety Training":MAILTO:up-beat@live.ca
END:VEVENT
BEGIN:VEVENT
DTSTART;TZID=America/Dawson_Creek:20250918T091500
DTEND;TZID=America/Dawson_Creek:20250918T170000
DTSTAMP:20260422T153721
CREATED:20250806T174608Z
LAST-MODIFIED:20250806T174608Z
UID:11145-1758186900-1758214800@up-beatfirstaid.ca
SUMMARY:Transportation Endorsement - Dawson Creek
DESCRIPTION:
URL:https://up-beatfirstaid.ca/event/transportation-endorsement-dawson-creek-43/
LOCATION:Up-Beat First Aid Dawson Creek NEW\, 11000 8th Street\, Dawson Creek\, British Columbia\, V1G 4K6\, Canada
CATEGORIES:Transportation Endorsement (TE)
ORGANIZER;CN="Up-Beat First Aid & Safety Training":MAILTO:up-beat@live.ca
END:VEVENT
BEGIN:VEVENT
DTSTART;TZID=America/Dawson_Creek:20250925T091500
DTEND;TZID=America/Dawson_Creek:20250925T170000
DTSTAMP:20260422T153721
CREATED:20250806T174654Z
LAST-MODIFIED:20250806T174654Z
UID:11147-1758791700-1758819600@up-beatfirstaid.ca
SUMMARY:Transportation Endorsement - Dawson Creek
DESCRIPTION:
URL:https://up-beatfirstaid.ca/event/transportation-endorsement-dawson-creek-44/
LOCATION:Up-Beat First Aid Dawson Creek NEW\, 11000 8th Street\, Dawson Creek\, British Columbia\, V1G 4K6\, Canada
CATEGORIES:Transportation Endorsement (TE)
ORGANIZER;CN="Up-Beat First Aid & Safety Training":MAILTO:up-beat@live.ca
END:VEVENT
BEGIN:VEVENT
DTSTART;TZID=America/Dawson_Creek:20251016T091500
DTEND;TZID=America/Dawson_Creek:20251016T170000
DTSTAMP:20260422T153721
CREATED:20250904T164709Z
LAST-MODIFIED:20250925T215152Z
UID:11202-1760606100-1760634000@up-beatfirstaid.ca
SUMMARY:Transportation Endorsement - Dawson Creek
DESCRIPTION:
URL:https://up-beatfirstaid.ca/event/transportation-endorsement-dawson-creek-39/
LOCATION:Up-Beat First Aid Dawson Creek NEW\, 11000 8th Street\, Dawson Creek\, British Columbia\, V1G 4K6\, Canada
CATEGORIES:Transportation Endorsement (TE)
ORGANIZER;CN="Up-Beat First Aid & Safety Training":MAILTO:up-beat@live.ca
END:VEVENT
BEGIN:VEVENT
DTSTART;TZID=America/Dawson_Creek:20251106T091500
DTEND;TZID=America/Dawson_Creek:20251106T170000
DTSTAMP:20260422T153721
CREATED:20250904T164849Z
LAST-MODIFIED:20251022T175458Z
UID:11208-1762420500-1762448400@up-beatfirstaid.ca
SUMMARY:Transportation Endorsement - Dawson Creek
DESCRIPTION:
URL:https://up-beatfirstaid.ca/event/transportation-endorsement-dawson-creek-40/
LOCATION:Up-Beat First Aid Dawson Creek NEW\, 11000 8th Street\, Dawson Creek\, British Columbia\, V1G 4K6\, Canada
CATEGORIES:Transportation Endorsement (TE)
ORGANIZER;CN="Up-Beat First Aid & Safety Training":MAILTO:up-beat@live.ca
END:VEVENT
BEGIN:VEVENT
DTSTART;TZID=America/Dawson_Creek:20251114T091500
DTEND;TZID=America/Dawson_Creek:20251114T170000
DTSTAMP:20260422T153721
CREATED:20251007T184506Z
LAST-MODIFIED:20251007T184506Z
UID:11230-1763111700-1763139600@up-beatfirstaid.ca
SUMMARY:Transportation Endorsement - Dawson Creek
DESCRIPTION:
URL:https://up-beatfirstaid.ca/event/transportation-endorsement-dawson-creek-34/
LOCATION:Up-Beat First Aid Dawson Creek NEW\, 11000 8th Street\, Dawson Creek\, British Columbia\, V1G 4K6\, Canada
CATEGORIES:Transportation Endorsement (TE)
ORGANIZER;CN="Up-Beat First Aid & Safety Training":MAILTO:up-beat@live.ca
END:VEVENT
BEGIN:VEVENT
DTSTART;TZID=America/Dawson_Creek:20251121T091500
DTEND;TZID=America/Dawson_Creek:20251121T170000
DTSTAMP:20260422T153721
CREATED:20251007T184918Z
LAST-MODIFIED:20251007T184918Z
UID:11238-1763716500-1763744400@up-beatfirstaid.ca
SUMMARY:Transportation Endorsement - Dawson Creek
DESCRIPTION:
URL:https://up-beatfirstaid.ca/event/transportation-endorsement-dawson-creek-42/
LOCATION:Up-Beat First Aid Dawson Creek NEW\, 11000 8th Street\, Dawson Creek\, British Columbia\, V1G 4K6\, Canada
CATEGORIES:Transportation Endorsement (TE)
ORGANIZER;CN="Up-Beat First Aid & Safety Training":MAILTO:up-beat@live.ca
END:VEVENT
BEGIN:VEVENT
DTSTART;TZID=America/Dawson_Creek:20251211T091500
DTEND;TZID=America/Dawson_Creek:20251211T170000
DTSTAMP:20260422T153721
CREATED:20251118T183720Z
LAST-MODIFIED:20251118T183720Z
UID:11282-1765444500-1765472400@up-beatfirstaid.ca
SUMMARY:Transportation Endorsement - Dawson Creek
DESCRIPTION:
URL:https://up-beatfirstaid.ca/event/transportation-endorsement-dawson-creek-45/
LOCATION:Up-Beat First Aid Dawson Creek NEW\, 11000 8th Street\, Dawson Creek\, British Columbia\, V1G 4K6\, Canada
CATEGORIES:Transportation Endorsement (TE)
ORGANIZER;CN="Up-Beat First Aid & Safety Training":MAILTO:up-beat@live.ca
END:VEVENT
BEGIN:VEVENT
DTSTART;TZID=America/Dawson_Creek:20260109T091500
DTEND;TZID=America/Dawson_Creek:20260109T170000
DTSTAMP:20260422T153721
CREATED:20251126T213738Z
LAST-MODIFIED:20251126T213738Z
UID:11314-1767950100-1767978000@up-beatfirstaid.ca
SUMMARY:Transportation Endorsement - Dawson Creek
DESCRIPTION:
URL:https://up-beatfirstaid.ca/event/transportation-endorsement-dawson-creek-46/
LOCATION:Up-Beat First Aid Dawson Creek NEW\, 11000 8th Street\, Dawson Creek\, British Columbia\, V1G 4K6\, Canada
CATEGORIES:Transportation Endorsement (TE)
ORGANIZER;CN="Up-Beat First Aid & Safety Training":MAILTO:up-beat@live.ca
END:VEVENT
BEGIN:VEVENT
DTSTART;TZID=America/Dawson_Creek:20260122T091500
DTEND;TZID=America/Dawson_Creek:20260122T170000
DTSTAMP:20260422T153721
CREATED:20251126T220348Z
LAST-MODIFIED:20251126T220348Z
UID:11327-1769073300-1769101200@up-beatfirstaid.ca
SUMMARY:Transportation Endorsement - Dawson Creek
DESCRIPTION:
URL:https://up-beatfirstaid.ca/event/transportation-endorsement-dawson-creek-47/
LOCATION:Up-Beat First Aid Dawson Creek NEW\, 11000 8th Street\, Dawson Creek\, British Columbia\, V1G 4K6\, Canada
CATEGORIES:Transportation Endorsement (TE)
ORGANIZER;CN="Up-Beat First Aid & Safety Training":MAILTO:up-beat@live.ca
END:VEVENT
BEGIN:VEVENT
DTSTART;TZID=America/Dawson_Creek:20260213T091500
DTEND;TZID=America/Dawson_Creek:20260213T170000
DTSTAMP:20260422T153721
CREATED:20251126T222111Z
LAST-MODIFIED:20251126T222111Z
UID:11345-1770974100-1771002000@up-beatfirstaid.ca
SUMMARY:Transportation Endorsement - Dawson Creek
DESCRIPTION:
URL:https://up-beatfirstaid.ca/event/transportation-endorsement-dawson-creek-48/
LOCATION:Up-Beat First Aid Dawson Creek NEW\, 11000 8th Street\, Dawson Creek\, British Columbia\, V1G 4K6\, Canada
CATEGORIES:Transportation Endorsement (TE)
ORGANIZER;CN="Up-Beat First Aid & Safety Training":MAILTO:up-beat@live.ca
END:VEVENT
BEGIN:VEVENT
DTSTART;TZID=America/Dawson_Creek:20260313T091500
DTEND;TZID=America/Dawson_Creek:20260313T170000
DTSTAMP:20260422T153721
CREATED:20260122T181747Z
LAST-MODIFIED:20260122T181747Z
UID:11398-1773393300-1773421200@up-beatfirstaid.ca
SUMMARY:Transportation Endorsement - Dawson Creek
DESCRIPTION:
URL:https://up-beatfirstaid.ca/event/transportation-endorsement-dawson-creek-50/
LOCATION:Up-Beat First Aid Dawson Creek NEW\, 11000 8th Street\, Dawson Creek\, British Columbia\, V1G 4K6\, Canada
CATEGORIES:Transportation Endorsement (TE)
ORGANIZER;CN="Up-Beat First Aid & Safety Training":MAILTO:up-beat@live.ca
END:VEVENT
BEGIN:VEVENT
DTSTART;TZID=America/Dawson_Creek:20260326T091500
DTEND;TZID=America/Dawson_Creek:20260326T170000
DTSTAMP:20260422T153721
CREATED:20260122T183024Z
LAST-MODIFIED:20260122T183024Z
UID:11412-1774516500-1774544400@up-beatfirstaid.ca
SUMMARY:Transportation Endorsement - Dawson Creek
DESCRIPTION:
URL:https://up-beatfirstaid.ca/event/transportation-endorsement-dawson-creek-51/
LOCATION:Up-Beat First Aid Dawson Creek NEW\, 11000 8th Street\, Dawson Creek\, British Columbia\, V1G 4K6\, Canada
CATEGORIES:Transportation Endorsement (TE)
ORGANIZER;CN="Up-Beat First Aid & Safety Training":MAILTO:up-beat@live.ca
END:VEVENT
BEGIN:VEVENT
DTSTART;TZID=America/Dawson_Creek:20260402T091500
DTEND;TZID=America/Dawson_Creek:20260402T170000
DTSTAMP:20260422T153721
CREATED:20260213T154259Z
LAST-MODIFIED:20260213T154259Z
UID:11449-1775121300-1775149200@up-beatfirstaid.ca
SUMMARY:Transportation Endorsement - Dawson Creek
DESCRIPTION:
URL:https://up-beatfirstaid.ca/event/transportation-endorsement-dawson-creek-52/
LOCATION:Up-Beat First Aid Dawson Creek NEW\, 11000 8th Street\, Dawson Creek\, British Columbia\, V1G 4K6\, Canada
CATEGORIES:Transportation Endorsement (TE)
ORGANIZER;CN="Up-Beat First Aid & Safety Training":MAILTO:up-beat@live.ca
END:VEVENT
BEGIN:VEVENT
DTSTART;TZID=America/Dawson_Creek:20260416T091500
DTEND;TZID=America/Dawson_Creek:20260416T170000
DTSTAMP:20260422T153721
CREATED:20260213T161625Z
LAST-MODIFIED:20260213T161625Z
UID:11463-1776330900-1776358800@up-beatfirstaid.ca
SUMMARY:Transportation Endorsement - Dawson Creek
DESCRIPTION:
URL:https://up-beatfirstaid.ca/event/transportation-endorsement-dawson-creek-53/
LOCATION:Up-Beat First Aid Dawson Creek NEW\, 11000 8th Street\, Dawson Creek\, British Columbia\, V1G 4K6\, Canada
CATEGORIES:Transportation Endorsement (TE)
ORGANIZER;CN="Up-Beat First Aid & Safety Training":MAILTO:up-beat@live.ca
END:VEVENT
BEGIN:VEVENT
DTSTART;TZID=America/Dawson_Creek:20260507T091500
DTEND;TZID=America/Dawson_Creek:20260507T170000
DTSTAMP:20260422T153721
CREATED:20260417T205314Z
LAST-MODIFIED:20260417T205314Z
UID:11489-1778145300-1778173200@up-beatfirstaid.ca
SUMMARY:Transportation Endorsement - Dawson Creek
DESCRIPTION:
URL:https://up-beatfirstaid.ca/event/transportation-endorsement-dawson-creek-49/
LOCATION:Up-Beat First Aid Dawson Creek NEW\, 11000 8th Street\, Dawson Creek\, British Columbia\, V1G 4K6\, Canada
CATEGORIES:Transportation Endorsement (TE)
ORGANIZER;CN="Up-Beat First Aid & Safety Training":MAILTO:up-beat@live.ca
END:VEVENT
BEGIN:VEVENT
DTSTART;TZID=America/Dawson_Creek:20260516T091500
DTEND;TZID=America/Dawson_Creek:20260516T170000
DTSTAMP:20260422T153721
CREATED:20260417T210053Z
LAST-MODIFIED:20260417T210053Z
UID:11503-1778922900-1778950800@up-beatfirstaid.ca
SUMMARY:Transportation Endorsement - Dawson Creek
DESCRIPTION:
URL:https://up-beatfirstaid.ca/event/transportation-endorsement-dawson-creek-54/
LOCATION:Up-Beat First Aid Dawson Creek NEW\, 11000 8th Street\, Dawson Creek\, British Columbia\, V1G 4K6\, Canada
CATEGORIES:Transportation Endorsement (TE)
ORGANIZER;CN="Up-Beat First Aid & Safety Training":MAILTO:up-beat@live.ca
END:VEVENT
BEGIN:VEVENT
DTSTART;TZID=America/Dawson_Creek:20260521T091500
DTEND;TZID=America/Dawson_Creek:20260521T170000
DTSTAMP:20260422T153721
CREATED:20260417T211104Z
LAST-MODIFIED:20260417T211104Z
UID:11515-1779354900-1779382800@up-beatfirstaid.ca
SUMMARY:Transportation Endorsement - Chetwynd
DESCRIPTION:
URL:https://up-beatfirstaid.ca/event/transportation-endorsement-chetwynd-10/
LOCATION:British Columbia
CATEGORIES:Transportation Endorsement (TE)
ORGANIZER;CN="Up-Beat First Aid & Safety Training":MAILTO:up-beat@live.ca
END:VEVENT
BEGIN:VEVENT
DTSTART;TZID=America/Dawson_Creek:20260521T091500
DTEND;TZID=America/Dawson_Creek:20260521T170000
DTSTAMP:20260422T153721
CREATED:20260417T211245Z
LAST-MODIFIED:20260417T211245Z
UID:11517-1779354900-1779382800@up-beatfirstaid.ca
SUMMARY:Transportation Endorsement - Dawson Creek
DESCRIPTION:
URL:https://up-beatfirstaid.ca/event/transportation-endorsement-dawson-creek-55/
LOCATION:Up-Beat First Aid Dawson Creek NEW\, 11000 8th Street\, Dawson Creek\, British Columbia\, V1G 4K6\, Canada
CATEGORIES:Transportation Endorsement (TE)
ORGANIZER;CN="Up-Beat First Aid & Safety Training":MAILTO:up-beat@live.ca
END:VEVENT
END:VCALENDAR