BEGIN:VCALENDAR
VERSION:2.0
PRODID:-//Up-Beat First Aid &amp; Safety Training Ltd. - ECPv6.15.20//NONSGML v1.0//EN
CALSCALE:GREGORIAN
METHOD:PUBLISH
X-ORIGINAL-URL:https://up-beatfirstaid.ca
X-WR-CALDESC:Events for Up-Beat First Aid &amp; Safety Training Ltd.
REFRESH-INTERVAL;VALUE=DURATION:PT1H
X-Robots-Tag:noindex
X-PUBLISHED-TTL:PT1H
BEGIN:VTIMEZONE
TZID:America/Dawson_Creek
BEGIN:STANDARD
TZOFFSETFROM:-0700
TZOFFSETTO:-0700
TZNAME:MST
DTSTART:20230101T000000
END:STANDARD
END:VTIMEZONE
BEGIN:VEVENT
DTSTART;TZID=America/Dawson_Creek:20250704T091500
DTEND;TZID=America/Dawson_Creek:20250704T170000
DTSTAMP:20260421T105357
CREATED:20250515T162019Z
LAST-MODIFIED:20250515T162019Z
UID:10947-1751620500-1751648400@up-beatfirstaid.ca
SUMMARY:Transportation Endorsement - Dawson Creek
DESCRIPTION:
URL:https://up-beatfirstaid.ca/event/transportation-endorsement-dawson-creek-27/
LOCATION:Up-Beat First Aid Dawson Creek NEW\, 11000 8th Street\, Dawson Creek\, British Columbia\, V1G 4K6\, Canada
CATEGORIES:Transportation Endorsement (TE)
ORGANIZER;CN="Up-Beat First Aid & Safety Training":MAILTO:up-beat@live.ca
END:VEVENT
BEGIN:VEVENT
DTSTART;TZID=America/Dawson_Creek:20250627T091500
DTEND;TZID=America/Dawson_Creek:20250627T170000
DTSTAMP:20260421T105357
CREATED:20250515T162209Z
LAST-MODIFIED:20250515T162209Z
UID:10945-1751015700-1751043600@up-beatfirstaid.ca
SUMMARY:Transportation Endorsement - Dawson Creek
DESCRIPTION:
URL:https://up-beatfirstaid.ca/event/transportation-endorsement-dawson-creek-28/
LOCATION:Up-Beat First Aid Dawson Creek NEW\, 11000 8th Street\, Dawson Creek\, British Columbia\, V1G 4K6\, Canada
CATEGORIES:Transportation Endorsement (TE)
ORGANIZER;CN="Up-Beat First Aid & Safety Training":MAILTO:up-beat@live.ca
END:VEVENT
BEGIN:VEVENT
DTSTART;TZID=America/Dawson_Creek:20250625T091500
DTEND;TZID=America/Dawson_Creek:20250625T170000
DTSTAMP:20260421T105357
CREATED:20250515T163043Z
LAST-MODIFIED:20250515T163043Z
UID:10970-1750842900-1750870800@up-beatfirstaid.ca
SUMMARY:Transportation Endorsement - Chetwynd
DESCRIPTION:
URL:https://up-beatfirstaid.ca/event/transportation-endorsement-chetwynd-8/
LOCATION:Up-Beat First Aid Chetwynd\, 4717 – 51 St\, Chetwynd\, British Columbia\, V0C 1J0\, Canada
CATEGORIES:Transportation Endorsement (TE)
ORGANIZER;CN="Up-Beat First Aid & Safety Training":MAILTO:up-beat@live.ca
END:VEVENT
BEGIN:VEVENT
DTSTART;TZID=America/Dawson_Creek:20250620T091500
DTEND;TZID=America/Dawson_Creek:20250620T170000
DTSTAMP:20260421T105357
CREATED:20250528T224447Z
LAST-MODIFIED:20250528T224447Z
UID:10989-1750410900-1750438800@up-beatfirstaid.ca
SUMMARY:Transportation Endorsement - Dawson Creek
DESCRIPTION:
URL:https://up-beatfirstaid.ca/event/transportation-endorsement-dawson-creek-33/
LOCATION:Up-Beat First Aid Dawson Creek NEW\, 11000 8th Street\, Dawson Creek\, British Columbia\, V1G 4K6\, Canada
CATEGORIES:Transportation Endorsement (TE)
ORGANIZER;CN="Up-Beat First Aid & Safety Training":MAILTO:up-beat@live.ca
END:VEVENT
BEGIN:VEVENT
DTSTART;TZID=America/Dawson_Creek:20250619T091500
DTEND;TZID=America/Dawson_Creek:20250619T170000
DTSTAMP:20260421T105357
CREATED:20250515T162300Z
LAST-MODIFIED:20250515T162300Z
UID:10943-1750324500-1750352400@up-beatfirstaid.ca
SUMMARY:Transportation Endorsement - Dawson Creek
DESCRIPTION:
URL:https://up-beatfirstaid.ca/event/transportation-endorsement-dawson-creek-29/
LOCATION:Up-Beat First Aid Dawson Creek NEW\, 11000 8th Street\, Dawson Creek\, British Columbia\, V1G 4K6\, Canada
CATEGORIES:Transportation Endorsement (TE)
ORGANIZER;CN="Up-Beat First Aid & Safety Training":MAILTO:up-beat@live.ca
END:VEVENT
BEGIN:VEVENT
DTSTART;TZID=America/Dawson_Creek:20250613T091500
DTEND;TZID=America/Dawson_Creek:20250613T170000
DTSTAMP:20260421T105357
CREATED:20250528T223314Z
LAST-MODIFIED:20250528T223314Z
UID:10985-1749806100-1749834000@up-beatfirstaid.ca
SUMMARY:Transportation Endorsement - Dawson Creek
DESCRIPTION:
URL:https://up-beatfirstaid.ca/event/transportation-endorsement-dawson-creek-32/
LOCATION:Up-Beat First Aid Dawson Creek NEW\, 11000 8th Street\, Dawson Creek\, British Columbia\, V1G 4K6\, Canada
CATEGORIES:Transportation Endorsement (TE)
ORGANIZER;CN="Up-Beat First Aid & Safety Training":MAILTO:up-beat@live.ca
END:VEVENT
BEGIN:VEVENT
DTSTART;TZID=America/Dawson_Creek:20250612T091500
DTEND;TZID=America/Dawson_Creek:20250612T170000
DTSTAMP:20260421T105357
CREATED:20250515T162333Z
LAST-MODIFIED:20250515T162333Z
UID:10941-1749719700-1749747600@up-beatfirstaid.ca
SUMMARY:Transportation Endorsement - Dawson Creek
DESCRIPTION:
URL:https://up-beatfirstaid.ca/event/transportation-endorsement-dawson-creek-30/
LOCATION:Up-Beat First Aid Dawson Creek NEW\, 11000 8th Street\, Dawson Creek\, British Columbia\, V1G 4K6\, Canada
CATEGORIES:Transportation Endorsement (TE)
ORGANIZER;CN="Up-Beat First Aid & Safety Training":MAILTO:up-beat@live.ca
END:VEVENT
BEGIN:VEVENT
DTSTART;TZID=America/Dawson_Creek:20250605T091500
DTEND;TZID=America/Dawson_Creek:20250605T170000
DTSTAMP:20260421T105357
CREATED:20250515T162349Z
LAST-MODIFIED:20250515T162349Z
UID:10936-1749114900-1749142800@up-beatfirstaid.ca
SUMMARY:Transportation Endorsement - Dawson Creek
DESCRIPTION:
URL:https://up-beatfirstaid.ca/event/transportation-endorsement-dawson-creek-31/
LOCATION:Up-Beat First Aid Dawson Creek NEW\, 11000 8th Street\, Dawson Creek\, British Columbia\, V1G 4K6\, Canada
CATEGORIES:Transportation Endorsement (TE)
ORGANIZER;CN="Up-Beat First Aid & Safety Training":MAILTO:up-beat@live.ca
END:VEVENT
BEGIN:VEVENT
DTSTART;TZID=America/Dawson_Creek:20250530T091500
DTEND;TZID=America/Dawson_Creek:20250530T170000
DTSTAMP:20260421T105358
CREATED:20250421T190105Z
LAST-MODIFIED:20250421T190105Z
UID:10850-1748596500-1748624400@up-beatfirstaid.ca
SUMMARY:Transportation Endorsement - Dawson Creek
DESCRIPTION:
URL:https://up-beatfirstaid.ca/event/transportation-endorsement-dawson-creek-25/
LOCATION:Up-Beat First Aid Dawson Creek NEW\, 11000 8th Street\, Dawson Creek\, British Columbia\, V1G 4K6\, Canada
CATEGORIES:Transportation Endorsement (TE)
ORGANIZER;CN="Up-Beat First Aid & Safety Training":MAILTO:up-beat@live.ca
END:VEVENT
BEGIN:VEVENT
DTSTART;TZID=America/Dawson_Creek:20250523T091500
DTEND;TZID=America/Dawson_Creek:20250523T091500
DTSTAMP:20260421T105358
CREATED:20250421T190014Z
LAST-MODIFIED:20250421T190040Z
UID:10849-1747991700-1747991700@up-beatfirstaid.ca
SUMMARY:Transportation Endorsement - Dawson Creek
DESCRIPTION:
URL:https://up-beatfirstaid.ca/event/transportation-endorsement-dawson-creek-24/
LOCATION:Up-Beat First Aid Dawson Creek NEW\, 11000 8th Street\, Dawson Creek\, British Columbia\, V1G 4K6\, Canada
CATEGORIES:Transportation Endorsement (TE)
ORGANIZER;CN="Up-Beat First Aid & Safety Training":MAILTO:up-beat@live.ca
END:VEVENT
BEGIN:VEVENT
DTSTART;TZID=America/Dawson_Creek:20250509T091500
DTEND;TZID=America/Dawson_Creek:20250509T091500
DTSTAMP:20260421T105358
CREATED:20250430T202352Z
LAST-MODIFIED:20250430T202352Z
UID:10900-1746782100-1746782100@up-beatfirstaid.ca
SUMMARY:Transportation Endorsement - Dawson Creek
DESCRIPTION:
URL:https://up-beatfirstaid.ca/event/transportation-endorsement-dawson-creek-26/
LOCATION:Up-Beat First Aid Dawson Creek NEW\, 11000 8th Street\, Dawson Creek\, British Columbia\, V1G 4K6\, Canada
CATEGORIES:Transportation Endorsement (TE)
ORGANIZER;CN="Up-Beat First Aid & Safety Training":MAILTO:up-beat@live.ca
END:VEVENT
BEGIN:VEVENT
DTSTART;TZID=America/Dawson_Creek:20250502T091500
DTEND;TZID=America/Dawson_Creek:20250502T170000
DTSTAMP:20260421T105358
CREATED:20250314T001747Z
LAST-MODIFIED:20250314T201430Z
UID:10809-1746177300-1746205200@up-beatfirstaid.ca
SUMMARY:Transportation Endorsement - Dawson Creek
DESCRIPTION:
URL:https://up-beatfirstaid.ca/event/transportation-endorsement-dawson-creek-21/
LOCATION:Up-Beat First Aid Dawson Creek NEW\, 11000 8th Street\, Dawson Creek\, British Columbia\, V1G 4K6\, Canada
CATEGORIES:Transportation Endorsement (TE)
ORGANIZER;CN="Up-Beat First Aid & Safety Training":MAILTO:up-beat@live.ca
END:VEVENT
BEGIN:VEVENT
DTSTART;TZID=America/Dawson_Creek:20250425T091500
DTEND;TZID=America/Dawson_Creek:20250425T170000
DTSTAMP:20260421T105358
CREATED:20250314T002230Z
LAST-MODIFIED:20250314T002230Z
UID:10817-1745572500-1745600400@up-beatfirstaid.ca
SUMMARY:Transportation Endorsement - Dawson Creek
DESCRIPTION:
URL:https://up-beatfirstaid.ca/event/transportation-endorsement-dawson-creek-22/
LOCATION:Up-Beat First Aid Dawson Creek NEW\, 11000 8th Street\, Dawson Creek\, British Columbia\, V1G 4K6\, Canada
CATEGORIES:Transportation Endorsement (TE)
ORGANIZER;CN="Up-Beat First Aid & Safety Training":MAILTO:up-beat@live.ca
END:VEVENT
BEGIN:VEVENT
DTSTART;TZID=America/Dawson_Creek:20250416T091500
DTEND;TZID=America/Dawson_Creek:20250416T170000
DTSTAMP:20260421T105358
CREATED:20250314T000814Z
LAST-MODIFIED:20250314T000916Z
UID:10795-1744794900-1744822800@up-beatfirstaid.ca
SUMMARY:Transportation Endorsement - Chetwynd
DESCRIPTION:
URL:https://up-beatfirstaid.ca/event/transportation-endorsement-chetwynd-6/
LOCATION:Up-Beat First Aid Chetwynd\, 4717 – 51 St\, Chetwynd\, British Columbia\, V0C 1J0\, Canada
CATEGORIES:Transportation Endorsement (TE)
ORGANIZER;CN="Up-Beat First Aid & Safety Training":MAILTO:up-beat@live.ca
END:VEVENT
BEGIN:VEVENT
DTSTART;TZID=America/Dawson_Creek:20250411T091500
DTEND;TZID=America/Dawson_Creek:20250411T170000
DTSTAMP:20260421T105358
CREATED:20250313T235548Z
LAST-MODIFIED:20250313T235548Z
UID:10783-1744362900-1744390800@up-beatfirstaid.ca
SUMMARY:Transportation Endorsement - Dawson Creek
DESCRIPTION:
URL:https://up-beatfirstaid.ca/event/transportation-endorsement-dawson-creek-20/
LOCATION:Up-Beat First Aid Dawson Creek NEW\, 11000 8th Street\, Dawson Creek\, British Columbia\, V1G 4K6\, Canada
CATEGORIES:Transportation Endorsement (TE)
ORGANIZER;CN="Up-Beat First Aid & Safety Training":MAILTO:up-beat@live.ca
END:VEVENT
BEGIN:VEVENT
DTSTART;TZID=America/Dawson_Creek:20250404T091500
DTEND;TZID=America/Dawson_Creek:20250404T170000
DTSTAMP:20260421T105358
CREATED:20250313T234132Z
LAST-MODIFIED:20250313T234132Z
UID:10770-1743758100-1743786000@up-beatfirstaid.ca
SUMMARY:Transportation Endorsement - Dawson Creek
DESCRIPTION:
URL:https://up-beatfirstaid.ca/event/transportation-endorsement-dawson-creek-16/
LOCATION:Up-Beat First Aid Dawson Creek NEW\, 11000 8th Street\, Dawson Creek\, British Columbia\, V1G 4K6\, Canada
CATEGORIES:Transportation Endorsement (TE)
ORGANIZER;CN="Up-Beat First Aid & Safety Training":MAILTO:up-beat@live.ca
END:VEVENT
BEGIN:VEVENT
DTSTART;TZID=America/Dawson_Creek:20250326T091500
DTEND;TZID=America/Dawson_Creek:20250326T170000
DTSTAMP:20260421T105358
CREATED:20250214T225509Z
LAST-MODIFIED:20250314T201031Z
UID:10688-1742980500-1743008400@up-beatfirstaid.ca
SUMMARY:Transportation Endorsement - Dawson Creek
DESCRIPTION:
URL:https://up-beatfirstaid.ca/event/transportation-endorsement-dawson-creek-19/
LOCATION:Up-Beat First Aid Dawson Creek NEW\, 11000 8th Street\, Dawson Creek\, British Columbia\, V1G 4K6\, Canada
CATEGORIES:Transportation Endorsement (TE)
ORGANIZER;CN="Up-Beat First Aid & Safety Training":MAILTO:up-beat@live.ca
END:VEVENT
BEGIN:VEVENT
DTSTART;TZID=America/Dawson_Creek:20250320T091500
DTEND;TZID=America/Dawson_Creek:20250320T170000
DTSTAMP:20260421T105358
CREATED:20250214T224504Z
LAST-MODIFIED:20250314T200530Z
UID:10671-1742462100-1742490000@up-beatfirstaid.ca
SUMMARY:Transportation Endorsement - Dawson Creek
DESCRIPTION:
URL:https://up-beatfirstaid.ca/event/transportation-endorsement-marchdawson-creek/
LOCATION:Up-Beat First Aid Dawson Creek NEW\, 11000 8th Street\, Dawson Creek\, British Columbia\, V1G 4K6\, Canada
CATEGORIES:Transportation Endorsement (TE)
END:VEVENT
BEGIN:VEVENT
DTSTART;TZID=America/Dawson_Creek:20250314T091500
DTEND;TZID=America/Dawson_Creek:20250314T170000
DTSTAMP:20260421T105358
CREATED:20250214T225206Z
LAST-MODIFIED:20250214T225206Z
UID:10678-1741943700-1741971600@up-beatfirstaid.ca
SUMMARY:Transportation Endorsement - Dawson Creek
DESCRIPTION:
URL:https://up-beatfirstaid.ca/event/transportation-endorsement-dawson-creek-17/
LOCATION:Up-Beat First Aid Dawson Creek NEW\, 11000 8th Street\, Dawson Creek\, British Columbia\, V1G 4K6\, Canada
CATEGORIES:Transportation Endorsement (TE)
ORGANIZER;CN="Up-Beat First Aid & Safety Training":MAILTO:up-beat@live.ca
END:VEVENT
BEGIN:VEVENT
DTSTART;TZID=America/Dawson_Creek:20250214T091500
DTEND;TZID=America/Dawson_Creek:20250214T170000
DTSTAMP:20260421T105358
CREATED:20250117T233805Z
LAST-MODIFIED:20250117T233805Z
UID:10554-1739524500-1739552400@up-beatfirstaid.ca
SUMMARY:Transportation Endorsement
DESCRIPTION:
URL:https://up-beatfirstaid.ca/event/transportation-endorsement-18/
LOCATION:Up-Beat First Aid Dawson Creek NEW\, 11000 8th Street\, Dawson Creek\, British Columbia\, V1G 4K6\, Canada
CATEGORIES:Transportation Endorsement (TE)
ORGANIZER;CN="Up-Beat First Aid & Safety Training":MAILTO:up-beat@live.ca
END:VEVENT
BEGIN:VEVENT
DTSTART;TZID=America/Dawson_Creek:20250207T091500
DTEND;TZID=America/Dawson_Creek:20250207T170000
DTSTAMP:20260421T105358
CREATED:20250117T223737Z
LAST-MODIFIED:20250213T150349Z
UID:10541-1738919700-1738947600@up-beatfirstaid.ca
SUMMARY:Transportation Endorsement
DESCRIPTION:
URL:https://up-beatfirstaid.ca/event/transportation-endorsement-16/
LOCATION:Up-Beat First Aid Dawson Creek NEW\, 11000 8th Street\, Dawson Creek\, British Columbia\, V1G 4K6\, Canada
CATEGORIES:Transportation Endorsement (TE)
ORGANIZER;CN="Up-Beat First Aid & Safety Training":MAILTO:up-beat@live.ca
END:VEVENT
BEGIN:VEVENT
DTSTART;TZID=America/Dawson_Creek:20250116T091500
DTEND;TZID=America/Dawson_Creek:20250116T160000
DTSTAMP:20260421T105358
CREATED:20241210T220850Z
LAST-MODIFIED:20241227T152711Z
UID:10417-1737018900-1737043200@up-beatfirstaid.ca
SUMMARY:Transportation Endorsement
DESCRIPTION:
URL:https://up-beatfirstaid.ca/event/transportation-endorsement-13/
LOCATION:Up-Beat First Aid Dawson Creek NEW\, 11000 8th Street\, Dawson Creek\, British Columbia\, V1G 4K6\, Canada
CATEGORIES:Transportation Endorsement (TE)
ORGANIZER;CN="Up-Beat First Aid & Safety Training":MAILTO:up-beat@live.ca
END:VEVENT
BEGIN:VEVENT
DTSTART;TZID=America/Dawson_Creek:20250115T091500
DTEND;TZID=America/Dawson_Creek:20250115T163000
DTSTAMP:20260421T105358
CREATED:20241227T153237Z
LAST-MODIFIED:20241227T153237Z
UID:10452-1736932500-1736958600@up-beatfirstaid.ca
SUMMARY:Transportation Endorsement
DESCRIPTION:
URL:https://up-beatfirstaid.ca/event/transportation-endorsement-17/
LOCATION:Up-Beat First Aid Dawson Creek NEW\, 11000 8th Street\, Dawson Creek\, British Columbia\, V1G 4K6\, Canada
CATEGORIES:Transportation Endorsement (TE)
ORGANIZER;CN="Up-Beat First Aid & Safety Training":MAILTO:up-beat@live.ca
END:VEVENT
BEGIN:VEVENT
DTSTART;TZID=America/Dawson_Creek:20250103T091500
DTEND;TZID=America/Dawson_Creek:20250103T163000
DTSTAMP:20260421T105358
CREATED:20241112T224142Z
LAST-MODIFIED:20241227T155505Z
UID:10375-1735895700-1735921800@up-beatfirstaid.ca
SUMMARY:Transportation Endorsement
DESCRIPTION:
URL:https://up-beatfirstaid.ca/event/transportation-endorsement-12-2025-01-17/
LOCATION:Up-Beat First Aid Dawson Creek NEW\, 11000 8th Street\, Dawson Creek\, British Columbia\, V1G 4K6\, Canada
CATEGORIES:Transportation Endorsement (TE)
ORGANIZER;CN="Up-Beat First Aid & Safety Training":MAILTO:up-beat@live.ca
END:VEVENT
BEGIN:VEVENT
DTSTART;TZID=America/Dawson_Creek:20241129T091500
DTEND;TZID=America/Dawson_Creek:20241129T160000
DTSTAMP:20260421T105358
CREATED:20241029T155007Z
LAST-MODIFIED:20241029T155007Z
UID:10224-1732871700-1732896000@up-beatfirstaid.ca
SUMMARY:Transportation Endorsement
DESCRIPTION:
URL:https://up-beatfirstaid.ca/event/transportation-endorsement-9/
LOCATION:Up-Beat First Aid Dawson Creek NEW\, 11000 8th Street\, Dawson Creek\, British Columbia\, V1G 4K6\, Canada
CATEGORIES:Transportation Endorsement (TE)
ORGANIZER;CN="Up-Beat First Aid & Safety Training":MAILTO:up-beat@live.ca
END:VEVENT
BEGIN:VEVENT
DTSTART;TZID=America/Dawson_Creek:20241122T091500
DTEND;TZID=America/Dawson_Creek:20241122T170000
DTSTAMP:20260421T105358
CREATED:20241029T154914Z
LAST-MODIFIED:20241029T154914Z
UID:10222-1732266900-1732294800@up-beatfirstaid.ca
SUMMARY:Transportation Endorsement
DESCRIPTION:
URL:https://up-beatfirstaid.ca/event/transportation-endorsement-8/
LOCATION:Up-Beat First Aid Dawson Creek NEW\, 11000 8th Street\, Dawson Creek\, British Columbia\, V1G 4K6\, Canada
CATEGORIES:Transportation Endorsement (TE)
ORGANIZER;CN="Up-Beat First Aid & Safety Training":MAILTO:up-beat@live.ca
END:VEVENT
BEGIN:VEVENT
DTSTART;TZID=America/Dawson_Creek:20241115T091500
DTEND;TZID=America/Dawson_Creek:20241115T160000
DTSTAMP:20260421T105358
CREATED:20241029T154756Z
LAST-MODIFIED:20241029T154756Z
UID:10220-1731662100-1731686400@up-beatfirstaid.ca
SUMMARY:Transportation Endorsement
DESCRIPTION:
URL:https://up-beatfirstaid.ca/event/transportation-endorsement-7/
LOCATION:Up-Beat First Aid Dawson Creek NEW\, 11000 8th Street\, Dawson Creek\, British Columbia\, V1G 4K6\, Canada
CATEGORIES:Transportation Endorsement (TE)
ORGANIZER;CN="Up-Beat First Aid & Safety Training":MAILTO:up-beat@live.ca
END:VEVENT
BEGIN:VEVENT
DTSTART;TZID=America/Dawson_Creek:20241109T091500
DTEND;TZID=America/Dawson_Creek:20241109T160000
DTSTAMP:20260421T105358
CREATED:20241105T201641Z
LAST-MODIFIED:20241105T201641Z
UID:10241-1731143700-1731168000@up-beatfirstaid.ca
SUMMARY:Transportation Endorsement
DESCRIPTION:
URL:https://up-beatfirstaid.ca/event/transportation-endorsement-10/
LOCATION:Up-Beat First Aid Dawson Creek NEW\, 11000 8th Street\, Dawson Creek\, British Columbia\, V1G 4K6\, Canada
CATEGORIES:Transportation Endorsement (TE)
ORGANIZER;CN="Up-Beat First Aid & Safety Training":MAILTO:up-beat@live.ca
END:VEVENT
BEGIN:VEVENT
DTSTART;TZID=America/Dawson_Creek:20241108T091500
DTEND;TZID=America/Dawson_Creek:20241108T160000
DTSTAMP:20260421T105358
CREATED:20241029T154446Z
LAST-MODIFIED:20241029T154454Z
UID:10217-1731057300-1731081600@up-beatfirstaid.ca
SUMMARY:Transportation Endorsement
DESCRIPTION:
URL:https://up-beatfirstaid.ca/event/transportation-endorsment/
LOCATION:Up-Beat First Aid Dawson Creek NEW\, 11000 8th Street\, Dawson Creek\, British Columbia\, V1G 4K6\, Canada
CATEGORIES:Transportation Endorsement (TE)
ORGANIZER;CN="Up-Beat First Aid & Safety Training":MAILTO:up-beat@live.ca
END:VEVENT
BEGIN:VEVENT
DTSTART;TZID=America/Dawson_Creek:20241101T091500
DTEND;TZID=America/Dawson_Creek:20241101T160000
DTSTAMP:20260421T105358
CREATED:20241029T154318Z
LAST-MODIFIED:20241029T154318Z
UID:10215-1730452500-1730476800@up-beatfirstaid.ca
SUMMARY:Transportation Endorsement
DESCRIPTION:
URL:https://up-beatfirstaid.ca/event/transportation-endorsement-6/
LOCATION:Up-Beat First Aid Dawson Creek NEW\, 11000 8th Street\, Dawson Creek\, British Columbia\, V1G 4K6\, Canada
CATEGORIES:Transportation Endorsement (TE)
ORGANIZER;CN="Up-Beat First Aid & Safety Training":MAILTO:up-beat@live.ca
END:VEVENT
END:VCALENDAR