BEGIN:VCALENDAR
VERSION:2.0
PRODID:-//Up-Beat First Aid &amp; Safety Training Ltd. - ECPv6.15.20//NONSGML v1.0//EN
CALSCALE:GREGORIAN
METHOD:PUBLISH
X-ORIGINAL-URL:https://up-beatfirstaid.ca
X-WR-CALDESC:Events for Up-Beat First Aid &amp; Safety Training Ltd.
REFRESH-INTERVAL;VALUE=DURATION:PT1H
X-Robots-Tag:noindex
X-PUBLISHED-TTL:PT1H
BEGIN:VTIMEZONE
TZID:America/Dawson_Creek
BEGIN:STANDARD
TZOFFSETFROM:-0700
TZOFFSETTO:-0700
TZNAME:MST
DTSTART:20190101T000000
END:STANDARD
END:VTIMEZONE
BEGIN:VEVENT
DTSTART;TZID=America/Dawson_Creek:20241018T080000
DTEND;TZID=America/Dawson_Creek:20241018T160000
DTSTAMP:20260421T151807
CREATED:20230417T215554Z
LAST-MODIFIED:20241007T224129Z
UID:7863-1729238400-1729267200@up-beatfirstaid.ca
SUMMARY:Transportation Endorsement   Dawson Creek
DESCRIPTION:Course Pre-requisite is Level 1 First Aid
URL:https://up-beatfirstaid.ca/event/transportation-endorsement-dawson-creek-14/
LOCATION:British Columbia
CATEGORIES:Transportation Endorsement (TE)
END:VEVENT
BEGIN:VEVENT
DTSTART;TZID=America/Dawson_Creek:20240418T091500
DTEND;TZID=America/Dawson_Creek:20240418T170000
DTSTAMP:20260421T151807
CREATED:20240314T213709Z
LAST-MODIFIED:20240418T155450Z
UID:9444-1713431700-1713459600@up-beatfirstaid.ca
SUMMARY:Transportation Endorsement
DESCRIPTION:
URL:https://up-beatfirstaid.ca/event/transportation-endorsement-5/
LOCATION:Up-Beat First Aid Dawson Creek NEW\, 11000 8th Street\, Dawson Creek\, British Columbia\, V1G 4K6\, Canada
CATEGORIES:Transportation Endorsement (TE)
ORGANIZER;CN="Up-Beat First Aid & Safety Training":MAILTO:up-beat@live.ca
END:VEVENT
BEGIN:VEVENT
DTSTART;TZID=America/Dawson_Creek:20231207T090000
DTEND;TZID=America/Dawson_Creek:20231207T170000
DTSTAMP:20260421T151807
CREATED:20231103T223611Z
LAST-MODIFIED:20231205T173620Z
UID:8825-1701939600-1701968400@up-beatfirstaid.ca
SUMMARY:Transportation Endorsement - Dawson Creek
DESCRIPTION:Pre-requisite : Level 1 First Aid
URL:https://up-beatfirstaid.ca/event/transportation-endorsement-dawson-creek-13/
LOCATION:Up-Beat First Aid Dawson Creek NEW\, 11000 8th Street\, Dawson Creek\, British Columbia\, V1G 4K6\, Canada
CATEGORIES:Transportation Endorsement (TE)
ORGANIZER;CN="Up-Beat First Aid & Safety Training":MAILTO:up-beat@live.ca
END:VEVENT
BEGIN:VEVENT
DTSTART;TZID=America/Dawson_Creek:20231102T090000
DTEND;TZID=America/Dawson_Creek:20231102T170000
DTSTAMP:20260421T151807
CREATED:20231016T160410Z
LAST-MODIFIED:20231026T221837Z
UID:8753-1698915600-1698944400@up-beatfirstaid.ca
SUMMARY:Transportation Endorsement - Dawson Creek
DESCRIPTION:Pre-requisite : Level 1 First Aid
URL:https://up-beatfirstaid.ca/event/transportation-endorsement-dawson-creek-12/
LOCATION:Up-Beat First Aid Dawson Creek NEW\, 11000 8th Street\, Dawson Creek\, British Columbia\, V1G 4K6\, Canada
CATEGORIES:Transportation Endorsement (TE)
ORGANIZER;CN="Up-Beat First Aid & Safety Training":MAILTO:up-beat@live.ca
END:VEVENT
BEGIN:VEVENT
DTSTART;TZID=America/Dawson_Creek:20230601T083000
DTEND;TZID=America/Dawson_Creek:20230601T170000
DTSTAMP:20260421T151807
CREATED:20230503T194711Z
LAST-MODIFIED:20230503T195220Z
UID:7907-1685608200-1685638800@up-beatfirstaid.ca
SUMMARY:Transportation Endorsement
DESCRIPTION:Note: Student must have a valid Level 1 First Aid to register to this course.
URL:https://up-beatfirstaid.ca/event/transportation-endorsement-4/
LOCATION:Up-Beat First Aid Dawson Creek NEW\, 11000 8th Street\, Dawson Creek\, British Columbia\, V1G 4K6\, Canada
CATEGORIES:Transportation Endorsement (TE)
ORGANIZER;CN="Up-Beat First Aid & Safety Training":MAILTO:up-beat@live.ca
END:VEVENT
BEGIN:VEVENT
DTSTART;TZID=America/Dawson_Creek:20221006T083000
DTEND;TZID=America/Dawson_Creek:20221006T170000
DTSTAMP:20260421T151807
CREATED:20221006T193620Z
LAST-MODIFIED:20221006T193620Z
UID:7208-1665045000-1665075600@up-beatfirstaid.ca
SUMMARY:Transportation Endorsement
DESCRIPTION:
URL:https://up-beatfirstaid.ca/event/transportation-endorsement-3/
LOCATION:Up-Beat First Aid Dawson Creek NEW\, 11000 8th Street\, Dawson Creek\, British Columbia\, V1G 4K6\, Canada
CATEGORIES:Transportation Endorsement (TE)
ORGANIZER;CN="Up-Beat First Aid & Safety Training":MAILTO:up-beat@live.ca
END:VEVENT
BEGIN:VEVENT
DTSTART;TZID=America/Dawson_Creek:20220916T083000
DTEND;TZID=America/Dawson_Creek:20220916T170000
DTSTAMP:20260421T151807
CREATED:20220720T214426Z
LAST-MODIFIED:20220909T181627Z
UID:6704-1663317000-1663347600@up-beatfirstaid.ca
SUMMARY:Transportation Endorsement (Dawson Creek)
DESCRIPTION:
URL:https://up-beatfirstaid.ca/event/transportation-endorsement-2/
LOCATION:Up-Beat First Aid Dawson Creek NEW\, 11000 8th Street\, Dawson Creek\, British Columbia\, V1G 4K6\, Canada
CATEGORIES:Transportation Endorsement (TE)
ORGANIZER;CN="Up-Beat First Aid & Safety Training":MAILTO:up-beat@live.ca
END:VEVENT
BEGIN:VEVENT
DTSTART;TZID=America/Dawson_Creek:20220519T083000
DTEND;TZID=America/Dawson_Creek:20220519T163000
DTSTAMP:20260421T151807
CREATED:20220329T211248Z
LAST-MODIFIED:20220519T161851Z
UID:6063-1652949000-1652977800@up-beatfirstaid.ca
SUMMARY:Transportation Endorsement - Dawson Creek
DESCRIPTION:
URL:https://up-beatfirstaid.ca/event/transportation-endorsement-dawson-creek-11/
LOCATION:Up-Beat First Aid Dawson Creek NEW\, 11000 8th Street\, Dawson Creek\, British Columbia\, V1G 4K6\, Canada
CATEGORIES:Transportation Endorsement (TE)
ORGANIZER;CN="Up-Beat First Aid & Safety Training":MAILTO:up-beat@live.ca
END:VEVENT
BEGIN:VEVENT
DTSTART;TZID=America/Dawson_Creek:20220406T093000
DTEND;TZID=America/Dawson_Creek:20220406T170000
DTSTAMP:20260421T151807
CREATED:20220308T212839Z
LAST-MODIFIED:20220308T213117Z
UID:5665-1649237400-1649264400@up-beatfirstaid.ca
SUMMARY:Transportation Endorsement - Dawson Creek
DESCRIPTION:
URL:https://up-beatfirstaid.ca/event/transportation-endorsement-dawson-creek-10/
LOCATION:Up-Beat First Aid Dawson Creek NEW\, 11000 8th Street\, Dawson Creek\, British Columbia\, V1G 4K6\, Canada
CATEGORIES:Transportation Endorsement (TE)
ORGANIZER;CN="Up-Beat First Aid & Safety Training":MAILTO:up-beat@live.ca
END:VEVENT
BEGIN:VEVENT
DTSTART;TZID=America/Dawson_Creek:20220106T093000
DTEND;TZID=America/Dawson_Creek:20220106T093000
DTSTAMP:20260421T151807
CREATED:20211124T205419Z
LAST-MODIFIED:20211124T205419Z
UID:3979-1641461400-1641461400@up-beatfirstaid.ca
SUMMARY:Transportation Endorsement - Dawson Creek
DESCRIPTION:
URL:https://up-beatfirstaid.ca/event/transportation-endorsement-dawson-creek-9/
LOCATION:Up-Beat First Aid Dawson Creek NEW\, 11000 8th Street\, Dawson Creek\, British Columbia\, V1G 4K6\, Canada
CATEGORIES:Transportation Endorsement (TE)
ORGANIZER;CN="Up-Beat First Aid & Safety Training":MAILTO:up-beat@live.ca
END:VEVENT
BEGIN:VEVENT
DTSTART;TZID=America/Dawson_Creek:20210930T093000
DTEND;TZID=America/Dawson_Creek:20210930T093000
DTSTAMP:20260421T151807
CREATED:20210819T222749Z
LAST-MODIFIED:20210819T222749Z
UID:3508-1632994200-1632994200@up-beatfirstaid.ca
SUMMARY:Transportation Endorsement - Dawson Creek
DESCRIPTION:
URL:https://up-beatfirstaid.ca/event/transportation-endorsement-dawson-creek-7/
LOCATION:Up-Beat First Aid Dawson Creek NEW\, 11000 8th Street\, Dawson Creek\, British Columbia\, V1G 4K6\, Canada
CATEGORIES:Transportation Endorsement (TE)
ORGANIZER;CN="Up-Beat First Aid & Safety Training":MAILTO:up-beat@live.ca
END:VEVENT
BEGIN:VEVENT
DTSTART;TZID=America/Dawson_Creek:20210714T091500
DTEND;TZID=America/Dawson_Creek:20210714T091500
DTSTAMP:20260421T151807
CREATED:20210603T195014Z
LAST-MODIFIED:20210712T170910Z
UID:3156-1626254100-1626254100@up-beatfirstaid.ca
SUMMARY:Transportation Endorsement - Dawson Creek
DESCRIPTION:
URL:https://up-beatfirstaid.ca/event/transportation-endorsement-dawson-creek-6/
LOCATION:Up-Beat First Aid Dawson Creek NEW\, 11000 8th Street\, Dawson Creek\, British Columbia\, V1G 4K6\, Canada
CATEGORIES:Transportation Endorsement (TE)
ORGANIZER;CN="Up-Beat First Aid & Safety Training":MAILTO:up-beat@live.ca
END:VEVENT
BEGIN:VEVENT
DTSTART;TZID=America/Dawson_Creek:20210614T091500
DTEND;TZID=America/Dawson_Creek:20210614T091500
DTSTAMP:20260421T151807
CREATED:20210423T183522Z
LAST-MODIFIED:20210423T183522Z
UID:3036-1623662100-1623662100@up-beatfirstaid.ca
SUMMARY:Transportation Endorsement - Dawson Creek
DESCRIPTION:
URL:https://up-beatfirstaid.ca/event/transportation-endorsement-dawson-creek-4/
LOCATION:Up-Beat First Aid Dawson Creek NEW\, 11000 8th Street\, Dawson Creek\, British Columbia\, V1G 4K6\, Canada
CATEGORIES:Transportation Endorsement (TE)
ORGANIZER;CN="Up-Beat First Aid & Safety Training":MAILTO:up-beat@live.ca
END:VEVENT
BEGIN:VEVENT
DTSTART;TZID=America/Dawson_Creek:20210517T083000
DTEND;TZID=America/Dawson_Creek:20210517T083000
DTSTAMP:20260421T151807
CREATED:20210323T203728Z
LAST-MODIFIED:20210323T203728Z
UID:2902-1621240200-1621240200@up-beatfirstaid.ca
SUMMARY:Transportation Endorsement - Chetwynd
DESCRIPTION:
URL:https://up-beatfirstaid.ca/event/transportation-endorsement-chetwynd-5/
LOCATION:Up-Beat First Aid Chetwynd\, 4717 – 51 St\, Chetwynd\, British Columbia\, V0C 1J0\, Canada
CATEGORIES:Transportation Endorsement (TE)
ORGANIZER;CN="Up-Beat First Aid & Safety Training":MAILTO:up-beat@live.ca
END:VEVENT
BEGIN:VEVENT
DTSTART;TZID=America/Dawson_Creek:20210501T091500
DTEND;TZID=America/Dawson_Creek:20210501T170000
DTSTAMP:20260421T151807
CREATED:20210415T204318Z
LAST-MODIFIED:20210415T204318Z
UID:2962-1619860500-1619888400@up-beatfirstaid.ca
SUMMARY:Transportation Endorsement - Dawson Creek
DESCRIPTION:
URL:https://up-beatfirstaid.ca/event/transportation-endorsement-dawson-creek-5/
LOCATION:Up-Beat First Aid Dawson Creek NEW\, 11000 8th Street\, Dawson Creek\, British Columbia\, V1G 4K6\, Canada
CATEGORIES:Transportation Endorsement (TE)
ORGANIZER;CN="Up-Beat First Aid & Safety Training":MAILTO:up-beat@live.ca
END:VEVENT
BEGIN:VEVENT
DTSTART;TZID=America/Dawson_Creek:20210412T083000
DTEND;TZID=America/Dawson_Creek:20210412T170000
DTSTAMP:20260421T151807
CREATED:20210226T235436Z
LAST-MODIFIED:20210226T235436Z
UID:2817-1618216200-1618246800@up-beatfirstaid.ca
SUMMARY:Transportation Endorsement - Chetwynd
DESCRIPTION:
URL:https://up-beatfirstaid.ca/event/transportation-endorsement-chetwynd-4/
LOCATION:Up-Beat First Aid Chetwynd\, 4717 – 51 St\, Chetwynd\, British Columbia\, V0C 1J0\, Canada
CATEGORIES:Transportation Endorsement (TE)
ORGANIZER;CN="Up-Beat First Aid & Safety Training":MAILTO:up-beat@live.ca
END:VEVENT
BEGIN:VEVENT
DTSTART;TZID=America/Dawson_Creek:20210407T091500
DTEND;TZID=America/Dawson_Creek:20210407T170000
DTSTAMP:20260421T151807
CREATED:20210226T235240Z
LAST-MODIFIED:20210226T235240Z
UID:2814-1617786900-1617814800@up-beatfirstaid.ca
SUMMARY:Transportation Endorsement - Dawson Creek
DESCRIPTION:
URL:https://up-beatfirstaid.ca/event/transportation-endorsement-dawson-creek-3/
LOCATION:Up-Beat First Aid Dawson Creek NEW\, 11000 8th Street\, Dawson Creek\, British Columbia\, V1G 4K6\, Canada
CATEGORIES:Transportation Endorsement (TE)
ORGANIZER;CN="Up-Beat First Aid & Safety Training":MAILTO:up-beat@live.ca
END:VEVENT
BEGIN:VEVENT
DTSTART;TZID=America/Dawson_Creek:20210318T080000
DTEND;TZID=America/Dawson_Creek:20210318T170000
DTSTAMP:20260421T151807
CREATED:20210210T230645Z
LAST-MODIFIED:20210210T230645Z
UID:2719-1616054400-1616086800@up-beatfirstaid.ca
SUMMARY:Transportation Endorsement - Chewtynd
DESCRIPTION:
URL:https://up-beatfirstaid.ca/event/transportation-endorsement-chewtynd/
LOCATION:Up-Beat First Aid Chetwynd\, 4717 – 51 St\, Chetwynd\, British Columbia\, V0C 1J0\, Canada
CATEGORIES:Transportation Endorsement (TE)
ORGANIZER;CN="Up-Beat First Aid & Safety Training":MAILTO:up-beat@live.ca
END:VEVENT
BEGIN:VEVENT
DTSTART;TZID=America/Dawson_Creek:20210315T091500
DTEND;TZID=America/Dawson_Creek:20210315T170000
DTSTAMP:20260421T151807
CREATED:20210204T221219Z
LAST-MODIFIED:20210204T221219Z
UID:2707-1615799700-1615827600@up-beatfirstaid.ca
SUMMARY:Transportation Endorsement - Dawson Creek
DESCRIPTION:
URL:https://up-beatfirstaid.ca/event/transportation-endorsement-dawson-creek-2/
LOCATION:Up-Beat First Aid Dawson Creek NEW\, 11000 8th Street\, Dawson Creek\, British Columbia\, V1G 4K6\, Canada
CATEGORIES:Transportation Endorsement (TE)
ORGANIZER;CN="Up-Beat First Aid & Safety Training":MAILTO:up-beat@live.ca
END:VEVENT
BEGIN:VEVENT
DTSTART;TZID=America/Dawson_Creek:20200909T080000
DTEND;TZID=America/Dawson_Creek:20200909T170000
DTSTAMP:20260421T151807
CREATED:20200828T050103Z
LAST-MODIFIED:20200828T050103Z
UID:2124-1599638400-1599670800@up-beatfirstaid.ca
SUMMARY:Transportation Endorsement Chetwynd
DESCRIPTION:
URL:https://up-beatfirstaid.ca/event/transportation-endorsement-chetwynd-3/
LOCATION:British Columbia\, Canada
CATEGORIES:Transportation Endorsement (TE)
ORGANIZER;CN="Up-Beat First Aid & Safety Training":MAILTO:up-beat@live.ca
END:VEVENT
BEGIN:VEVENT
DTSTART;TZID=America/Dawson_Creek:20200717T080000
DTEND;TZID=America/Dawson_Creek:20200717T170000
DTSTAMP:20260421T151807
CREATED:20200713T174555Z
LAST-MODIFIED:20200713T174555Z
UID:1962-1594972800-1595005200@up-beatfirstaid.ca
SUMMARY:Transportation Endorsement Chetwynd
DESCRIPTION:
URL:https://up-beatfirstaid.ca/event/transportation-endorsement-chetwynd-2/
LOCATION:Up-Beat First Aid Chetwynd\, 4717 – 51 St\, Chetwynd\, British Columbia\, V0C 1J0\, Canada
CATEGORIES:Transportation Endorsement (TE)
ORGANIZER;CN="Up-Beat First Aid & Safety Training":MAILTO:up-beat@live.ca
END:VEVENT
BEGIN:VEVENT
DTSTART;TZID=America/Dawson_Creek:20200710T080000
DTEND;TZID=America/Dawson_Creek:20200710T160000
DTSTAMP:20260421T151807
CREATED:20200703T052934Z
LAST-MODIFIED:20200703T055014Z
UID:1835-1594368000-1594396800@up-beatfirstaid.ca
SUMMARY:Transportation Endorsement Chetwynd
DESCRIPTION:
URL:https://up-beatfirstaid.ca/event/transportation-endorsement/
LOCATION:Up-Beat First Aid Chetwynd\, 4717 – 51 St\, Chetwynd\, British Columbia\, V0C 1J0\, Canada
CATEGORIES:Transportation Endorsement (TE)
ORGANIZER;CN="Up-Beat First Aid & Safety Training":MAILTO:up-beat@live.ca
END:VEVENT
BEGIN:VEVENT
DTSTART;TZID=America/Dawson_Creek:20200609T083000
DTEND;TZID=America/Dawson_Creek:20200609T170000
DTSTAMP:20260421T151807
CREATED:20200604T034135Z
LAST-MODIFIED:20200604T034135Z
UID:1744-1591691400-1591722000@up-beatfirstaid.ca
SUMMARY:Transportation Endorsement Chetwynd
DESCRIPTION:
URL:https://up-beatfirstaid.ca/event/transportation-endorsement-chetwynd/
LOCATION:Up-Beat First Aid Chetwynd\, 4717 – 51 St\, Chetwynd\, British Columbia\, V0C 1J0\, Canada
CATEGORIES:Transportation Endorsement (TE)
ORGANIZER;CN="Up-Beat First Aid & Safety Training":MAILTO:up-beat@live.ca
END:VEVENT
BEGIN:VEVENT
DTSTART;TZID=America/Dawson_Creek:20200130T080000
DTEND;TZID=America/Dawson_Creek:20200130T170000
DTSTAMP:20260421T151807
CREATED:20200113T180643Z
LAST-MODIFIED:20200131T221555Z
UID:521-1580371200-1580403600@up-beatfirstaid.ca
SUMMARY:Transportation Endorsement (Dawson Creek)
DESCRIPTION:UFA&ST Transportation Endorsement Course Description
URL:https://up-beatfirstaid.ca/event/transportation-endorsement-dawson-creek-2020-01-30/
LOCATION:British Columbia\, Canada
CATEGORIES:Transportation Endorsement (TE)
ORGANIZER;CN="Up-Beat First Aid & Safety Training":MAILTO:up-beat@live.ca
END:VEVENT
BEGIN:VEVENT
DTSTART;TZID=America/Dawson_Creek:20200123T080000
DTEND;TZID=America/Dawson_Creek:20200123T170000
DTSTAMP:20260421T151807
CREATED:20200113T180643Z
LAST-MODIFIED:20200131T221946Z
UID:519-1579766400-1579798800@up-beatfirstaid.ca
SUMMARY:Transportation Endorsement (Dawson Creek)
DESCRIPTION:UFA&ST Transportation Endorsement Course Description
URL:https://up-beatfirstaid.ca/event/transportation-endorsement-dawson-creek/
LOCATION:British Columbia\, Canada
CATEGORIES:Transportation Endorsement (TE)
ORGANIZER;CN="Up-Beat First Aid & Safety Training":MAILTO:up-beat@live.ca
END:VEVENT
END:VCALENDAR