BEGIN:VCALENDAR
VERSION:2.0
PRODID:-//Up-Beat First Aid &amp; Safety Training Ltd. - ECPv6.15.20//NONSGML v1.0//EN
CALSCALE:GREGORIAN
METHOD:PUBLISH
X-WR-CALNAME:Up-Beat First Aid &amp; Safety Training Ltd.
X-ORIGINAL-URL:https://up-beatfirstaid.ca
X-WR-CALDESC:Events for Up-Beat First Aid &amp; Safety Training Ltd.
REFRESH-INTERVAL;VALUE=DURATION:PT1H
X-Robots-Tag:noindex
X-PUBLISHED-TTL:PT1H
BEGIN:VTIMEZONE
TZID:America/Dawson_Creek
BEGIN:STANDARD
TZOFFSETFROM:-0700
TZOFFSETTO:-0700
TZNAME:MST
DTSTART:20190101T000000
END:STANDARD
END:VTIMEZONE
BEGIN:VEVENT
DTSTART;TZID=America/Dawson_Creek:20200717T080000
DTEND;TZID=America/Dawson_Creek:20200717T170000
DTSTAMP:20260421T194603
CREATED:20200713T174555Z
LAST-MODIFIED:20200713T174555Z
UID:1962-1594972800-1595005200@up-beatfirstaid.ca
SUMMARY:Transportation Endorsement Chetwynd
DESCRIPTION:
URL:https://up-beatfirstaid.ca/event/transportation-endorsement-chetwynd-2/
LOCATION:Up-Beat First Aid Chetwynd\, 4717 – 51 St\, Chetwynd\, British Columbia\, V0C 1J0\, Canada
CATEGORIES:Transportation Endorsement (TE)
ORGANIZER;CN="Up-Beat First Aid & Safety Training":MAILTO:up-beat@live.ca
END:VEVENT
BEGIN:VEVENT
DTSTART;TZID=America/Dawson_Creek:20200710T080000
DTEND;TZID=America/Dawson_Creek:20200710T160000
DTSTAMP:20260421T194603
CREATED:20200703T052934Z
LAST-MODIFIED:20200703T055014Z
UID:1835-1594368000-1594396800@up-beatfirstaid.ca
SUMMARY:Transportation Endorsement Chetwynd
DESCRIPTION:
URL:https://up-beatfirstaid.ca/event/transportation-endorsement/
LOCATION:Up-Beat First Aid Chetwynd\, 4717 – 51 St\, Chetwynd\, British Columbia\, V0C 1J0\, Canada
CATEGORIES:Transportation Endorsement (TE)
ORGANIZER;CN="Up-Beat First Aid & Safety Training":MAILTO:up-beat@live.ca
END:VEVENT
BEGIN:VEVENT
DTSTART;TZID=America/Dawson_Creek:20200609T083000
DTEND;TZID=America/Dawson_Creek:20200609T170000
DTSTAMP:20260421T194603
CREATED:20200604T034135Z
LAST-MODIFIED:20200604T034135Z
UID:1744-1591691400-1591722000@up-beatfirstaid.ca
SUMMARY:Transportation Endorsement Chetwynd
DESCRIPTION:
URL:https://up-beatfirstaid.ca/event/transportation-endorsement-chetwynd/
LOCATION:Up-Beat First Aid Chetwynd\, 4717 – 51 St\, Chetwynd\, British Columbia\, V0C 1J0\, Canada
CATEGORIES:Transportation Endorsement (TE)
ORGANIZER;CN="Up-Beat First Aid & Safety Training":MAILTO:up-beat@live.ca
END:VEVENT
BEGIN:VEVENT
DTSTART;TZID=America/Dawson_Creek:20200130T080000
DTEND;TZID=America/Dawson_Creek:20200130T170000
DTSTAMP:20260421T194603
CREATED:20200113T180643Z
LAST-MODIFIED:20200131T221555Z
UID:521-1580371200-1580403600@up-beatfirstaid.ca
SUMMARY:Transportation Endorsement (Dawson Creek)
DESCRIPTION:UFA&ST Transportation Endorsement Course Description
URL:https://up-beatfirstaid.ca/event/transportation-endorsement-dawson-creek-2020-01-30/
LOCATION:Canada
CATEGORIES:Transportation Endorsement (TE)
ORGANIZER;CN="Up-Beat First Aid & Safety Training":MAILTO:up-beat@live.ca
END:VEVENT
BEGIN:VEVENT
DTSTART;TZID=America/Dawson_Creek:20200123T080000
DTEND;TZID=America/Dawson_Creek:20200123T170000
DTSTAMP:20260421T194603
CREATED:20200113T180643Z
LAST-MODIFIED:20200131T221946Z
UID:519-1579766400-1579798800@up-beatfirstaid.ca
SUMMARY:Transportation Endorsement (Dawson Creek)
DESCRIPTION:UFA&ST Transportation Endorsement Course Description
URL:https://up-beatfirstaid.ca/event/transportation-endorsement-dawson-creek/
LOCATION:Canada
CATEGORIES:Transportation Endorsement (TE)
ORGANIZER;CN="Up-Beat First Aid & Safety Training":MAILTO:up-beat@live.ca
END:VEVENT
END:VCALENDAR