BEGIN:VCALENDAR
VERSION:2.0
PRODID:-//Up-Beat First Aid &amp; Safety Training Ltd. - ECPv6.15.20//NONSGML v1.0//EN
CALSCALE:GREGORIAN
METHOD:PUBLISH
X-ORIGINAL-URL:https://up-beatfirstaid.ca
X-WR-CALDESC:Events for Up-Beat First Aid &amp; Safety Training Ltd.
REFRESH-INTERVAL;VALUE=DURATION:PT1H
X-Robots-Tag:noindex
X-PUBLISHED-TTL:PT1H
BEGIN:VTIMEZONE
TZID:America/Dawson_Creek
BEGIN:STANDARD
TZOFFSETFROM:-0700
TZOFFSETTO:-0700
TZNAME:MST
DTSTART:20210101T000000
END:STANDARD
END:VTIMEZONE
BEGIN:VEVENT
DTSTART;TZID=America/Dawson_Creek:20221206T093000
DTEND;TZID=America/Dawson_Creek:20221206T180000
DTSTAMP:20260421T064522
CREATED:20221020T222324Z
LAST-MODIFIED:20221115T201205Z
UID:7243-1670319000-1670349600@up-beatfirstaid.ca
SUMMARY:Level 1 First Aid – Dawson Creek
DESCRIPTION:WorkPlace Emergency First Aid – OFA 1 Equivalent
URL:https://up-beatfirstaid.ca/event/level-1-first-aid-dawson-creek-35/
LOCATION:Up-Beat First Aid Dawson Creek NEW\, 11000 8th Street\, Dawson Creek\, British Columbia\, V1G 4K6\, Canada
CATEGORIES:Emergency First Aid (EFA)
ORGANIZER;CN="Up-Beat First Aid & Safety Training":MAILTO:up-beat@live.ca
END:VEVENT
BEGIN:VEVENT
DTSTART;TZID=America/Dawson_Creek:20221207T083000
DTEND;TZID=America/Dawson_Creek:20221208T183000
DTSTAMP:20260421T064522
CREATED:20221021T221824Z
LAST-MODIFIED:20221021T221824Z
UID:7260-1670401800-1670524200@up-beatfirstaid.ca
SUMMARY:Standard First Aid – Dawson Creek
DESCRIPTION:
URL:https://up-beatfirstaid.ca/event/standard-first-aid-dawson-creek-33/
LOCATION:Up-Beat First Aid Dawson Creek NEW\, 11000 8th Street\, Dawson Creek\, British Columbia\, V1G 4K6\, Canada
CATEGORIES:Standard First Aid
ORGANIZER;CN="Up-Beat First Aid & Safety Training":MAILTO:up-beat@live.ca
END:VEVENT
BEGIN:VEVENT
DTSTART;TZID=America/Dawson_Creek:20221207T093000
DTEND;TZID=America/Dawson_Creek:20221207T180000
DTSTAMP:20260421T064522
CREATED:20221021T221529Z
LAST-MODIFIED:20221115T202352Z
UID:7257-1670405400-1670436000@up-beatfirstaid.ca
SUMMARY:Level 1 First Aid – Dawson Creek
DESCRIPTION:WorkPlace Emergency First Aid – OFA 1 Equivalent
URL:https://up-beatfirstaid.ca/event/level-1-first-aid-dawson-creek-53/
LOCATION:Up-Beat First Aid Dawson Creek NEW\, 11000 8th Street\, Dawson Creek\, British Columbia\, V1G 4K6\, Canada
CATEGORIES:Emergency First Aid (EFA)
ORGANIZER;CN="Up-Beat First Aid & Safety Training":MAILTO:up-beat@live.ca
END:VEVENT
BEGIN:VEVENT
DTSTART;TZID=America/Dawson_Creek:20221208T083000
DTEND;TZID=America/Dawson_Creek:20221208T170000
DTSTAMP:20260421T064522
CREATED:20221020T221821Z
LAST-MODIFIED:20221205T163941Z
UID:7240-1670488200-1670518800@up-beatfirstaid.ca
SUMMARY:H2S Alive – Chetwynd
DESCRIPTION:
URL:https://up-beatfirstaid.ca/event/h2s-alive-chetwynd-44/
LOCATION:Up-Beat First Aid Chetwynd\, 4717 – 51 St\, Chetwynd\, British Columbia\, V0C 1J0\, Canada
CATEGORIES:H2S Alive
ORGANIZER;CN="Up-Beat First Aid & Safety Training":MAILTO:up-beat@live.ca
END:VEVENT
BEGIN:VEVENT
DTSTART;TZID=America/Dawson_Creek:20221212T083000
DTEND;TZID=America/Dawson_Creek:20221212T170000
DTSTAMP:20260421T064522
CREATED:20221020T221505Z
LAST-MODIFIED:20221123T191451Z
UID:7234-1670833800-1670864400@up-beatfirstaid.ca
SUMMARY:H2S Alive – Dawson Creek
DESCRIPTION:
URL:https://up-beatfirstaid.ca/event/h2s-alive-dawson-creek-107/
LOCATION:Up-Beat First Aid Dawson Creek NEW\, 11000 8th Street\, Dawson Creek\, British Columbia\, V1G 4K6\, Canada
CATEGORIES:H2S Alive
ORGANIZER;CN="Up-Beat First Aid & Safety Training":MAILTO:up-beat@live.ca
END:VEVENT
BEGIN:VEVENT
DTSTART;TZID=America/Dawson_Creek:20221214T093000
DTEND;TZID=America/Dawson_Creek:20221214T180000
DTSTAMP:20260421T064522
CREATED:20221021T220754Z
LAST-MODIFIED:20221212T223038Z
UID:7254-1671010200-1671040800@up-beatfirstaid.ca
SUMMARY:Level 1 First Aid – Dawson Creek
DESCRIPTION:WorkPlace Emergency First Aid – OFA 1 Equivalent
URL:https://up-beatfirstaid.ca/event/level-1-first-aid-dawson-creek-52/
LOCATION:Up-Beat First Aid Dawson Creek NEW\, 11000 8th Street\, Dawson Creek\, British Columbia\, V1G 4K6\, Canada
CATEGORIES:Emergency First Aid (EFA)
ORGANIZER;CN="Up-Beat First Aid & Safety Training":MAILTO:up-beat@live.ca
END:VEVENT
BEGIN:VEVENT
DTSTART;TZID=America/Dawson_Creek:20221214T093000
DTEND;TZID=America/Dawson_Creek:20221215T183000
DTSTAMP:20260421T064522
CREATED:20221021T222026Z
LAST-MODIFIED:20221212T223632Z
UID:7263-1671010200-1671129000@up-beatfirstaid.ca
SUMMARY:Standard First Aid – Dawson Creek
DESCRIPTION:
URL:https://up-beatfirstaid.ca/event/standard-first-aid-dawson-creek-39/
LOCATION:Up-Beat First Aid Dawson Creek NEW\, 11000 8th Street\, Dawson Creek\, British Columbia\, V1G 4K6\, Canada
CATEGORIES:Standard First Aid
ORGANIZER;CN="Up-Beat First Aid & Safety Training":MAILTO:up-beat@live.ca
END:VEVENT
BEGIN:VEVENT
DTSTART;TZID=America/Dawson_Creek:20221219T083000
DTEND;TZID=America/Dawson_Creek:20221219T170000
DTSTAMP:20260421T064522
CREATED:20221020T221556Z
LAST-MODIFIED:20221216T220732Z
UID:7237-1671438600-1671469200@up-beatfirstaid.ca
SUMMARY:H2S Alive – Dawson Creek
DESCRIPTION:
URL:https://up-beatfirstaid.ca/event/h2s-alive-dawson-creek-108/
LOCATION:Up-Beat First Aid Dawson Creek NEW\, 11000 8th Street\, Dawson Creek\, British Columbia\, V1G 4K6\, Canada
CATEGORIES:H2S Alive
ORGANIZER;CN="Up-Beat First Aid & Safety Training":MAILTO:up-beat@live.ca
END:VEVENT
BEGIN:VEVENT
DTSTART;TZID=America/Dawson_Creek:20221220T093000
DTEND;TZID=America/Dawson_Creek:20221220T180000
DTSTAMP:20260421T064522
CREATED:20221021T215230Z
LAST-MODIFIED:20221115T203050Z
UID:7251-1671528600-1671559200@up-beatfirstaid.ca
SUMMARY:Level 1 First Aid – Dawson Creek
DESCRIPTION:WorkPlace Emergency First Aid – OFA 1 Equivalent
URL:https://up-beatfirstaid.ca/event/level-1-first-aid-dawson-creek-51/
LOCATION:Up-Beat First Aid Dawson Creek NEW\, 11000 8th Street\, Dawson Creek\, British Columbia\, V1G 4K6\, Canada
CATEGORIES:Emergency First Aid (EFA)
ORGANIZER;CN="Up-Beat First Aid & Safety Training":MAILTO:up-beat@live.ca
END:VEVENT
BEGIN:VEVENT
DTSTART;TZID=America/Dawson_Creek:20221220T093000
DTEND;TZID=America/Dawson_Creek:20221221T183000
DTSTAMP:20260421T064522
CREATED:20221021T222311Z
LAST-MODIFIED:20221021T222311Z
UID:7266-1671528600-1671647400@up-beatfirstaid.ca
SUMMARY:Standard First Aid – Dawson Creek
DESCRIPTION:
URL:https://up-beatfirstaid.ca/event/standard-first-aid-dawson-creek-40/
LOCATION:Up-Beat First Aid Dawson Creek NEW\, 11000 8th Street\, Dawson Creek\, British Columbia\, V1G 4K6\, Canada
CATEGORIES:Standard First Aid
ORGANIZER;CN="Up-Beat First Aid & Safety Training":MAILTO:up-beat@live.ca
END:VEVENT
BEGIN:VEVENT
DTSTART;VALUE=DATE:20221222
DTEND;VALUE=DATE:20230102
DTSTAMP:20260421T064522
CREATED:20221021T223142Z
LAST-MODIFIED:20221213T222143Z
UID:7275-1671667200-1672617599@up-beatfirstaid.ca
SUMMARY:HOLIDAY
DESCRIPTION:
URL:https://up-beatfirstaid.ca/event/closed/
LOCATION:British Columbia\, Canada
ORGANIZER;CN="Up-Beat First Aid & Safety Training":MAILTO:up-beat@live.ca
END:VEVENT
BEGIN:VEVENT
DTSTART;TZID=America/Dawson_Creek:20221228T090000
DTEND;TZID=America/Dawson_Creek:20221228T160000
DTSTAMP:20260421T064522
CREATED:20221213T154303Z
LAST-MODIFIED:20221213T154614Z
UID:7425-1672218000-1672243200@up-beatfirstaid.ca
SUMMARY:Babysitting Course
DESCRIPTION:
URL:https://up-beatfirstaid.ca/event/babysitting-2/
LOCATION:Up-Beat First Aid Dawson Creek NEW\, 11000 8th Street\, Dawson Creek\, British Columbia\, V1G 4K6\, Canada
CATEGORIES:Babysitter Course
ORGANIZER;CN="Up-Beat First Aid & Safety Training":MAILTO:up-beat@live.ca
END:VEVENT
END:VCALENDAR