BEGIN:VCALENDAR
VERSION:2.0
PRODID:-//Up-Beat First Aid &amp; Safety Training Ltd. - ECPv6.15.20//NONSGML v1.0//EN
CALSCALE:GREGORIAN
METHOD:PUBLISH
X-WR-CALNAME:Up-Beat First Aid &amp; Safety Training Ltd.
X-ORIGINAL-URL:https://up-beatfirstaid.ca
X-WR-CALDESC:Events for Up-Beat First Aid &amp; Safety Training Ltd.
REFRESH-INTERVAL;VALUE=DURATION:PT1H
X-Robots-Tag:noindex
X-PUBLISHED-TTL:PT1H
BEGIN:VTIMEZONE
TZID:America/Dawson_Creek
BEGIN:STANDARD
TZOFFSETFROM:-0700
TZOFFSETTO:-0700
TZNAME:MST
DTSTART:20230101T000000
END:STANDARD
END:VTIMEZONE
BEGIN:VEVENT
DTSTART;TZID=America/Dawson_Creek:20240930T091500
DTEND;TZID=America/Dawson_Creek:20241011T170000
DTSTAMP:20260421T111327
CREATED:20240405T223606Z
LAST-MODIFIED:20240815T204030Z
UID:9510-1727687700-1728666000@up-beatfirstaid.ca
SUMMARY:EMR Bridge
DESCRIPTION:Pre-requisite for this course is a valid OFA3 ticket. \nCost of the course is $1450 + $250 for the manuals \n 
URL:https://up-beatfirstaid.ca/event/emr-bridge-2/
LOCATION:Up-Beat First Aid Dawson Creek NEW\, 11000 8th Street\, Dawson Creek\, British Columbia\, V1G 4K6\, Canada
CATEGORIES:EMR Bridging Course
ORGANIZER;CN="Up-Beat First Aid & Safety Training":MAILTO:up-beat@live.ca
END:VEVENT
BEGIN:VEVENT
DTSTART;TZID=America/Dawson_Creek:20241001T091500
DTEND;TZID=America/Dawson_Creek:20241002T170000
DTSTAMP:20260421T111327
CREATED:20240904T200636Z
LAST-MODIFIED:20240904T200636Z
UID:10076-1727774100-1727888400@up-beatfirstaid.ca
SUMMARY:Standard First Aid – Dawson Creek
DESCRIPTION:
URL:https://up-beatfirstaid.ca/event/standard-first-aid-dawson-creek-115/
LOCATION:Up-Beat First Aid Dawson Creek NEW\, 11000 8th Street\, Dawson Creek\, British Columbia\, V1G 4K6\, Canada
CATEGORIES:Standard First Aid
ORGANIZER;CN="Up-Beat First Aid & Safety Training":MAILTO:up-beat@live.ca
END:VEVENT
BEGIN:VEVENT
DTSTART;TZID=America/Dawson_Creek:20241007T083000
DTEND;TZID=America/Dawson_Creek:20241007T163000
DTSTAMP:20260421T111327
CREATED:20240827T172029Z
LAST-MODIFIED:20240827T172029Z
UID:10032-1728289800-1728318600@up-beatfirstaid.ca
SUMMARY:H2S Alive - Dawson Creek
DESCRIPTION:Energy Safety Canada- H2S Alive \nThe aim of this course is to provide all Petroleum Industry workers with the knowledge and skills necessary to recognize and respond to Hydrogen Sulphide (H2S) emergencies. \nPROGRAM CONTENT\nAreas of study will include the following: \n\nH2S properties; initial response strategy\nRespiratory Protective Equipment\nDetection of H2S\nRescue Techniques\nCase Studies\n\nPractical training will be conducted in the following subjects: \n\nSelf-Contained Breathing Apparatus (SCBA)\nSupplied Air Breathing Apparatus (on request)\nGas Detection\nRescue Techniques\n\nDURATION \nEight (8) hours.
URL:https://up-beatfirstaid.ca/event/h2s-alive-dawson-creek-168/
LOCATION:Up-Beat First Aid Dawson Creek NEW\, 11000 8th Street\, Dawson Creek\, British Columbia\, V1G 4K6\, Canada
CATEGORIES:H2S Alive
ORGANIZER;CN="Up-Beat First Aid & Safety Training":MAILTO:up-beat@live.ca
END:VEVENT
BEGIN:VEVENT
DTSTART;TZID=America/Dawson_Creek:20241007T091500
DTEND;TZID=America/Dawson_Creek:20241007T170000
DTSTAMP:20260421T111327
CREATED:20240827T171308Z
LAST-MODIFIED:20240827T171308Z
UID:10020-1728292500-1728320400@up-beatfirstaid.ca
SUMMARY:Level 1 First Aid – Dawson Creek
DESCRIPTION:WorkPlace Emergency First Aid – OFA 1 Equivalent
URL:https://up-beatfirstaid.ca/event/level-1-first-aid-dawson-creek-162/
LOCATION:Up-Beat First Aid Dawson Creek NEW\, 11000 8th Street\, Dawson Creek\, British Columbia\, V1G 4K6\, Canada
CATEGORIES:Emergency First Aid (EFA),OFA1
ORGANIZER;CN="Up-Beat First Aid & Safety Training":MAILTO:up-beat@live.ca
END:VEVENT
BEGIN:VEVENT
DTSTART;TZID=America/Dawson_Creek:20241008T091500
DTEND;TZID=America/Dawson_Creek:20241009T170000
DTSTAMP:20260421T111327
CREATED:20240827T173922Z
LAST-MODIFIED:20240827T173922Z
UID:10044-1728378900-1728493200@up-beatfirstaid.ca
SUMMARY:Standard First Aid – Dawson Creek
DESCRIPTION:
URL:https://up-beatfirstaid.ca/event/standard-first-aid-dawson-creek-108/
LOCATION:Up-Beat First Aid Dawson Creek NEW\, 11000 8th Street\, Dawson Creek\, British Columbia\, V1G 4K6\, Canada
CATEGORIES:Standard First Aid
ORGANIZER;CN="Up-Beat First Aid & Safety Training":MAILTO:up-beat@live.ca
END:VEVENT
BEGIN:VEVENT
DTSTART;TZID=America/Dawson_Creek:20241015T091500
DTEND;TZID=America/Dawson_Creek:20241015T170000
DTSTAMP:20260421T111327
CREATED:20241011T184547Z
LAST-MODIFIED:20241011T184547Z
UID:10195-1728983700-1729011600@up-beatfirstaid.ca
SUMMARY:Level 1 First Aid – Dawson Creek
DESCRIPTION:WorkPlace Emergency First Aid – OFA 1 Equivalent
URL:https://up-beatfirstaid.ca/event/level-1-first-aid-dawson-creek-170/
LOCATION:Up-Beat First Aid Dawson Creek NEW\, 11000 8th Street\, Dawson Creek\, British Columbia\, V1G 4K6\, Canada
CATEGORIES:Emergency First Aid (EFA),OFA1
ORGANIZER;CN="Up-Beat First Aid & Safety Training":MAILTO:up-beat@live.ca
END:VEVENT
BEGIN:VEVENT
DTSTART;TZID=America/Dawson_Creek:20241017T080000
DTEND;TZID=America/Dawson_Creek:20241017T160000
DTSTAMP:20260421T111327
CREATED:20240904T163048Z
LAST-MODIFIED:20240904T163048Z
UID:10070-1729152000-1729180800@up-beatfirstaid.ca
SUMMARY:Level 1 First Aid – Chetwynd
DESCRIPTION:WorkPlace Emergency First Aid – OFA 1 Equivalent
URL:https://up-beatfirstaid.ca/event/level-1-first-aid-chetwynd-45/
LOCATION:Up-Beat First Aid Dawson Creek NEW\, 11000 8th Street\, Dawson Creek\, British Columbia\, V1G 4K6\, Canada
CATEGORIES:Emergency First Aid (EFA),OFA1
ORGANIZER;CN="Up-Beat First Aid & Safety Training":MAILTO:up-beat@live.ca
END:VEVENT
BEGIN:VEVENT
DTSTART;TZID=America/Dawson_Creek:20241018T080000
DTEND;TZID=America/Dawson_Creek:20241018T160000
DTSTAMP:20260421T111327
CREATED:20230417T215554Z
LAST-MODIFIED:20241007T224129Z
UID:7863-1729238400-1729267200@up-beatfirstaid.ca
SUMMARY:Transportation Endorsement   Dawson Creek
DESCRIPTION:Course Pre-requisite is Level 1 First Aid
URL:https://up-beatfirstaid.ca/event/transportation-endorsement-dawson-creek-14/
LOCATION:British Columbia
CATEGORIES:Transportation Endorsement (TE)
END:VEVENT
BEGIN:VEVENT
DTSTART;TZID=America/Dawson_Creek:20241018T083000
DTEND;TZID=America/Dawson_Creek:20241018T163000
DTSTAMP:20260421T111327
CREATED:20240905T184034Z
LAST-MODIFIED:20240905T184034Z
UID:10085-1729240200-1729269000@up-beatfirstaid.ca
SUMMARY:H2S Alive - Chetwynd
DESCRIPTION:Energy Safety Canada- H2S Alive \nThe aim of this course is to provide all Petroleum Industry workers with the knowledge and skills necessary to recognize and respond to Hydrogen Sulphide (H2S) emergencies. \nPROGRAM CONTENT\nAreas of study will include the following: \n\nH2S properties; initial response strategy\nRespiratory Protective Equipment\nDetection of H2S\nRescue Techniques\nCase Studies\n\nPractical training will be conducted in the following subjects: \n\nSelf-Contained Breathing Apparatus (SCBA)\nSupplied Air Breathing Apparatus (on request)\nGas Detection\nRescue Techniques\n\nDURATION \nEight (8) hours.
URL:https://up-beatfirstaid.ca/event/h2s-alive-chetwynd-51/
LOCATION:Up-Beat First Aid Dawson Creek NEW\, 11000 8th Street\, Dawson Creek\, British Columbia\, V1G 4K6\, Canada
CATEGORIES:H2S Alive
ORGANIZER;CN="Up-Beat First Aid & Safety Training":MAILTO:up-beat@live.ca
END:VEVENT
BEGIN:VEVENT
DTSTART;TZID=America/Dawson_Creek:20241021T083000
DTEND;TZID=America/Dawson_Creek:20241021T163000
DTSTAMP:20260421T111327
CREATED:20240827T173600Z
LAST-MODIFIED:20240827T173600Z
UID:10038-1729499400-1729528200@up-beatfirstaid.ca
SUMMARY:H2S Alive - Dawson Creek
DESCRIPTION:Energy Safety Canada- H2S Alive \nThe aim of this course is to provide all Petroleum Industry workers with the knowledge and skills necessary to recognize and respond to Hydrogen Sulphide (H2S) emergencies. \nPROGRAM CONTENT\nAreas of study will include the following: \n\nH2S properties; initial response strategy\nRespiratory Protective Equipment\nDetection of H2S\nRescue Techniques\nCase Studies\n\nPractical training will be conducted in the following subjects: \n\nSelf-Contained Breathing Apparatus (SCBA)\nSupplied Air Breathing Apparatus (on request)\nGas Detection\nRescue Techniques\n\nDURATION \nEight (8) hours.
URL:https://up-beatfirstaid.ca/event/h2s-alive-dawson-creek-170/
LOCATION:Up-Beat First Aid Dawson Creek NEW\, 11000 8th Street\, Dawson Creek\, British Columbia\, V1G 4K6\, Canada
CATEGORIES:H2S Alive
ORGANIZER;CN="Up-Beat First Aid & Safety Training":MAILTO:up-beat@live.ca
END:VEVENT
BEGIN:VEVENT
DTSTART;TZID=America/Dawson_Creek:20241021T091500
DTEND;TZID=America/Dawson_Creek:20241021T170000
DTSTAMP:20260421T111327
CREATED:20240827T171528Z
LAST-MODIFIED:20240827T171528Z
UID:10026-1729502100-1729530000@up-beatfirstaid.ca
SUMMARY:Level 1 First Aid – Dawson Creek
DESCRIPTION:WorkPlace Emergency First Aid – OFA 1 Equivalent
URL:https://up-beatfirstaid.ca/event/level-1-first-aid-dawson-creek-174/
LOCATION:Up-Beat First Aid Dawson Creek NEW\, 11000 8th Street\, Dawson Creek\, British Columbia\, V1G 4K6\, Canada
CATEGORIES:Emergency First Aid (EFA),OFA1
ORGANIZER;CN="Up-Beat First Aid & Safety Training":MAILTO:up-beat@live.ca
END:VEVENT
BEGIN:VEVENT
DTSTART;TZID=America/Dawson_Creek:20241022T091500
DTEND;TZID=America/Dawson_Creek:20241023T170000
DTSTAMP:20260421T111327
CREATED:20240827T174153Z
LAST-MODIFIED:20240827T174153Z
UID:10050-1729588500-1729702800@up-beatfirstaid.ca
SUMMARY:Standard First Aid – Dawson Creek
DESCRIPTION:
URL:https://up-beatfirstaid.ca/event/standard-first-aid-dawson-creek-112/
LOCATION:Up-Beat First Aid Dawson Creek NEW\, 11000 8th Street\, Dawson Creek\, British Columbia\, V1G 4K6\, Canada
CATEGORIES:Standard First Aid
ORGANIZER;CN="Up-Beat First Aid & Safety Training":MAILTO:up-beat@live.ca
END:VEVENT
BEGIN:VEVENT
DTSTART;TZID=America/Dawson_Creek:20241028T091500
DTEND;TZID=America/Dawson_Creek:20241028T170000
DTSTAMP:20260421T111327
CREATED:20240827T171622Z
LAST-MODIFIED:20240827T171622Z
UID:10029-1730106900-1730134800@up-beatfirstaid.ca
SUMMARY:Level 1 First Aid – Dawson Creek
DESCRIPTION:WorkPlace Emergency First Aid – OFA 1 Equivalent
URL:https://up-beatfirstaid.ca/event/level-1-first-aid-dawson-creek-183/
LOCATION:Up-Beat First Aid Dawson Creek NEW\, 11000 8th Street\, Dawson Creek\, British Columbia\, V1G 4K6\, Canada
CATEGORIES:Emergency First Aid (EFA),OFA1
ORGANIZER;CN="Up-Beat First Aid & Safety Training":MAILTO:up-beat@live.ca
END:VEVENT
BEGIN:VEVENT
DTSTART;TZID=America/Dawson_Creek:20241029T091500
DTEND;TZID=America/Dawson_Creek:20241030T170000
DTSTAMP:20260421T111327
CREATED:20240827T174257Z
LAST-MODIFIED:20240827T174257Z
UID:10053-1730193300-1730307600@up-beatfirstaid.ca
SUMMARY:Standard First Aid – Dawson Creek
DESCRIPTION:
URL:https://up-beatfirstaid.ca/event/standard-first-aid-dawson-creek-113/
LOCATION:Up-Beat First Aid Dawson Creek NEW\, 11000 8th Street\, Dawson Creek\, British Columbia\, V1G 4K6\, Canada
CATEGORIES:Standard First Aid
ORGANIZER;CN="Up-Beat First Aid & Safety Training":MAILTO:up-beat@live.ca
END:VEVENT
END:VCALENDAR