BEGIN:VCALENDAR
VERSION:2.0
PRODID:-//Up-Beat First Aid &amp; Safety Training Ltd. - ECPv6.15.20//NONSGML v1.0//EN
CALSCALE:GREGORIAN
METHOD:PUBLISH
X-ORIGINAL-URL:https://up-beatfirstaid.ca
X-WR-CALDESC:Events for Up-Beat First Aid &amp; Safety Training Ltd.
REFRESH-INTERVAL;VALUE=DURATION:PT1H
X-Robots-Tag:noindex
X-PUBLISHED-TTL:PT1H
BEGIN:VTIMEZONE
TZID:America/Dawson_Creek
BEGIN:STANDARD
TZOFFSETFROM:-0700
TZOFFSETTO:-0700
TZNAME:MST
DTSTART:20200101T000000
END:STANDARD
END:VTIMEZONE
BEGIN:VEVENT
DTSTART;TZID=America/Dawson_Creek:20211112T080000
DTEND;TZID=America/Dawson_Creek:20211112T170000
DTSTAMP:20260425T072425
CREATED:20211019T184749Z
LAST-MODIFIED:20211019T184749Z
UID:3772-1636704000-1636736400@up-beatfirstaid.ca
SUMMARY:Work Place Emergency First Aid - OFA 1 Equivalent- Chetwynd
DESCRIPTION:
URL:https://up-beatfirstaid.ca/event/work-place-emergency-first-aid-ofa-1-equivalent-chetwynd-7/
LOCATION:Up-Beat First Aid Chetwynd\, 4717 – 51 St\, Chetwynd\, British Columbia\, V0C 1J0\, Canada
CATEGORIES:Emergency First Aid (EFA),OFA1
ORGANIZER;CN="Up-Beat First Aid & Safety Training":MAILTO:up-beat@live.ca
END:VEVENT
BEGIN:VEVENT
DTSTART;TZID=America/Dawson_Creek:20211116T083000
DTEND;TZID=America/Dawson_Creek:20211116T170000
DTSTAMP:20260425T072425
CREATED:20211019T200112Z
LAST-MODIFIED:20211115T231445Z
UID:3775-1637051400-1637082000@up-beatfirstaid.ca
SUMMARY:H2S Alive - Chetwynd
DESCRIPTION:
URL:https://up-beatfirstaid.ca/event/h2s-alive-chetwynd-33/
LOCATION:Up-Beat First Aid Chetwynd\, 4717 – 51 St\, Chetwynd\, British Columbia\, V0C 1J0\, Canada
CATEGORIES:H2S Alive
ORGANIZER;CN="Up-Beat First Aid & Safety Training":MAILTO:up-beat@live.ca
END:VEVENT
BEGIN:VEVENT
DTSTART;TZID=America/Dawson_Creek:20211122T080000
DTEND;TZID=America/Dawson_Creek:20211126T170000
DTSTAMP:20260425T072425
CREATED:20210901T222444Z
LAST-MODIFIED:20210901T222444Z
UID:3558-1637568000-1637946000@up-beatfirstaid.ca
SUMMARY:OFA 3 - Chetwynd
DESCRIPTION:
URL:https://up-beatfirstaid.ca/event/ofa-3-chetwynd-5/
LOCATION:Up-Beat First Aid Chetwynd\, 4717 – 51 St\, Chetwynd\, British Columbia\, V0C 1J0\, Canada
CATEGORIES:OFA3
ORGANIZER;CN="Up-Beat First Aid & Safety Training":MAILTO:up-beat@live.ca
END:VEVENT
BEGIN:VEVENT
DTSTART;TZID=America/Dawson_Creek:20211129T080000
DTEND;TZID=America/Dawson_Creek:20211203T170000
DTSTAMP:20260425T072425
CREATED:20210901T222504Z
LAST-MODIFIED:20210901T222504Z
UID:3560-1638172800-1638550800@up-beatfirstaid.ca
SUMMARY:OFA 3 - Chetwynd
DESCRIPTION:
URL:https://up-beatfirstaid.ca/event/ofa-3-chetwynd-6/
LOCATION:Up-Beat First Aid Chetwynd\, 4717 – 51 St\, Chetwynd\, British Columbia\, V0C 1J0\, Canada
CATEGORIES:OFA3
ORGANIZER;CN="Up-Beat First Aid & Safety Training":MAILTO:up-beat@live.ca
END:VEVENT
END:VCALENDAR