BEGIN:VCALENDAR
VERSION:2.0
PRODID:-//Up-Beat First Aid &amp; Safety Training Ltd. - ECPv6.15.20//NONSGML v1.0//EN
CALSCALE:GREGORIAN
METHOD:PUBLISH
X-WR-CALNAME:Up-Beat First Aid &amp; Safety Training Ltd.
X-ORIGINAL-URL:https://up-beatfirstaid.ca
X-WR-CALDESC:Events for Up-Beat First Aid &amp; Safety Training Ltd.
REFRESH-INTERVAL;VALUE=DURATION:PT1H
X-Robots-Tag:noindex
X-PUBLISHED-TTL:PT1H
BEGIN:VTIMEZONE
TZID:America/Dawson_Creek
BEGIN:STANDARD
TZOFFSETFROM:-0700
TZOFFSETTO:-0700
TZNAME:MST
DTSTART:20220101T000000
END:STANDARD
END:VTIMEZONE
BEGIN:VEVENT
DTSTART;TZID=America/Dawson_Creek:20230303T080000
DTEND;TZID=America/Dawson_Creek:20230303T160000
DTSTAMP:20260422T043253
CREATED:20230127T214422Z
LAST-MODIFIED:20230127T214806Z
UID:7592-1677830400-1677859200@up-beatfirstaid.ca
SUMMARY:Level 1 First Aid – Chetwynd
DESCRIPTION:
URL:https://up-beatfirstaid.ca/event/level-1-first-aid-chetwynd-12/
LOCATION:Up-Beat First Aid Chetwynd\, 4717 – 51 St\, Chetwynd\, British Columbia\, V0C 1J0\, Canada
CATEGORIES:Emergency First Aid (EFA)
ORGANIZER;CN="Up-Beat First Aid & Safety Training":MAILTO:up-beat@live.ca
END:VEVENT
BEGIN:VEVENT
DTSTART;TZID=America/Dawson_Creek:20230309T083000
DTEND;TZID=America/Dawson_Creek:20230309T170000
DTSTAMP:20260422T043253
CREATED:20230227T185646Z
LAST-MODIFIED:20230303T230052Z
UID:7666-1678350600-1678381200@up-beatfirstaid.ca
SUMMARY:H2S Alive – Chetwynd
DESCRIPTION:
URL:https://up-beatfirstaid.ca/event/h2s-alive-chetwynd-117/
LOCATION:Up-Beat First Aid Chetwynd\, 4717 – 51 St\, Chetwynd\, British Columbia\, V0C 1J0\, Canada
CATEGORIES:H2S Alive
ORGANIZER;CN="Up-Beat First Aid & Safety Training":MAILTO:up-beat@live.ca
END:VEVENT
BEGIN:VEVENT
DTSTART;TZID=America/Dawson_Creek:20230317T080000
DTEND;TZID=America/Dawson_Creek:20230317T160000
DTSTAMP:20260422T043253
CREATED:20230127T214517Z
LAST-MODIFIED:20230314T174428Z
UID:7595-1679040000-1679068800@up-beatfirstaid.ca
SUMMARY:Level 1 First Aid – Chetwynd
DESCRIPTION:
URL:https://up-beatfirstaid.ca/event/level-1-first-aid-chetwynd-15/
LOCATION:Up-Beat First Aid Chetwynd\, 4717 – 51 St\, Chetwynd\, British Columbia\, V0C 1J0\, Canada
CATEGORIES:Emergency First Aid (EFA)
ORGANIZER;CN="Up-Beat First Aid & Safety Training":MAILTO:up-beat@live.ca
END:VEVENT
BEGIN:VEVENT
DTSTART;TZID=America/Dawson_Creek:20230323T080000
DTEND;TZID=America/Dawson_Creek:20230323T170000
DTSTAMP:20260422T043253
CREATED:20230227T185855Z
LAST-MODIFIED:20230303T230206Z
UID:7670-1679558400-1679590800@up-beatfirstaid.ca
SUMMARY:Ground Disturbance– Chetwynd
DESCRIPTION:
URL:https://up-beatfirstaid.ca/event/ground-disturbance-chetwynd/
LOCATION:Up-Beat First Aid Chetwynd\, 4717 – 51 St\, Chetwynd\, British Columbia\, V0C 1J0\, Canada
CATEGORIES:Ground Disturbance
ORGANIZER;CN="Up-Beat First Aid & Safety Training":MAILTO:up-beat@live.ca
END:VEVENT
END:VCALENDAR