BEGIN:VCALENDAR
VERSION:2.0
PRODID:-//Up-Beat First Aid &amp; Safety Training Ltd. - ECPv6.15.20//NONSGML v1.0//EN
CALSCALE:GREGORIAN
METHOD:PUBLISH
X-ORIGINAL-URL:https://up-beatfirstaid.ca
X-WR-CALDESC:Events for Up-Beat First Aid &amp; Safety Training Ltd.
REFRESH-INTERVAL;VALUE=DURATION:PT1H
X-Robots-Tag:noindex
X-PUBLISHED-TTL:PT1H
BEGIN:VTIMEZONE
TZID:America/Dawson_Creek
BEGIN:STANDARD
TZOFFSETFROM:-0700
TZOFFSETTO:-0700
TZNAME:MST
DTSTART:20240101T000000
END:STANDARD
END:VTIMEZONE
BEGIN:VEVENT
DTSTART;TZID=America/Dawson_Creek:20250702T083000
DTEND;TZID=America/Dawson_Creek:20250703T170000
DTSTAMP:20260421T020522
CREATED:20250515T162123Z
LAST-MODIFIED:20250515T162123Z
UID:10932-1751445000-1751562000@up-beatfirstaid.ca
SUMMARY:Intermediate First Aid - Dawson Creek
DESCRIPTION:
URL:https://up-beatfirstaid.ca/event/intermediate-first-aid-dawson-creek-6/
LOCATION:Up-Beat First Aid Dawson Creek NEW\, 11000 8th Street\, Dawson Creek\, British Columbia\, V1G 4K6\, Canada
ORGANIZER;CN="Up-Beat First Aid & Safety Training":MAILTO:up-beat@live.ca
END:VEVENT
BEGIN:VEVENT
DTSTART;TZID=America/Dawson_Creek:20250702T091500
DTEND;TZID=America/Dawson_Creek:20250702T170000
DTSTAMP:20260421T020522
CREATED:20250515T162102Z
LAST-MODIFIED:20250515T162102Z
UID:10934-1751447700-1751475600@up-beatfirstaid.ca
SUMMARY:Emergency First Aid - Dawson Creek BC
DESCRIPTION:
URL:https://up-beatfirstaid.ca/event/emergency-first-aid-dawson-creek-bc-2/
LOCATION:Up-Beat First Aid Dawson Creek NEW\, 11000 8th Street\, Dawson Creek\, British Columbia\, V1G 4K6\, Canada
CATEGORIES:Standard First Aid
ORGANIZER;CN="Up-Beat First Aid & Safety Training":MAILTO:up-beat@live.ca
END:VEVENT
BEGIN:VEVENT
DTSTART;TZID=America/Dawson_Creek:20250704T091500
DTEND;TZID=America/Dawson_Creek:20250704T170000
DTSTAMP:20260421T020522
CREATED:20250515T162019Z
LAST-MODIFIED:20250515T162019Z
UID:10947-1751620500-1751648400@up-beatfirstaid.ca
SUMMARY:Transportation Endorsement - Dawson Creek
DESCRIPTION:
URL:https://up-beatfirstaid.ca/event/transportation-endorsement-dawson-creek-27/
LOCATION:Up-Beat First Aid Dawson Creek NEW\, 11000 8th Street\, Dawson Creek\, British Columbia\, V1G 4K6\, Canada
CATEGORIES:Transportation Endorsement (TE)
ORGANIZER;CN="Up-Beat First Aid & Safety Training":MAILTO:up-beat@live.ca
END:VEVENT
BEGIN:VEVENT
DTSTART;TZID=America/Dawson_Creek:20250708T091500
DTEND;TZID=America/Dawson_Creek:20250709T170000
DTSTAMP:20260421T020522
CREATED:20250623T223945Z
LAST-MODIFIED:20250623T223945Z
UID:11007-1751966100-1752080400@up-beatfirstaid.ca
SUMMARY:Emergency First Aid/Standard First Aid - Dawson Creek BC
DESCRIPTION:
URL:https://up-beatfirstaid.ca/event/emergency-first-aid-standard-first-aid-dawson-creek-bc-6/
LOCATION:Up-Beat First Aid Dawson Creek NEW\, 11000 8th Street\, Dawson Creek\, British Columbia\, V1G 4K6\, Canada
CATEGORIES:Standard First Aid
ORGANIZER;CN="Up-Beat First Aid & Safety Training":MAILTO:up-beat@live.ca
END:VEVENT
BEGIN:VEVENT
DTSTART;TZID=America/Dawson_Creek:20250714T083000
DTEND;TZID=America/Dawson_Creek:20250714T170000
DTSTAMP:20260421T020522
CREATED:20250623T225355Z
LAST-MODIFIED:20250623T225355Z
UID:11021-1752481800-1752512400@up-beatfirstaid.ca
SUMMARY:H2S Alive - Dawson Creek
DESCRIPTION:Energy Safety Canada- H2S Alive \nThe aim of this course is to provide all Petroleum Industry workers with the knowledge and skills necessary to recognize and respond to Hydrogen Sulphide (H2S) emergencies. \nPROGRAM CONTENT\nAreas of study will include the following: \n\nH2S properties; initial response strategy\nRespiratory Protective Equipment\nDetection of H2S\nRescue Techniques\nCase Studies\n\nPractical training will be conducted in the following subjects: \n\nSelf-Contained Breathing Apparatus (SCBA)\nSupplied Air Breathing Apparatus (on request)\nGas Detection\nRescue Techniques\n\nDURATION \nEight (8) hours.
URL:https://up-beatfirstaid.ca/event/h2s-alive-dawson-creek-198/
LOCATION:Up-Beat First Aid Dawson Creek NEW\, 11000 8th Street\, Dawson Creek\, British Columbia\, V1G 4K6\, Canada
CATEGORIES:H2S Alive
ORGANIZER;CN="Up-Beat First Aid & Safety Training":MAILTO:up-beat@live.ca
END:VEVENT
BEGIN:VEVENT
DTSTART;TZID=America/Dawson_Creek:20250715T091500
DTEND;TZID=America/Dawson_Creek:20250715T170000
DTSTAMP:20260421T020522
CREATED:20250623T225458Z
LAST-MODIFIED:20250623T225458Z
UID:11023-1752570900-1752598800@up-beatfirstaid.ca
SUMMARY:Emergency First Aid - Dawson Creek BC
DESCRIPTION:
URL:https://up-beatfirstaid.ca/event/emergency-first-aid-dawson-creek-bc-3/
LOCATION:Up-Beat First Aid Dawson Creek NEW\, 11000 8th Street\, Dawson Creek\, British Columbia\, V1G 4K6\, Canada
CATEGORIES:Standard First Aid
ORGANIZER;CN="Up-Beat First Aid & Safety Training":MAILTO:up-beat@live.ca
END:VEVENT
BEGIN:VEVENT
DTSTART;TZID=America/Dawson_Creek:20250717T091500
DTEND;TZID=America/Dawson_Creek:20250717T170000
DTSTAMP:20260421T020522
CREATED:20250623T225550Z
LAST-MODIFIED:20250623T225550Z
UID:11025-1752743700-1752771600@up-beatfirstaid.ca
SUMMARY:Transportation Endorsement - Dawson Creek
DESCRIPTION:
URL:https://up-beatfirstaid.ca/event/transportation-endorsement-dawson-creek-35/
LOCATION:Up-Beat First Aid Dawson Creek NEW\, 11000 8th Street\, Dawson Creek\, British Columbia\, V1G 4K6\, Canada
CATEGORIES:Transportation Endorsement (TE)
ORGANIZER;CN="Up-Beat First Aid & Safety Training":MAILTO:up-beat@live.ca
END:VEVENT
BEGIN:VEVENT
DTSTART;TZID=America/Dawson_Creek:20250722T083000
DTEND;TZID=America/Dawson_Creek:20250722T170000
DTSTAMP:20260421T020522
CREATED:20250624T150625Z
LAST-MODIFIED:20250709T161930Z
UID:11030-1753173000-1753203600@up-beatfirstaid.ca
SUMMARY:H2S Alive - Dawson Creek
DESCRIPTION:Energy Safety Canada- H2S Alive \nThe aim of this course is to provide all Petroleum Industry workers with the knowledge and skills necessary to recognize and respond to Hydrogen Sulphide (H2S) emergencies. \nPROGRAM CONTENT\nAreas of study will include the following: \n\nH2S properties; initial response strategy\nRespiratory Protective Equipment\nDetection of H2S\nRescue Techniques\nCase Studies\n\nPractical training will be conducted in the following subjects: \n\nSelf-Contained Breathing Apparatus (SCBA)\nSupplied Air Breathing Apparatus (on request)\nGas Detection\nRescue Techniques\n\nDURATION \nEight (8) hours.
URL:https://up-beatfirstaid.ca/event/h2s-alive-dawson-creek-199/
LOCATION:Up-Beat First Aid Dawson Creek NEW\, 11000 8th Street\, Dawson Creek\, British Columbia\, V1G 4K6\, Canada
CATEGORIES:H2S Alive
ORGANIZER;CN="Up-Beat First Aid & Safety Training":MAILTO:up-beat@live.ca
END:VEVENT
BEGIN:VEVENT
DTSTART;TZID=America/Dawson_Creek:20250722T091500
DTEND;TZID=America/Dawson_Creek:20250723T170000
DTSTAMP:20260421T020522
CREATED:20250714T221106Z
LAST-MODIFIED:20250714T221106Z
UID:11106-1753175700-1753290000@up-beatfirstaid.ca
SUMMARY:Emergency First Aid/Standard First Aid - Dawson Creek BC
DESCRIPTION:
URL:https://up-beatfirstaid.ca/event/emergency-first-aid-standard-first-aid-dawson-creek-bc-10/
LOCATION:Up-Beat First Aid Dawson Creek NEW\, 11000 8th Street\, Dawson Creek\, British Columbia\, V1G 4K6\, Canada
CATEGORIES:Standard First Aid
ORGANIZER;CN="Up-Beat First Aid & Safety Training":MAILTO:up-beat@live.ca
END:VEVENT
BEGIN:VEVENT
DTSTART;TZID=America/Dawson_Creek:20250723T083000
DTEND;TZID=America/Dawson_Creek:20250724T170000
DTSTAMP:20260421T020522
CREATED:20250624T152120Z
LAST-MODIFIED:20250624T152120Z
UID:11034-1753259400-1753376400@up-beatfirstaid.ca
SUMMARY:Intermediate First Aid - Dawson Creek
DESCRIPTION:
URL:https://up-beatfirstaid.ca/event/intermediate-first-aid-dawson-creek-20/
LOCATION:Up-Beat First Aid Dawson Creek NEW\, 11000 8th Street\, Dawson Creek\, British Columbia\, V1G 4K6\, Canada
ORGANIZER;CN="Up-Beat First Aid & Safety Training":MAILTO:up-beat@live.ca
END:VEVENT
BEGIN:VEVENT
DTSTART;TZID=America/Dawson_Creek:20250725T091500
DTEND;TZID=America/Dawson_Creek:20250725T170000
DTSTAMP:20260421T020522
CREATED:20250624T152308Z
LAST-MODIFIED:20250624T152308Z
UID:11038-1753434900-1753462800@up-beatfirstaid.ca
SUMMARY:Transportation Endorsement - Dawson Creek
DESCRIPTION:
URL:https://up-beatfirstaid.ca/event/transportation-endorsement-dawson-creek-36/
LOCATION:Up-Beat First Aid Dawson Creek NEW\, 11000 8th Street\, Dawson Creek\, British Columbia\, V1G 4K6\, Canada
CATEGORIES:Transportation Endorsement (TE)
ORGANIZER;CN="Up-Beat First Aid & Safety Training":MAILTO:up-beat@live.ca
END:VEVENT
BEGIN:VEVENT
DTSTART;TZID=America/Dawson_Creek:20250726T083000
DTEND;TZID=America/Dawson_Creek:20250726T163000
DTSTAMP:20260421T020522
CREATED:20250703T165144Z
LAST-MODIFIED:20250703T165144Z
UID:11100-1753518600-1753547400@up-beatfirstaid.ca
SUMMARY:Childcare Emergency First Aid
DESCRIPTION:
URL:https://up-beatfirstaid.ca/event/childcare-emergency-first-aid-6/
LOCATION:Up-Beat First Aid Dawson Creek NEW\, 11000 8th Street\, Dawson Creek\, British Columbia\, V1G 4K6\, Canada
CATEGORIES:Child Care Emergency First Aid
ORGANIZER;CN="Up-Beat First Aid & Safety Training":MAILTO:up-beat@live.ca
END:VEVENT
BEGIN:VEVENT
DTSTART;TZID=America/Dawson_Creek:20250728T083000
DTEND;TZID=America/Dawson_Creek:20250728T170000
DTSTAMP:20260421T020522
CREATED:20250624T152538Z
LAST-MODIFIED:20250624T152538Z
UID:11042-1753691400-1753722000@up-beatfirstaid.ca
SUMMARY:H2S Alive - Dawson Creek
DESCRIPTION:Energy Safety Canada- H2S Alive \nThe aim of this course is to provide all Petroleum Industry workers with the knowledge and skills necessary to recognize and respond to Hydrogen Sulphide (H2S) emergencies. \nPROGRAM CONTENT\nAreas of study will include the following: \n\nH2S properties; initial response strategy\nRespiratory Protective Equipment\nDetection of H2S\nRescue Techniques\nCase Studies\n\nPractical training will be conducted in the following subjects: \n\nSelf-Contained Breathing Apparatus (SCBA)\nSupplied Air Breathing Apparatus (on request)\nGas Detection\nRescue Techniques\n\nDURATION \nEight (8) hours.
URL:https://up-beatfirstaid.ca/event/h2s-alive-dawson-creek-200/
LOCATION:Up-Beat First Aid Dawson Creek NEW\, 11000 8th Street\, Dawson Creek\, British Columbia\, V1G 4K6\, Canada
CATEGORIES:H2S Alive
ORGANIZER;CN="Up-Beat First Aid & Safety Training":MAILTO:up-beat@live.ca
END:VEVENT
BEGIN:VEVENT
DTSTART;TZID=America/Dawson_Creek:20250729T091500
DTEND;TZID=America/Dawson_Creek:20250730T170000
DTSTAMP:20260421T020522
CREATED:20250714T221158Z
LAST-MODIFIED:20250714T221158Z
UID:11108-1753780500-1753894800@up-beatfirstaid.ca
SUMMARY:Emergency First Aid/Standard First Aid - Dawson Creek BC
DESCRIPTION:
URL:https://up-beatfirstaid.ca/event/emergency-first-aid-standard-first-aid-dawson-creek-bc-11/
LOCATION:Up-Beat First Aid Dawson Creek NEW\, 11000 8th Street\, Dawson Creek\, British Columbia\, V1G 4K6\, Canada
CATEGORIES:Standard First Aid
ORGANIZER;CN="Up-Beat First Aid & Safety Training":MAILTO:up-beat@live.ca
END:VEVENT
END:VCALENDAR