BEGIN:VCALENDAR
VERSION:2.0
PRODID:-//Up-Beat First Aid &amp; Safety Training Ltd. - ECPv6.15.20//NONSGML v1.0//EN
CALSCALE:GREGORIAN
METHOD:PUBLISH
X-WR-CALNAME:Up-Beat First Aid &amp; Safety Training Ltd.
X-ORIGINAL-URL:https://up-beatfirstaid.ca
X-WR-CALDESC:Events for Up-Beat First Aid &amp; Safety Training Ltd.
REFRESH-INTERVAL;VALUE=DURATION:PT1H
X-Robots-Tag:noindex
X-PUBLISHED-TTL:PT1H
BEGIN:VTIMEZONE
TZID:America/Dawson_Creek
BEGIN:STANDARD
TZOFFSETFROM:-0700
TZOFFSETTO:-0700
TZNAME:MST
DTSTART:20240101T000000
END:STANDARD
END:VTIMEZONE
BEGIN:VEVENT
DTSTART;TZID=America/Dawson_Creek:20251105T091500
DTEND;TZID=America/Dawson_Creek:20251106T170000
DTSTAMP:20260420T194817
CREATED:20251021T221530Z
LAST-MODIFIED:20251021T221530Z
UID:11256-1762334100-1762448400@up-beatfirstaid.ca
SUMMARY:Emergency First Aid/Standard First Aid - Dawson Creek BC
DESCRIPTION:
URL:https://up-beatfirstaid.ca/event/emergency-first-aid-standard-first-aid-dawson-creek-bc-22/
LOCATION:Up-Beat First Aid Dawson Creek NEW\, 11000 8th Street\, Dawson Creek\, British Columbia\, V1G 4K6\, Canada
CATEGORIES:Standard First Aid
ORGANIZER;CN="Up-Beat First Aid & Safety Training":MAILTO:up-beat@live.ca
END:VEVENT
BEGIN:VEVENT
DTSTART;TZID=America/Dawson_Creek:20251106T091500
DTEND;TZID=America/Dawson_Creek:20251106T170000
DTSTAMP:20260420T194817
CREATED:20250904T164849Z
LAST-MODIFIED:20251022T175458Z
UID:11208-1762420500-1762448400@up-beatfirstaid.ca
SUMMARY:Transportation Endorsement - Dawson Creek
DESCRIPTION:
URL:https://up-beatfirstaid.ca/event/transportation-endorsement-dawson-creek-40/
LOCATION:Up-Beat First Aid Dawson Creek NEW\, 11000 8th Street\, Dawson Creek\, British Columbia\, V1G 4K6\, Canada
CATEGORIES:Transportation Endorsement (TE)
ORGANIZER;CN="Up-Beat First Aid & Safety Training":MAILTO:up-beat@live.ca
END:VEVENT
BEGIN:VEVENT
DTSTART;TZID=America/Dawson_Creek:20251107T083000
DTEND;TZID=America/Dawson_Creek:20251107T163000
DTSTAMP:20260420T194817
CREATED:20251028T224904Z
LAST-MODIFIED:20251028T225149Z
UID:11261-1762504200-1762533000@up-beatfirstaid.ca
SUMMARY:Fall Protection (ABCS)- Dawson Creek
DESCRIPTION:
URL:https://up-beatfirstaid.ca/event/fall-protection-energy-safety-canada-dawson-creek-6/
LOCATION:Up-Beat First Aid Dawson Creek NEW\, 11000 8th Street\, Dawson Creek\, British Columbia\, V1G 4K6\, Canada
CATEGORIES:Fall Protection
ORGANIZER;CN="Up-Beat First Aid & Safety Training":MAILTO:up-beat@live.ca
END:VEVENT
BEGIN:VEVENT
DTSTART;TZID=America/Dawson_Creek:20251110T083000
DTEND;TZID=America/Dawson_Creek:20251110T170000
DTSTAMP:20260420T194817
CREATED:20251007T184106Z
LAST-MODIFIED:20251007T184106Z
UID:11224-1762763400-1762794000@up-beatfirstaid.ca
SUMMARY:H2S Alive - Dawson Creek
DESCRIPTION:Energy Safety Canada- H2S Alive \nThe aim of this course is to provide all Petroleum Industry workers with the knowledge and skills necessary to recognize and respond to Hydrogen Sulphide (H2S) emergencies. \nPROGRAM CONTENT\nAreas of study will include the following: \n\nH2S properties; initial response strategy\nRespiratory Protective Equipment\nDetection of H2S\nRescue Techniques\nCase Studies\n\nPractical training will be conducted in the following subjects: \n\nSelf-Contained Breathing Apparatus (SCBA)\nSupplied Air Breathing Apparatus (on request)\nGas Detection\nRescue Techniques\n\nDURATION \nEight (8) hours.
URL:https://up-beatfirstaid.ca/event/h2s-alive-dawson-creek-205/
LOCATION:Up-Beat First Aid Dawson Creek NEW\, 11000 8th Street\, Dawson Creek\, British Columbia\, V1G 4K6\, Canada
CATEGORIES:H2S Alive
ORGANIZER;CN="Up-Beat First Aid & Safety Training":MAILTO:up-beat@live.ca
END:VEVENT
BEGIN:VEVENT
DTSTART;TZID=America/Dawson_Creek:20251112T083000
DTEND;TZID=America/Dawson_Creek:20251113T170000
DTSTAMP:20260420T194817
CREATED:20251007T184327Z
LAST-MODIFIED:20251007T184327Z
UID:11226-1762936200-1763053200@up-beatfirstaid.ca
SUMMARY:Intermediate First Aid - Dawson Creek
DESCRIPTION:
URL:https://up-beatfirstaid.ca/event/intermediate-first-aid-dawson-creek-23/
LOCATION:Up-Beat First Aid Dawson Creek NEW\, 11000 8th Street\, Dawson Creek\, British Columbia\, V1G 4K6\, Canada
ORGANIZER;CN="Up-Beat First Aid & Safety Training":MAILTO:up-beat@live.ca
END:VEVENT
BEGIN:VEVENT
DTSTART;TZID=America/Dawson_Creek:20251112T091500
DTEND;TZID=America/Dawson_Creek:20251113T170000
DTSTAMP:20260420T194817
CREATED:20251007T184433Z
LAST-MODIFIED:20251007T184433Z
UID:11228-1762938900-1763053200@up-beatfirstaid.ca
SUMMARY:Emergency First Aid/Standard First Aid - Dawson Creek BC
DESCRIPTION:
URL:https://up-beatfirstaid.ca/event/emergency-first-aid-standard-first-aid-dawson-creek-bc-16/
LOCATION:Up-Beat First Aid Dawson Creek NEW\, 11000 8th Street\, Dawson Creek\, British Columbia\, V1G 4K6\, Canada
CATEGORIES:Standard First Aid
ORGANIZER;CN="Up-Beat First Aid & Safety Training":MAILTO:up-beat@live.ca
END:VEVENT
BEGIN:VEVENT
DTSTART;TZID=America/Dawson_Creek:20251114T091500
DTEND;TZID=America/Dawson_Creek:20251114T170000
DTSTAMP:20260420T194817
CREATED:20251007T184506Z
LAST-MODIFIED:20251007T184506Z
UID:11230-1763111700-1763139600@up-beatfirstaid.ca
SUMMARY:Transportation Endorsement - Dawson Creek
DESCRIPTION:
URL:https://up-beatfirstaid.ca/event/transportation-endorsement-dawson-creek-34/
LOCATION:Up-Beat First Aid Dawson Creek NEW\, 11000 8th Street\, Dawson Creek\, British Columbia\, V1G 4K6\, Canada
CATEGORIES:Transportation Endorsement (TE)
ORGANIZER;CN="Up-Beat First Aid & Safety Training":MAILTO:up-beat@live.ca
END:VEVENT
BEGIN:VEVENT
DTSTART;TZID=America/Dawson_Creek:20251117T091500
DTEND;TZID=America/Dawson_Creek:20251205T163000
DTSTAMP:20260420T194817
CREATED:20250508T225923Z
LAST-MODIFIED:20250508T225923Z
UID:10961-1763370900-1764952200@up-beatfirstaid.ca
SUMMARY:Emergency Medical Responder Dawson Creek
DESCRIPTION:
URL:https://up-beatfirstaid.ca/event/emergency-medical-responder-dawson-creek-18/
LOCATION:Up-Beat First Aid Dawson Creek NEW\, 11000 8th Street\, Dawson Creek\, British Columbia\, V1G 4K6\, Canada
CATEGORIES:Emergency Medical Responder
ORGANIZER;CN="Up-Beat First Aid & Safety Training":MAILTO:up-beat@live.ca
END:VEVENT
BEGIN:VEVENT
DTSTART;TZID=America/Dawson_Creek:20251118T091500
DTEND;TZID=America/Dawson_Creek:20251119T170000
DTSTAMP:20260420T194817
CREATED:20251007T184719Z
LAST-MODIFIED:20251007T184719Z
UID:11234-1763457300-1763571600@up-beatfirstaid.ca
SUMMARY:Emergency First Aid/Standard First Aid - Dawson Creek BC
DESCRIPTION:
URL:https://up-beatfirstaid.ca/event/emergency-first-aid-standard-first-aid-dawson-creek-bc-20/
LOCATION:Up-Beat First Aid Dawson Creek NEW\, 11000 8th Street\, Dawson Creek\, British Columbia\, V1G 4K6\, Canada
CATEGORIES:Standard First Aid
ORGANIZER;CN="Up-Beat First Aid & Safety Training":MAILTO:up-beat@live.ca
END:VEVENT
BEGIN:VEVENT
DTSTART;TZID=America/Dawson_Creek:20251121T091500
DTEND;TZID=America/Dawson_Creek:20251121T170000
DTSTAMP:20260420T194817
CREATED:20251007T184918Z
LAST-MODIFIED:20251007T184918Z
UID:11238-1763716500-1763744400@up-beatfirstaid.ca
SUMMARY:Transportation Endorsement - Dawson Creek
DESCRIPTION:
URL:https://up-beatfirstaid.ca/event/transportation-endorsement-dawson-creek-42/
LOCATION:Up-Beat First Aid Dawson Creek NEW\, 11000 8th Street\, Dawson Creek\, British Columbia\, V1G 4K6\, Canada
CATEGORIES:Transportation Endorsement (TE)
ORGANIZER;CN="Up-Beat First Aid & Safety Training":MAILTO:up-beat@live.ca
END:VEVENT
BEGIN:VEVENT
DTSTART;TZID=America/Dawson_Creek:20251122T083000
DTEND;TZID=America/Dawson_Creek:20251122T163000
DTSTAMP:20260420T194817
CREATED:20251007T185032Z
LAST-MODIFIED:20251007T185032Z
UID:11240-1763800200-1763829000@up-beatfirstaid.ca
SUMMARY:Childcare Emergency First Aid
DESCRIPTION:
URL:https://up-beatfirstaid.ca/event/childcare-emergency-first-aid-9/
LOCATION:Up-Beat First Aid Dawson Creek NEW\, 11000 8th Street\, Dawson Creek\, British Columbia\, V1G 4K6\, Canada
CATEGORIES:Child Care Emergency First Aid
ORGANIZER;CN="Up-Beat First Aid & Safety Training":MAILTO:up-beat@live.ca
END:VEVENT
BEGIN:VEVENT
DTSTART;TZID=America/Dawson_Creek:20251124T083000
DTEND;TZID=America/Dawson_Creek:20251124T170000
DTSTAMP:20260420T194817
CREATED:20251007T185727Z
LAST-MODIFIED:20251007T185727Z
UID:11242-1763973000-1764003600@up-beatfirstaid.ca
SUMMARY:H2S Alive - Dawson Creek
DESCRIPTION:Energy Safety Canada- H2S Alive \nThe aim of this course is to provide all Petroleum Industry workers with the knowledge and skills necessary to recognize and respond to Hydrogen Sulphide (H2S) emergencies. \nPROGRAM CONTENT\nAreas of study will include the following: \n\nH2S properties; initial response strategy\nRespiratory Protective Equipment\nDetection of H2S\nRescue Techniques\nCase Studies\n\nPractical training will be conducted in the following subjects: \n\nSelf-Contained Breathing Apparatus (SCBA)\nSupplied Air Breathing Apparatus (on request)\nGas Detection\nRescue Techniques\n\nDURATION \nEight (8) hours.
URL:https://up-beatfirstaid.ca/event/h2s-alive-dawson-creek-207/
LOCATION:Up-Beat First Aid Dawson Creek NEW\, 11000 8th Street\, Dawson Creek\, British Columbia\, V1G 4K6\, Canada
CATEGORIES:H2S Alive
ORGANIZER;CN="Up-Beat First Aid & Safety Training":MAILTO:up-beat@live.ca
END:VEVENT
BEGIN:VEVENT
DTSTART;TZID=America/Dawson_Creek:20251125T091500
DTEND;TZID=America/Dawson_Creek:20251126T170000
DTSTAMP:20260420T194818
CREATED:20251007T185806Z
LAST-MODIFIED:20251007T185806Z
UID:11244-1764062100-1764176400@up-beatfirstaid.ca
SUMMARY:Emergency First Aid/Standard First Aid - Dawson Creek BC
DESCRIPTION:
URL:https://up-beatfirstaid.ca/event/emergency-first-aid-standard-first-aid-dawson-creek-bc-21/
LOCATION:Up-Beat First Aid Dawson Creek NEW\, 11000 8th Street\, Dawson Creek\, British Columbia\, V1G 4K6\, Canada
CATEGORIES:Standard First Aid
ORGANIZER;CN="Up-Beat First Aid & Safety Training":MAILTO:up-beat@live.ca
END:VEVENT
END:VCALENDAR