BEGIN:VCALENDAR
VERSION:2.0
PRODID:-//Up-Beat First Aid &amp; Safety Training Ltd. - ECPv6.15.20//NONSGML v1.0//EN
CALSCALE:GREGORIAN
METHOD:PUBLISH
X-ORIGINAL-URL:https://up-beatfirstaid.ca
X-WR-CALDESC:Events for Up-Beat First Aid &amp; Safety Training Ltd.
REFRESH-INTERVAL;VALUE=DURATION:PT1H
X-Robots-Tag:noindex
X-PUBLISHED-TTL:PT1H
BEGIN:VTIMEZONE
TZID:America/Dawson_Creek
BEGIN:STANDARD
TZOFFSETFROM:-0700
TZOFFSETTO:-0700
TZNAME:MST
DTSTART:20190101T000000
END:STANDARD
END:VTIMEZONE
BEGIN:VEVENT
DTSTART;TZID=America/Dawson_Creek:20200621T083000
DTEND;TZID=America/Dawson_Creek:20200621T170000
DTSTAMP:20260421T173402
CREATED:20200604T152154Z
LAST-MODIFIED:20200604T152154Z
UID:1767-1592728200-1592758800@up-beatfirstaid.ca
SUMMARY:Emergency First Aid & CPR C Chetwynd
DESCRIPTION:
URL:https://up-beatfirstaid.ca/event/emergency-first-aid-cpr-c-chetwynd/
LOCATION:Up-Beat First Aid Chetwynd\, 4717 – 51 St\, Chetwynd\, British Columbia\, V0C 1J0\, Canada
CATEGORIES:CPR C,Emergency First Aid (EFA)
ORGANIZER;CN="Up-Beat First Aid & Safety Training":MAILTO:up-beat@live.ca
END:VEVENT
BEGIN:VEVENT
DTSTART;TZID=America/Dawson_Creek:20200620T083000
DTEND;TZID=America/Dawson_Creek:20200620T170000
DTSTAMP:20260421T173402
CREATED:20200612T151243Z
LAST-MODIFIED:20200612T151304Z
UID:1785-1592641800-1592672400@up-beatfirstaid.ca
SUMMARY:H2S Alive Chetwynd
DESCRIPTION:
URL:https://up-beatfirstaid.ca/event/h2s-alive-chetwynd-6/
LOCATION:Up-Beat First Aid Chetwynd\, 4717 – 51 St\, Chetwynd\, British Columbia\, V0C 1J0\, Canada
CATEGORIES:H2S Alive
ORGANIZER;CN="Up-Beat First Aid & Safety Training":MAILTO:up-beat@live.ca
END:VEVENT
BEGIN:VEVENT
DTSTART;TZID=America/Dawson_Creek:20200615T083000
DTEND;TZID=America/Dawson_Creek:20200619T160000
DTSTAMP:20260421T173402
CREATED:20200604T032433Z
LAST-MODIFIED:20200604T152309Z
UID:1738-1592209800-1592582400@up-beatfirstaid.ca
SUMMARY:OFA Level 3 Chetwynd
DESCRIPTION:
URL:https://up-beatfirstaid.ca/event/ofa-level-3-chetwynd/
LOCATION:Up-Beat First Aid Chetwynd\, 4717 – 51 St\, Chetwynd\, British Columbia\, V0C 1J0\, Canada
CATEGORIES:OFA3
ORGANIZER;CN="Up-Beat First Aid & Safety Training":MAILTO:up-beat@live.ca
END:VEVENT
BEGIN:VEVENT
DTSTART;TZID=America/Dawson_Creek:20200614T083000
DTEND;TZID=America/Dawson_Creek:20200614T170000
DTSTAMP:20260421T173402
CREATED:20200604T034455Z
LAST-MODIFIED:20200604T034455Z
UID:1748-1592123400-1592154000@up-beatfirstaid.ca
SUMMARY:OFA Level 1 Chetwynd
DESCRIPTION:
URL:https://up-beatfirstaid.ca/event/ofa-level-1-chetwynd-3/
LOCATION:Up-Beat First Aid Chetwynd\, 4717 – 51 St\, Chetwynd\, British Columbia\, V0C 1J0\, Canada
CATEGORIES:OFA1
ORGANIZER;CN="Up-Beat First Aid & Safety Training":MAILTO:up-beat@live.ca
END:VEVENT
BEGIN:VEVENT
DTSTART;TZID=America/Dawson_Creek:20200611T083000
DTEND;TZID=America/Dawson_Creek:20200611T170000
DTSTAMP:20260421T173402
CREATED:20200604T034343Z
LAST-MODIFIED:20200609T230101Z
UID:1746-1591864200-1591894800@up-beatfirstaid.ca
SUMMARY:H2S Alive Chetwynd
DESCRIPTION:
URL:https://up-beatfirstaid.ca/event/h2s-alive-chetwynd-4/
LOCATION:Up-Beat First Aid Chetwynd\, 4717 – 51 St\, Chetwynd\, British Columbia\, V0C 1J0\, Canada
CATEGORIES:H2S Alive
ORGANIZER;CN="Up-Beat First Aid & Safety Training":MAILTO:up-beat@live.ca
END:VEVENT
BEGIN:VEVENT
DTSTART;TZID=America/Dawson_Creek:20200609T083000
DTEND;TZID=America/Dawson_Creek:20200609T170000
DTSTAMP:20260421T173402
CREATED:20200604T034135Z
LAST-MODIFIED:20200604T034135Z
UID:1744-1591691400-1591722000@up-beatfirstaid.ca
SUMMARY:Transportation Endorsement Chetwynd
DESCRIPTION:
URL:https://up-beatfirstaid.ca/event/transportation-endorsement-chetwynd/
LOCATION:Up-Beat First Aid Chetwynd\, 4717 – 51 St\, Chetwynd\, British Columbia\, V0C 1J0\, Canada
CATEGORIES:Transportation Endorsement (TE)
ORGANIZER;CN="Up-Beat First Aid & Safety Training":MAILTO:up-beat@live.ca
END:VEVENT
BEGIN:VEVENT
DTSTART;TZID=America/Dawson_Creek:20200608T080000
DTEND;TZID=America/Dawson_Creek:20200608T170000
DTSTAMP:20260421T173402
CREATED:20200604T033649Z
LAST-MODIFIED:20200604T033918Z
UID:1742-1591603200-1591635600@up-beatfirstaid.ca
SUMMARY:OFA Level 1 Chetwynd
DESCRIPTION:
URL:https://up-beatfirstaid.ca/event/ofa-level-1-chetwynd-2/
LOCATION:Up-Beat First Aid Chetwynd\, 4717 – 51 St\, Chetwynd\, British Columbia\, V0C 1J0\, Canada
CATEGORIES:OFA1
ORGANIZER;CN="Up-Beat First Aid & Safety Training":MAILTO:up-beat@live.ca
END:VEVENT
BEGIN:VEVENT
DTSTART;TZID=America/Dawson_Creek:20200314T090000
DTEND;TZID=America/Dawson_Creek:20200314T170000
DTSTAMP:20260421T173402
CREATED:20200206T021926Z
LAST-MODIFIED:20200206T021926Z
UID:1028-1584176400-1584205200@up-beatfirstaid.ca
SUMMARY:FoodSafe (Chetwynd)
DESCRIPTION:
URL:https://up-beatfirstaid.ca/event/foodsafe-chetwynd/
LOCATION:Up-Beat First Aid Chetwynd\, 4717 – 51 St\, Chetwynd\, British Columbia\, V0C 1J0\, Canada
CATEGORIES:FoodSafe Level 1
ORGANIZER;CN="Up-Beat First Aid & Safety Training":MAILTO:up-beat@live.ca
END:VEVENT
BEGIN:VEVENT
DTSTART;TZID=America/Dawson_Creek:20200314T083000
DTEND;TZID=America/Dawson_Creek:20200314T170000
DTSTAMP:20260421T173402
CREATED:20200206T020311Z
LAST-MODIFIED:20200206T021441Z
UID:1016-1584174600-1584205200@up-beatfirstaid.ca
SUMMARY:H2S Alive (Chetwynd)
DESCRIPTION:
URL:https://up-beatfirstaid.ca/event/h2s-chetwynd/
LOCATION:Up-Beat First Aid Chetwynd\, 4717 – 51 St\, Chetwynd\, British Columbia\, V0C 1J0\, Canada
CATEGORIES:H2S Alive
ORGANIZER;CN="Up-Beat First Aid & Safety Training":MAILTO:up-beat@live.ca
END:VEVENT
BEGIN:VEVENT
DTSTART;TZID=America/Dawson_Creek:20200313T080000
DTEND;TZID=America/Dawson_Creek:20200313T170000
DTSTAMP:20260421T173402
CREATED:20200106T181847Z
LAST-MODIFIED:20200131T211433Z
UID:358-1584086400-1584118800@up-beatfirstaid.ca
SUMMARY:OFA Level 1 (Chetwynd)
DESCRIPTION:
URL:https://up-beatfirstaid.ca/event/ofa-level-1-chetwynd-2020-03-13/
LOCATION:Up-Beat First Aid Chetwynd\, 4717 – 51 St\, Chetwynd\, British Columbia\, V0C 1J0\, Canada
CATEGORIES:OFA1
ORGANIZER;CN="Up-Beat First Aid & Safety Training":MAILTO:up-beat@live.ca
END:VEVENT
BEGIN:VEVENT
DTSTART;TZID=America/Dawson_Creek:20200312T083000
DTEND;TZID=America/Dawson_Creek:20200312T170000
DTSTAMP:20260421T173402
CREATED:20200206T020009Z
LAST-MODIFIED:20200206T020046Z
UID:1014-1584001800-1584032400@up-beatfirstaid.ca
SUMMARY:Confined Space (Chetwynd)
DESCRIPTION:
URL:https://up-beatfirstaid.ca/event/confined-space-chetwynd/
LOCATION:Up-Beat First Aid Chetwynd\, 4717 – 51 St\, Chetwynd\, British Columbia\, V0C 1J0\, Canada
CATEGORIES:Confined Space
ORGANIZER;CN="Up-Beat First Aid & Safety Training":MAILTO:up-beat@live.ca
END:VEVENT
BEGIN:VEVENT
DTSTART;TZID=America/Dawson_Creek:20200229T083000
DTEND;TZID=America/Dawson_Creek:20200229T170000
DTSTAMP:20260421T173402
CREATED:20200113T174658Z
LAST-MODIFIED:20200206T012658Z
UID:491-1582965000-1582995600@up-beatfirstaid.ca
SUMMARY:H2S Alive (Chetwynd)
DESCRIPTION:UFA&ST H2S Alive Course Description
URL:https://up-beatfirstaid.ca/event/h2s-alive-chetwynd-2-2020-02-27/
LOCATION:Up-Beat First Aid Chetwynd\, 4717 – 51 St\, Chetwynd\, British Columbia\, V0C 1J0\, Canada
CATEGORIES:H2S Alive
ORGANIZER;CN="Up-Beat First Aid & Safety Training":MAILTO:up-beat@live.ca
END:VEVENT
BEGIN:VEVENT
DTSTART;TZID=America/Dawson_Creek:20200228T080000
DTEND;TZID=America/Dawson_Creek:20200228T170000
DTSTAMP:20260421T173402
CREATED:20200106T181847Z
LAST-MODIFIED:20200131T212354Z
UID:357-1582876800-1582909200@up-beatfirstaid.ca
SUMMARY:OFA Level 1 (Chetwynd)
DESCRIPTION:UFA&ST OFA1 Course Description
URL:https://up-beatfirstaid.ca/event/ofa-level-1-chetwynd-2020-02-28/
LOCATION:Up-Beat First Aid Chetwynd\, 4717 – 51 St\, Chetwynd\, British Columbia\, V0C 1J0\, Canada
CATEGORIES:OFA1
ORGANIZER;CN="Up-Beat First Aid & Safety Training":MAILTO:up-beat@live.ca
END:VEVENT
BEGIN:VEVENT
DTSTART;TZID=America/Dawson_Creek:20200227T083000
DTEND;TZID=America/Dawson_Creek:20200227T170000
DTSTAMP:20260421T173402
CREATED:20200206T013406Z
LAST-MODIFIED:20200206T013406Z
UID:1008-1582792200-1582822800@up-beatfirstaid.ca
SUMMARY:Fall Protection (Chetwynd)
DESCRIPTION:
URL:https://up-beatfirstaid.ca/event/fall-protection-chetwynd/
LOCATION:Up-Beat First Aid Chetwynd\, 4717 – 51 St\, Chetwynd\, British Columbia\, V0C 1J0\, Canada
CATEGORIES:Fall Protection
ORGANIZER;CN="Up-Beat First Aid & Safety Training":MAILTO:up-beat@live.ca
END:VEVENT
BEGIN:VEVENT
DTSTART;TZID=America/Dawson_Creek:20200215T083000
DTEND;TZID=America/Dawson_Creek:20200215T170000
DTSTAMP:20260421T173402
CREATED:20200113T174658Z
LAST-MODIFIED:20200205T212057Z
UID:489-1581755400-1581786000@up-beatfirstaid.ca
SUMMARY:H2S Alive (Chetwynd)
DESCRIPTION:UFA&ST H2S Alive Course Description
URL:https://up-beatfirstaid.ca/event/h2s-alive-chetwynd-2/
LOCATION:Up-Beat First Aid Chetwynd\, 4717 – 51 St\, Chetwynd\, British Columbia\, V0C 1J0\, Canada
CATEGORIES:H2S Alive
ORGANIZER;CN="Up-Beat First Aid & Safety Training":MAILTO:up-beat@live.ca
END:VEVENT
BEGIN:VEVENT
DTSTART;TZID=America/Dawson_Creek:20200214T080000
DTEND;TZID=America/Dawson_Creek:20200214T170000
DTSTAMP:20260421T173402
CREATED:20200106T181847Z
LAST-MODIFIED:20200131T213230Z
UID:356-1581667200-1581699600@up-beatfirstaid.ca
SUMMARY:OFA Level 1 (Chetwynd)
DESCRIPTION:UFA&ST OFA1 Course Description
URL:https://up-beatfirstaid.ca/event/ofa-level-1-chetwynd-2020-02-14/
LOCATION:Up-Beat First Aid Chetwynd\, 4717 – 51 St\, Chetwynd\, British Columbia\, V0C 1J0\, Canada
CATEGORIES:OFA1
ORGANIZER;CN="Up-Beat First Aid & Safety Training":MAILTO:up-beat@live.ca
END:VEVENT
BEGIN:VEVENT
DTSTART;TZID=America/Dawson_Creek:20200207T080000
DTEND;TZID=America/Dawson_Creek:20200207T170000
DTSTAMP:20260421T173402
CREATED:20200206T013833Z
LAST-MODIFIED:20200206T021536Z
UID:1010-1581062400-1581094800@up-beatfirstaid.ca
SUMMARY:OFA Level 1 Chetwynd
DESCRIPTION:
URL:https://up-beatfirstaid.ca/event/ofa-1-chetwynd-2/
LOCATION:Up-Beat First Aid Chetwynd\, 4717 – 51 St\, Chetwynd\, British Columbia\, V0C 1J0\, Canada
CATEGORIES:OFA1
ORGANIZER;CN="Up-Beat First Aid & Safety Training":MAILTO:up-beat@live.ca
END:VEVENT
BEGIN:VEVENT
DTSTART;TZID=America/Dawson_Creek:20200201T080000
DTEND;TZID=America/Dawson_Creek:20200201T170000
DTSTAMP:20260421T173402
CREATED:20200205T040511Z
LAST-MODIFIED:20200205T040511Z
UID:976-1580544000-1580576400@up-beatfirstaid.ca
SUMMARY:H2S Alive (Chetwynd)
DESCRIPTION:
URL:https://up-beatfirstaid.ca/event/h2s-alive-chetwynd-3/
LOCATION:Up-Beat First Aid Chetwynd\, 4717 – 51 St\, Chetwynd\, British Columbia\, V0C 1J0\, Canada
CATEGORIES:H2S Alive
ORGANIZER;CN="Up-Beat First Aid & Safety Training":MAILTO:up-beat@live.ca
END:VEVENT
BEGIN:VEVENT
DTSTART;TZID=America/Dawson_Creek:20200131T080000
DTEND;TZID=America/Dawson_Creek:20200131T170000
DTSTAMP:20260421T173402
CREATED:20200106T181847Z
LAST-MODIFIED:20200131T214147Z
UID:280-1580457600-1580490000@up-beatfirstaid.ca
SUMMARY:OFA Level 1 (Chetwynd)
DESCRIPTION:UFA&ST OFA1 Course Description
URL:https://up-beatfirstaid.ca/event/ofa-level-1-chetwynd/
LOCATION:Up-Beat First Aid Chetwynd\, 4717 – 51 St\, Chetwynd\, British Columbia\, V0C 1J0\, Canada
CATEGORIES:OFA1
ORGANIZER;CN="Up-Beat First Aid & Safety Training":MAILTO:up-beat@live.ca
END:VEVENT
BEGIN:VEVENT
DTSTART;TZID=America/Dawson_Creek:20200126T080000
DTEND;TZID=America/Dawson_Creek:20200126T170000
DTSTAMP:20260421T173402
CREATED:20200113T180911Z
LAST-MODIFIED:20200113T180911Z
UID:526-1580025600-1580058000@up-beatfirstaid.ca
SUMMARY:Babysitter Course (Chetwynd)
DESCRIPTION:
URL:https://up-beatfirstaid.ca/event/babysitter-course-chetwynd/
LOCATION:Up-Beat First Aid Chetwynd\, 4717 – 51 St\, Chetwynd\, British Columbia\, V0C 1J0\, Canada
CATEGORIES:Babysitter Course
ORGANIZER;CN="Up-Beat First Aid & Safety Training":MAILTO:up-beat@live.ca
END:VEVENT
BEGIN:VEVENT
DTSTART;TZID=America/Dawson_Creek:20200125T080000
DTEND;TZID=America/Dawson_Creek:20200125T170000
DTSTAMP:20260421T173402
CREATED:20200113T180814Z
LAST-MODIFIED:20200113T181722Z
UID:524-1579939200-1579971600@up-beatfirstaid.ca
SUMMARY:Foodsafe Level 1 (Chetwynd)
DESCRIPTION:
URL:https://up-beatfirstaid.ca/event/foodsafe-level-1-chetwynd/
LOCATION:Up-Beat First Aid Chetwynd\, 4717 – 51 St\, Chetwynd\, British Columbia\, V0C 1J0\, Canada
CATEGORIES:FoodSafe Level 1
ORGANIZER;CN="Up-Beat First Aid & Safety Training":MAILTO:up-beat@live.ca
END:VEVENT
BEGIN:VEVENT
DTSTART;TZID=America/Dawson_Creek:20200122T080000
DTEND;TZID=America/Dawson_Creek:20200122T170000
DTSTAMP:20260421T173402
CREATED:20200113T173951Z
LAST-MODIFIED:20200113T173951Z
UID:486-1579680000-1579712400@up-beatfirstaid.ca
SUMMARY:H2S Alive (Chetwynd)
DESCRIPTION:
URL:https://up-beatfirstaid.ca/event/h2s-alive-chetwynd/
LOCATION:Up-Beat First Aid Chetwynd\, 4717 – 51 St\, Chetwynd\, British Columbia\, V0C 1J0\, Canada
CATEGORIES:H2S Alive
ORGANIZER;CN="Up-Beat First Aid & Safety Training":MAILTO:up-beat@live.ca
END:VEVENT
BEGIN:VEVENT
DTSTART;TZID=America/Dawson_Creek:20200117T080000
DTEND;TZID=America/Dawson_Creek:20200117T170000
DTSTAMP:20260421T173402
CREATED:20200113T180520Z
LAST-MODIFIED:20200113T180520Z
UID:517-1579248000-1579280400@up-beatfirstaid.ca
SUMMARY:Emergency First Aid (Chetwynd)
DESCRIPTION:Course Description: FactSheet_TP_EFA_2017_EN
URL:https://up-beatfirstaid.ca/event/emergency-first-aid-chetwynd/
LOCATION:Up-Beat First Aid Chetwynd\, 4717 – 51 St\, Chetwynd\, British Columbia\, V0C 1J0\, Canada
CATEGORIES:Emergency First Aid (EFA)
ORGANIZER;CN="Up-Beat First Aid & Safety Training":MAILTO:up-beat@live.ca
END:VEVENT
END:VCALENDAR